BEGIN:VCALENDAR
VERSION:2.0
PRODID:-//KolkataTheatre.com - ECPv6.15.12.2//NONSGML v1.0//EN
CALSCALE:GREGORIAN
METHOD:PUBLISH
X-WR-CALNAME:KolkataTheatre.com
X-ORIGINAL-URL:https://kolkatatheatre.com
X-WR-CALDESC:Events for KolkataTheatre.com
REFRESH-INTERVAL;VALUE=DURATION:PT1H
X-Robots-Tag:noindex
X-PUBLISHED-TTL:PT1H
BEGIN:VTIMEZONE
TZID:Asia/Kolkata
BEGIN:STANDARD
TZOFFSETFROM:+0530
TZOFFSETTO:+0530
TZNAME:IST
DTSTART:20240101T000000
END:STANDARD
END:VTIMEZONE
BEGIN:VEVENT
DTSTART;TZID=Asia/Kolkata:20250609T183000
DTEND;TZID=Asia/Kolkata:20250609T203000
DTSTAMP:20260425T201049
CREATED:20250607T143321Z
LAST-MODIFIED:20250607T143321Z
UID:13617-1749493800-1749501000@kolkatatheatre.com
SUMMARY:Kalyani Kalamandalam's Radha-Ramkrishna\, at Academy
DESCRIPTION:An original play written by Rakesh Ghosh and directed by Santanu Das\, on Girish Ghosh’s historic production of Chaitanya Lila in which Nati Binodini stunned audiences with her male impersonation\, while Ramkrishna nurtured Radha’s feminine bhava in himself and ultimately blessed Binodini after watching her performance.
URL:https://kolkatatheatre.com/event/kalyani-kalamandalams-radha-ramkrishna-at-academy/
LOCATION:Academy of Fine Arts\, 2\, Cathedral Rd\, Maidan\, Kolkata\, West Bengal 700020\, Kolkata\, West Bengal\, 700071\, India
CATEGORIES:Theatre
END:VEVENT
END:VCALENDAR