BEGIN:VCALENDAR
VERSION:2.0
PRODID:-//KolkataTheatre.com - ECPv6.15.12.2//NONSGML v1.0//EN
CALSCALE:GREGORIAN
METHOD:PUBLISH
X-WR-CALNAME:KolkataTheatre.com
X-ORIGINAL-URL:https://kolkatatheatre.com
X-WR-CALDESC:Events for KolkataTheatre.com
REFRESH-INTERVAL;VALUE=DURATION:PT1H
X-Robots-Tag:noindex
X-PUBLISHED-TTL:PT1H
BEGIN:VTIMEZONE
TZID:Asia/Kolkata
BEGIN:STANDARD
TZOFFSETFROM:+0530
TZOFFSETTO:+0530
TZNAME:IST
DTSTART:20240101T000000
END:STANDARD
END:VTIMEZONE
BEGIN:VEVENT
DTSTART;TZID=Asia/Kolkata:20250625T180000
DTEND;TZID=Asia/Kolkata:20250625T200000
DTSTAMP:20260425T201032
CREATED:20250623T093040Z
LAST-MODIFIED:20250623T093040Z
UID:13669-1750874400-1750881600@kolkatatheatre.com
SUMMARY:Bibhaban's Searching Grotowski\, at Tripti Mitra
DESCRIPTION:A solo theatrical tribute to Jerzy Grotowski\, directed by Supriya Samajdar. Preceded by an introductory lecture.
URL:https://kolkatatheatre.com/event/bibhabans-searching-grotowski-at-tripti-mitra/
LOCATION:Tripti Mitra Natyagriha\, Natya Akademi\, Nandan complex\, Kolkata\, 700020
CATEGORIES:Theatre
END:VEVENT
END:VCALENDAR