BEGIN:VCALENDAR
VERSION:2.0
PRODID:-//KolkataTheatre.com - ECPv6.15.12.2//NONSGML v1.0//EN
CALSCALE:GREGORIAN
METHOD:PUBLISH
X-WR-CALNAME:KolkataTheatre.com
X-ORIGINAL-URL:https://kolkatatheatre.com
X-WR-CALDESC:Events for KolkataTheatre.com
REFRESH-INTERVAL;VALUE=DURATION:PT1H
X-Robots-Tag:noindex
X-PUBLISHED-TTL:PT1H
BEGIN:VTIMEZONE
TZID:Asia/Kolkata
BEGIN:STANDARD
TZOFFSETFROM:+0530
TZOFFSETTO:+0530
TZNAME:IST
DTSTART:20240101T000000
END:STANDARD
END:VTIMEZONE
BEGIN:VEVENT
DTSTART;TZID=Asia/Kolkata:20250626T183000
DTEND;TZID=Asia/Kolkata:20250626T203000
DTSTAMP:20260425T201053
CREATED:20250622T115727Z
LAST-MODIFIED:20250622T115727Z
UID:13664-1750962600-1750969800@kolkatatheatre.com
SUMMARY:People's Little Theatre's Panjare Danrer Shabda\, at Academy
DESCRIPTION:A new play by Hara Bhattacharya\, directed by Kamalesh Chakrabarti\, about the recurrent nightmares of a man who fought against corruption in all walks of life\, especially in his professional capacity in the sports world.
URL:https://kolkatatheatre.com/event/peoples-little-theatres-panjare-danrer-shabda-at-academy/
LOCATION:Academy of Fine Arts\, 2\, Cathedral Rd\, Maidan\, Kolkata\, West Bengal 700020\, Kolkata\, West Bengal\, 700071\, India
CATEGORIES:Theatre
END:VEVENT
END:VCALENDAR