BEGIN:VCALENDAR
VERSION:2.0
PRODID:-//KolkataTheatre.com - ECPv6.15.12.2//NONSGML v1.0//EN
CALSCALE:GREGORIAN
METHOD:PUBLISH
X-WR-CALNAME:KolkataTheatre.com
X-ORIGINAL-URL:https://kolkatatheatre.com
X-WR-CALDESC:Events for KolkataTheatre.com
REFRESH-INTERVAL;VALUE=DURATION:PT1H
X-Robots-Tag:noindex
X-PUBLISHED-TTL:PT1H
BEGIN:VTIMEZONE
TZID:Asia/Kolkata
BEGIN:STANDARD
TZOFFSETFROM:+0530
TZOFFSETTO:+0530
TZNAME:IST
DTSTART:20240101T000000
END:STANDARD
END:VTIMEZONE
BEGIN:VEVENT
DTSTART;TZID=Asia/Kolkata:20250628T183000
DTEND;TZID=Asia/Kolkata:20250628T204000
DTSTAMP:20260425T200938
CREATED:20250626T180708Z
LAST-MODIFIED:20250626T180708Z
UID:13674-1751135400-1751143200@kolkatatheatre.com
SUMMARY:Nandipat’s Chandrabati Katha\, at Academy
DESCRIPTION:Ujjwal Chattopadhyay’s play about Chandrabati\, the 16th-century poet who composed the first Bangla Ramayan from the perspective of Sita\, as well as parts of the Maimansingha Gitika. Directed by Prokash Bhattacharya.
URL:https://kolkatatheatre.com/event/nandipats-chandrabati-katha-at-academy-3/
LOCATION:Academy of Fine Arts\, 2\, Cathedral Rd\, Maidan\, Kolkata\, West Bengal 700020\, Kolkata\, West Bengal\, 700071\, India
CATEGORIES:Theatre
END:VEVENT
BEGIN:VEVENT
DTSTART;TZID=Asia/Kolkata:20250628T190000
DTEND;TZID=Asia/Kolkata:20250628T203000
DTSTAMP:20260425T200938
CREATED:20250625T191631Z
LAST-MODIFIED:20250625T191631Z
UID:13671-1751137200-1751142600@kolkatatheatre.com
SUMMARY:Sandbox Collective (Bengaluru) and Santoshpur Anuchintan's In Search of Goddess Sitala\, at Tapan
DESCRIPTION:A multimedia theatre performance that reflects on the lives of contemporary female impersonators in Sitala Jatra or Sitala Mangal\, a rich and diverse but now endangered performatory ritual mostly found in rural West Bengal. Sitala (from sital\, meaning cool; literally\, the cool one)\, a non-Aryan deity\, is the much-dreaded goddess or mother of diseases in spring\, desperate to attain worship from the people. Written by Gaurav Das and Srijukta Dijo Nityananda\, and directed by Gaurav Das.
URL:https://kolkatatheatre.com/event/sandbox-collective-bengaluru-and-santoshpur-anuchintans-in-search-of-goddess-sitala-at-tapan/
LOCATION:Tapan Theatre\, Kalighat
CATEGORIES:Theatre
ATTACH;FMTTYPE=image/jpeg:https://kolkatatheatre.com/wp-content/uploads/2025/06/21-scaled-e1750878829767.jpg
END:VEVENT
END:VCALENDAR