BEGIN:VCALENDAR
VERSION:2.0
PRODID:-//KolkataTheatre.com - ECPv6.15.12.2//NONSGML v1.0//EN
CALSCALE:GREGORIAN
METHOD:PUBLISH
X-WR-CALNAME:KolkataTheatre.com
X-ORIGINAL-URL:https://kolkatatheatre.com
X-WR-CALDESC:Events for KolkataTheatre.com
REFRESH-INTERVAL;VALUE=DURATION:PT1H
X-Robots-Tag:noindex
X-PUBLISHED-TTL:PT1H
BEGIN:VTIMEZONE
TZID:Asia/Kolkata
BEGIN:STANDARD
TZOFFSETFROM:+0530
TZOFFSETTO:+0530
TZNAME:IST
DTSTART:20240101T000000
END:STANDARD
END:VTIMEZONE
BEGIN:VEVENT
DTSTART;TZID=Asia/Kolkata:20250629T183000
DTEND;TZID=Asia/Kolkata:20250629T203000
DTSTAMP:20260425T185112
CREATED:20250626T181307Z
LAST-MODIFIED:20250626T181307Z
UID:13676-1751221800-1751229000@kolkatatheatre.com
SUMMARY:Sudrak’s Shikh ^kha Jatir Merudanda\, at Academy
DESCRIPTION:Sudrak’s new\, so-called “uneducated” satire on education written and directed by Debasis Majumdar. Read my review.
URL:https://kolkatatheatre.com/event/sudraks-shikh-kha-jatir-merudanda-at-academy-9/
LOCATION:Academy of Fine Arts\, 2\, Cathedral Rd\, Maidan\, Kolkata\, West Bengal 700020\, Kolkata\, West Bengal\, 700071\, India
CATEGORIES:Theatre
END:VEVENT
BEGIN:VEVENT
DTSTART;TZID=Asia/Kolkata:20250629T183000
DTEND;TZID=Asia/Kolkata:20250629T203000
DTSTAMP:20260425T185112
CREATED:20250626T183603Z
LAST-MODIFIED:20250626T183603Z
UID:13678-1751221800-1751229000@kolkatatheatre.com
SUMMARY:Ek Mulaqat (Mumbai)\, at Birla Sabhagar
DESCRIPTION:Revival of the old production. To quote from my review in 2015: “written by Summana Ahmed and Saif Hyder Hasan\, and directed by the latter. It presented the relationship between Amrita Pritam and Sahir Ludhianvi\, based on her autobiography. Perhaps because of the depth of the source text\, and no doubt the poetic ore of compositions by two authors iconic in their respective fields\, liberally sprinkled throughout the script\, Ek Mulaqat resonated with the acoustic beauty of two languages\, Punjabi (Pritam) and Urdu (Ludhianvi).” Shekhar Suman returns\, but a new actress replaces Deepti Naval. \nHighly recommended: ★★★★★
URL:https://kolkatatheatre.com/event/ek-mulaqat-mumbai-at-birla-sabhagar/
LOCATION:G D Birla Sabhagar\, 29 Ashutosh Chowdhury Avenue\, Kolkata\, 700019
CATEGORIES:Theatre
END:VEVENT
END:VCALENDAR