BEGIN:VCALENDAR
VERSION:2.0
PRODID:-//KolkataTheatre.com - ECPv6.15.12.2//NONSGML v1.0//EN
CALSCALE:GREGORIAN
METHOD:PUBLISH
X-WR-CALNAME:KolkataTheatre.com
X-ORIGINAL-URL:https://kolkatatheatre.com
X-WR-CALDESC:Events for KolkataTheatre.com
REFRESH-INTERVAL;VALUE=DURATION:PT1H
X-Robots-Tag:noindex
X-PUBLISHED-TTL:PT1H
BEGIN:VTIMEZONE
TZID:Asia/Kolkata
BEGIN:STANDARD
TZOFFSETFROM:+0530
TZOFFSETTO:+0530
TZNAME:IST
DTSTART:20240101T000000
END:STANDARD
END:VTIMEZONE
BEGIN:VEVENT
DTSTART;TZID=Asia/Kolkata:20250712T160000
DTEND;TZID=Asia/Kolkata:20250712T193000
DTSTAMP:20260424T233506
CREATED:20250710T150636Z
LAST-MODIFIED:20250710T161451Z
UID:13703-1752336000-1752348600@kolkatatheatre.com
SUMMARY:The Creative Arts’ Home in a Suitcase\, at TCA
DESCRIPTION:Dedicated to all people who have found themselves between cities\, between choices\, between who they were and who they’re becoming\, still searching for a place to belong\, who have folded their lives into cardboard boxes and goodbyes. The devised solo piece written by Ramanjit Kaur and Ruhani Singh\, directed by Ramanjit\, traces the journey of a 24-year-old woman whose footsteps echo through Kolkata\, Allentown\, New York\, Dublin and Mumbai. who gathers memories like loose threads\, questions of identity\, and ever-elusive idea of home into her suitcase\, carrying roots in mid-air. Two shows\, at 4 pm and 6:30 pm.
URL:https://kolkatatheatre.com/event/the-creative-arts-home-in-a-suitcase-at-tca-2/
LOCATION:The Creative Arts\, 31/2A Sadananda Road\, Kolkata\, 700026\, India
CATEGORIES:Theatre
END:VEVENT
BEGIN:VEVENT
DTSTART;TZID=Asia/Kolkata:20250712T183000
DTEND;TZID=Asia/Kolkata:20250712T203000
DTSTAMP:20260424T233506
CREATED:20250710T150915Z
LAST-MODIFIED:20250710T150915Z
UID:13705-1752345000-1752352200@kolkatatheatre.com
SUMMARY:Rangroop’s Jadi Ar Ekbar\, at Madhusudan
DESCRIPTION:Marking the birth centenary of Badal Sircar\, the premiere of Rangroop’s revival of his perennial early comedy about wish fulfilment. Directed by Sima Mukhopadhyay.
URL:https://kolkatatheatre.com/event/rangroops-jadi-ar-ekbar-at-madhusudan/
LOCATION:Madhusudan Mancha\, Gariahat Rd S\, Jodhpur Park\,\, Kolkata\, West Bengal\, 700031\, India
CATEGORIES:Theatre
END:VEVENT
END:VCALENDAR