BEGIN:VCALENDAR
VERSION:2.0
PRODID:-//KolkataTheatre.com - ECPv6.15.12.2//NONSGML v1.0//EN
CALSCALE:GREGORIAN
METHOD:PUBLISH
X-WR-CALNAME:KolkataTheatre.com
X-ORIGINAL-URL:https://kolkatatheatre.com
X-WR-CALDESC:Events for KolkataTheatre.com
REFRESH-INTERVAL;VALUE=DURATION:PT1H
X-Robots-Tag:noindex
X-PUBLISHED-TTL:PT1H
BEGIN:VTIMEZONE
TZID:Asia/Kolkata
BEGIN:STANDARD
TZOFFSETFROM:+0530
TZOFFSETTO:+0530
TZNAME:IST
DTSTART:20240101T000000
END:STANDARD
END:VTIMEZONE
BEGIN:VEVENT
DTSTART;TZID=Asia/Kolkata:20250723T180000
DTEND;TZID=Asia/Kolkata:20250723T210000
DTSTAMP:20260422T032235
CREATED:20250720T091736Z
LAST-MODIFIED:20250720T091736Z
UID:13730-1753293600-1753304400@kolkatatheatre.com
SUMMARY:Chetla Krishti Sansad’s Amar Gan\, at Madhusudan
DESCRIPTION:A blind and wheelchair-bound youth\, highly intelligent\, wants to know about light from his physicist father. Written and directed by Suman Sengupta. \nRecommended: ★★★★. Read my review.
URL:https://kolkatatheatre.com/event/chetla-krishti-sansads-amar-gan-at-madhusudan/
LOCATION:Madhusudan Mancha\, Gariahat Rd S\, Jodhpur Park\,\, Kolkata\, West Bengal\, 700031\, India
CATEGORIES:Theatre
END:VEVENT
END:VCALENDAR