BEGIN:VCALENDAR
VERSION:2.0
PRODID:-//KolkataTheatre.com - ECPv6.15.12.2//NONSGML v1.0//EN
CALSCALE:GREGORIAN
METHOD:PUBLISH
X-ORIGINAL-URL:https://kolkatatheatre.com
X-WR-CALDESC:Events for KolkataTheatre.com
REFRESH-INTERVAL;VALUE=DURATION:PT1H
X-Robots-Tag:noindex
X-PUBLISHED-TTL:PT1H
BEGIN:VTIMEZONE
TZID:Asia/Kolkata
BEGIN:STANDARD
TZOFFSETFROM:+0530
TZOFFSETTO:+0530
TZNAME:IST
DTSTART:20240101T000000
END:STANDARD
END:VTIMEZONE
BEGIN:VEVENT
DTSTART;TZID=Asia/Kolkata:20250812T183000
DTEND;TZID=Asia/Kolkata:20250812T203000
DTSTAMP:20260421T143101
CREATED:20250810T133748Z
LAST-MODIFIED:20250810T134918Z
UID:13767-1755023400-1755030600@kolkatatheatre.com
SUMMARY:Theatre Platform’s Gharer Madhye Bari\, at Tapan
DESCRIPTION:Dramatist-director Debasish’s new play about an old building facing demolition\, whose residents face eviction\, and whose inhabitants include non-humans too. \nHighly recommended: ★★★★★. Read my review.
URL:https://kolkatatheatre.com/event/theatre-platforms-gharer-madhye-bari-at-tapan-4/
LOCATION:Tapan Theatre\, Kalighat
CATEGORIES:Theatre
END:VEVENT
END:VCALENDAR