BEGIN:VCALENDAR
VERSION:2.0
PRODID:-//KolkataTheatre.com - ECPv6.15.12.2//NONSGML v1.0//EN
CALSCALE:GREGORIAN
METHOD:PUBLISH
X-WR-CALNAME:KolkataTheatre.com
X-ORIGINAL-URL:https://kolkatatheatre.com
X-WR-CALDESC:Events for KolkataTheatre.com
REFRESH-INTERVAL;VALUE=DURATION:PT1H
X-Robots-Tag:noindex
X-PUBLISHED-TTL:PT1H
BEGIN:VTIMEZONE
TZID:Asia/Kolkata
BEGIN:STANDARD
TZOFFSETFROM:+0530
TZOFFSETTO:+0530
TZNAME:IST
DTSTART:20240101T000000
END:STANDARD
END:VTIMEZONE
BEGIN:VEVENT
DTSTART;TZID=Asia/Kolkata:20251009T183000
DTEND;TZID=Asia/Kolkata:20251009T203000
DTSTAMP:20260421T161946
CREATED:20251004T124110Z
LAST-MODIFIED:20251004T124110Z
UID:13890-1760034600-1760041800@kolkatatheatre.com
SUMMARY:Kalyani Natyacharcha Kendra’s Bhorer Baranda\, at Madhusudan
DESCRIPTION:A Good Samaritan doctor comes to the aid of a single woman. Written by Pradipta Bhattacharya and directed by Kishore Sengupta. \nRecommended: ★★★★. Read my review.
URL:https://kolkatatheatre.com/event/kalyani-natyacharcha-kendras-bhorer-baranda-at-madhusudan-2/
LOCATION:Madhusudan Mancha\, Gariahat Rd S\, Jodhpur Park\,\, Kolkata\, West Bengal\, 700031\, India
CATEGORIES:Theatre
END:VEVENT
BEGIN:VEVENT
DTSTART;TZID=Asia/Kolkata:20251009T183000
DTEND;TZID=Asia/Kolkata:20251009T203000
DTSTAMP:20260421T161946
CREATED:20251004T124450Z
LAST-MODIFIED:20251004T124450Z
UID:13892-1760034600-1760041800@kolkatatheatre.com
SUMMARY:Sudrak’s Shikh ^kha Jatir Merudanda\, at Academy
DESCRIPTION:Sudrak’s so-called “uneducated” satire on education written and directed by Debasis Majumdar. Read my review.
URL:https://kolkatatheatre.com/event/sudraks-shikh-kha-jatir-merudanda-at-academy-10/
LOCATION:Academy of Fine Arts\, 2\, Cathedral Rd\, Maidan\, Kolkata\, West Bengal 700020\, Kolkata\, West Bengal\, 700071\, India
CATEGORIES:Theatre
END:VEVENT
END:VCALENDAR