BEGIN:VCALENDAR
VERSION:2.0
PRODID:-//KolkataTheatre.com - ECPv6.15.12.2//NONSGML v1.0//EN
CALSCALE:GREGORIAN
METHOD:PUBLISH
X-WR-CALNAME:KolkataTheatre.com
X-ORIGINAL-URL:https://kolkatatheatre.com
X-WR-CALDESC:Events for KolkataTheatre.com
REFRESH-INTERVAL;VALUE=DURATION:PT1H
X-Robots-Tag:noindex
X-PUBLISHED-TTL:PT1H
BEGIN:VTIMEZONE
TZID:Asia/Kolkata
BEGIN:STANDARD
TZOFFSETFROM:+0530
TZOFFSETTO:+0530
TZNAME:IST
DTSTART:20240101T000000
END:STANDARD
END:VTIMEZONE
BEGIN:VEVENT
DTSTART;TZID=Asia/Kolkata:20251011T180000
DTEND;TZID=Asia/Kolkata:20251011T210000
DTSTAMP:20260421T193420
CREATED:20251009T093258Z
LAST-MODIFIED:20251009T093258Z
UID:13898-1760205600-1760216400@kolkatatheatre.com
SUMMARY:Pancham Vaidic’s Rajnaitik Hatya?\, at Academy
DESCRIPTION:Revived production based on Jean-Paul Sartre’s Crime Passionnel about a Communist plot of political assassination\, adapted into Bengali and directed by Arpita Ghosh.
URL:https://kolkatatheatre.com/event/pancham-vaidics-rajnaitik-hatya-at-academy-2/
LOCATION:Academy of Fine Arts\, 2\, Cathedral Rd\, Maidan\, Kolkata\, West Bengal 700020\, Kolkata\, West Bengal\, 700071\, India
CATEGORIES:Theatre
END:VEVENT
BEGIN:VEVENT
DTSTART;TZID=Asia/Kolkata:20251011T183000
DTEND;TZID=Asia/Kolkata:20251011T203000
DTSTAMP:20260421T193420
CREATED:20251009T093005Z
LAST-MODIFIED:20251009T152356Z
UID:13896-1760207400-1760214600@kolkatatheatre.com
SUMMARY:Offbeat Theatre's Rakta-karabi\, at Madhusudan
DESCRIPTION:Tagore’s classic revived\, directed and acted by Chaiti Ghoshal. \nRecommended: ★★★★. Read my review.
URL:https://kolkatatheatre.com/event/offbeat-theatres-rakta-karabi-at-madhusudan/
LOCATION:Madhusudan Mancha\, Gariahat Rd S\, Jodhpur Park\,\, Kolkata\, West Bengal\, 700031\, India
CATEGORIES:Theatre
END:VEVENT
END:VCALENDAR