BEGIN:VCALENDAR
VERSION:2.0
PRODID:-//KolkataTheatre.com - ECPv6.15.12.2//NONSGML v1.0//EN
CALSCALE:GREGORIAN
METHOD:PUBLISH
X-WR-CALNAME:KolkataTheatre.com
X-ORIGINAL-URL:https://kolkatatheatre.com
X-WR-CALDESC:Events for KolkataTheatre.com
REFRESH-INTERVAL;VALUE=DURATION:PT1H
X-Robots-Tag:noindex
X-PUBLISHED-TTL:PT1H
BEGIN:VTIMEZONE
TZID:Asia/Kolkata
BEGIN:STANDARD
TZOFFSETFROM:+0530
TZOFFSETTO:+0530
TZNAME:IST
DTSTART:20240101T000000
END:STANDARD
END:VTIMEZONE
BEGIN:VEVENT
DTSTART;TZID=Asia/Kolkata:20251012T183000
DTEND;TZID=Asia/Kolkata:20251012T203000
DTSTAMP:20260421T211354
CREATED:20251009T093608Z
LAST-MODIFIED:20251009T093608Z
UID:13900-1760293800-1760301000@kolkatatheatre.com
SUMMARY:Anya Theatre’s Caretaker\, at Academy
DESCRIPTION:Harold Pinter’s early drama translated and transplanted into Bengali and directed by Arindam Mukherjee. \nRecommended: ★★★★. Read my review.
URL:https://kolkatatheatre.com/event/anya-theatres-caretaker-at-academy/
LOCATION:Academy of Fine Arts\, 2\, Cathedral Rd\, Maidan\, Kolkata\, West Bengal 700020\, Kolkata\, West Bengal\, 700071\, India
CATEGORIES:Theatre
END:VEVENT
BEGIN:VEVENT
DTSTART;TZID=Asia/Kolkata:20251012T183000
DTEND;TZID=Asia/Kolkata:20251012T203000
DTSTAMP:20260421T211354
CREATED:20251009T093936Z
LAST-MODIFIED:20251009T093936Z
UID:13902-1760293800-1760301000@kolkatatheatre.com
SUMMARY:Nirbak’s Saodagarer Nauka\, at Madhusudan
DESCRIPTION:Revival of Ajitesh Bandopadhyay’s drama about the crisis of identity and relevance of a Jatra artiste. Directed by Ashok Mukhopadhyay.
URL:https://kolkatatheatre.com/event/nirbaks-saodagarer-nauka-at-madhusudan/
LOCATION:Madhusudan Mancha\, Gariahat Rd S\, Jodhpur Park\,\, Kolkata\, West Bengal\, 700031\, India
CATEGORIES:Theatre
END:VEVENT
END:VCALENDAR