BEGIN:VCALENDAR
VERSION:2.0
PRODID:-//KolkataTheatre.com - ECPv6.15.12.2//NONSGML v1.0//EN
CALSCALE:GREGORIAN
METHOD:PUBLISH
X-ORIGINAL-URL:https://kolkatatheatre.com
X-WR-CALDESC:Events for KolkataTheatre.com
REFRESH-INTERVAL;VALUE=DURATION:PT1H
X-Robots-Tag:noindex
X-PUBLISHED-TTL:PT1H
BEGIN:VTIMEZONE
TZID:Asia/Kolkata
BEGIN:STANDARD
TZOFFSETFROM:+0530
TZOFFSETTO:+0530
TZNAME:IST
DTSTART:20240101T000000
END:STANDARD
END:VTIMEZONE
BEGIN:VEVENT
DTSTART;TZID=Asia/Kolkata:20251018T150000
DTEND;TZID=Asia/Kolkata:20251018T170000
DTSTAMP:20260422T032329
CREATED:20251016T081752Z
LAST-MODIFIED:20251016T081752Z
UID:13913-1760799600-1760806800@kolkatatheatre.com
SUMMARY:Nandipat’s Chandrabati Katha\, at Academy
DESCRIPTION:Ujjwal Chattopadhyay’s play about Chandrabati\, the 16th-century poet who composed the first Bangla Ramayan from the perspective of Sita\, as well as parts of the Maimansingha Gitika. Directed by Prokash Bhattacharya.
URL:https://kolkatatheatre.com/event/nandipats-chandrabati-katha-at-academy-5/
LOCATION:Academy of Fine Arts\, 2\, Cathedral Rd\, Maidan\, Kolkata\, West Bengal 700020\, Kolkata\, West Bengal\, 700071\, India
CATEGORIES:Theatre
END:VEVENT
BEGIN:VEVENT
DTSTART;TZID=Asia/Kolkata:20251018T183000
DTEND;TZID=Asia/Kolkata:20251018T203000
DTSTAMP:20260422T032329
CREATED:20251016T081957Z
LAST-MODIFIED:20251016T081957Z
UID:13915-1760812200-1760819400@kolkatatheatre.com
SUMMARY:Nat-ranga’s Mithye Car-er Satyi\, at Girish
DESCRIPTION:Written and directed by Sohan Bandopadhyay\, comedy and romance come together in an old-age home.
URL:https://kolkatatheatre.com/event/nat-rangas-mithye-car-er-satyi-at-girish/
LOCATION:Girish Mancha\, Bagbazar
CATEGORIES:Theatre
END:VEVENT
BEGIN:VEVENT
DTSTART;TZID=Asia/Kolkata:20251018T183000
DTEND;TZID=Asia/Kolkata:20251018T203000
DTSTAMP:20260422T032329
CREATED:20251016T082200Z
LAST-MODIFIED:20251016T082200Z
UID:13917-1760812200-1760819400@kolkatatheatre.com
SUMMARY:Mangalik’s Manush Bhut\, at Academy
DESCRIPTION:Mangalik’s longest-running production\, dramatized from Syed Mustafa Siraj and directed by Samir Biswas. A comedy about a “dead” man coming alive. Recommended viewing: ★★★★
URL:https://kolkatatheatre.com/event/mangaliks-manush-bhut-at-academy/
LOCATION:Academy of Fine Arts\, 2\, Cathedral Rd\, Maidan\, Kolkata\, West Bengal 700020\, Kolkata\, West Bengal\, 700071\, India
CATEGORIES:Theatre
END:VEVENT
END:VCALENDAR