BEGIN:VCALENDAR
VERSION:2.0
PRODID:-//KolkataTheatre.com - ECPv6.15.12.2//NONSGML v1.0//EN
CALSCALE:GREGORIAN
METHOD:PUBLISH
X-WR-CALNAME:KolkataTheatre.com
X-ORIGINAL-URL:https://kolkatatheatre.com
X-WR-CALDESC:Events for KolkataTheatre.com
REFRESH-INTERVAL;VALUE=DURATION:PT1H
X-Robots-Tag:noindex
X-PUBLISHED-TTL:PT1H
BEGIN:VTIMEZONE
TZID:Asia/Kolkata
BEGIN:STANDARD
TZOFFSETFROM:+0530
TZOFFSETTO:+0530
TZNAME:IST
DTSTART:20240101T000000
END:STANDARD
END:VTIMEZONE
BEGIN:VEVENT
DTSTART;TZID=Asia/Kolkata:20251026T143000
DTEND;TZID=Asia/Kolkata:20251026T210000
DTSTAMP:20260424T153927
CREATED:20251023T091645Z
LAST-MODIFIED:20251023T091950Z
UID:13940-1761489000-1761512400@kolkatatheatre.com
SUMMARY:Aneek’s Aksharik\, at Academy
DESCRIPTION:Dramatist-director Debasish’s biodrama about Panchanan Karmakar\, the first creator of Bengali moveable typeface in the 18th century\, based on Rajat Chakraborti’s novel Panchananer Haraph. Two shows\, at 2:45 pm and 6:30 pm. \nRecommended: ★★★★. Read my review.
URL:https://kolkatatheatre.com/event/aneeks-aksharik-at-academy-8/
LOCATION:Academy of Fine Arts\, 2\, Cathedral Rd\, Maidan\, Kolkata\, West Bengal 700020\, Kolkata\, West Bengal\, 700071\, India
CATEGORIES:Theatre
END:VEVENT
BEGIN:VEVENT
DTSTART;TZID=Asia/Kolkata:20251026T180000
DTEND;TZID=Asia/Kolkata:20251026T200000
DTSTAMP:20260424T153927
CREATED:20251025T082842Z
LAST-MODIFIED:20251025T082842Z
UID:13987-1761501600-1761508800@kolkatatheatre.com
SUMMARY:Bohubrihi's Chapter Two\, at Kala Mandir
DESCRIPTION:Neil Simon’s semi-autobiographical play from 1977\, about a widower’s new relationship with a divorcee. Directed by Ashoke Viswanathan\, in English.
URL:https://kolkatatheatre.com/event/bohubrihis-chapter-two-at-kala-mandir/
LOCATION:Kala Mandir\, Shakespeare Sarani\, Kolkata
CATEGORIES:Theatre
END:VEVENT
BEGIN:VEVENT
DTSTART;TZID=Asia/Kolkata:20251026T183000
DTEND;TZID=Asia/Kolkata:20251026T203000
DTSTAMP:20260424T153927
CREATED:20251025T141627Z
LAST-MODIFIED:20251025T141627Z
UID:13997-1761503400-1761510600@kolkatatheatre.com
SUMMARY:Padatik's Beparwah Manto\, at Padatik
DESCRIPTION:Director Anubha Fatehpuria’s dramatization of Manto’s life and writings. Read my review.
URL:https://kolkatatheatre.com/event/padatiks-beparwah-manto-at-padatik-6/
LOCATION:Padatik Little Theatre\, 6/7 A J C Bose Road\, Kolkata\, 700017
CATEGORIES:Theatre
END:VEVENT
END:VCALENDAR