BEGIN:VCALENDAR
VERSION:2.0
PRODID:-//KolkataTheatre.com - ECPv6.15.12.2//NONSGML v1.0//EN
CALSCALE:GREGORIAN
METHOD:PUBLISH
X-WR-CALNAME:KolkataTheatre.com
X-ORIGINAL-URL:https://kolkatatheatre.com
X-WR-CALDESC:Events for KolkataTheatre.com
REFRESH-INTERVAL;VALUE=DURATION:PT1H
X-Robots-Tag:noindex
X-PUBLISHED-TTL:PT1H
BEGIN:VTIMEZONE
TZID:Asia/Kolkata
BEGIN:STANDARD
TZOFFSETFROM:+0530
TZOFFSETTO:+0530
TZNAME:IST
DTSTART:20240101T000000
END:STANDARD
END:VTIMEZONE
BEGIN:VEVENT
DTSTART;TZID=Asia/Kolkata:20251030T180000
DTEND;TZID=Asia/Kolkata:20251030T210000
DTSTAMP:20260424T200819
CREATED:20251025T132318Z
LAST-MODIFIED:20251025T132318Z
UID:13991-1761847200-1761858000@kolkatatheatre.com
SUMMARY:Natadha’s Mahabharat 2\, at Academy
DESCRIPTION:Written by Shib Mukhopadhyay as his second dramatization of the epic\, this time concentrating on the Udyoga Parva. Directed by Arna Mukhopadhyay. \nRecommended: ★★★★. Read my review.
URL:https://kolkatatheatre.com/event/natadhas-mahabharat-2-at-academy-3/
LOCATION:Academy of Fine Arts\, 2\, Cathedral Rd\, Maidan\, Kolkata\, West Bengal 700020\, Kolkata\, West Bengal\, 700071\, India
CATEGORIES:Theatre
END:VEVENT
BEGIN:VEVENT
DTSTART;TZID=Asia/Kolkata:20251030T190000
DTEND;TZID=Asia/Kolkata:20251030T203000
DTSTAMP:20260424T200819
CREATED:20251025T140906Z
LAST-MODIFIED:20251025T140906Z
UID:13995-1761850800-1761856200@kolkatatheatre.com
SUMMARY:Padatik's Kripaya Sima Par Na Karen\, at Padatik
DESCRIPTION:Premiere of Vinay Sharma’s new play directed by him. Three episodes from different times linked by doublespeak around enforced silences: a professor faces an inquiry; a warlord declares himself God’s messenger; an activist faces the warlord’s wrath.
URL:https://kolkatatheatre.com/event/padatiks-kripaya-sima-par-na-karen-at-padatik/
LOCATION:Padatik Little Theatre\, 6/7 A J C Bose Road\, Kolkata\, 700017
CATEGORIES:Theatre
END:VEVENT
END:VCALENDAR