BEGIN:VCALENDAR
VERSION:2.0
PRODID:-//KolkataTheatre.com - ECPv6.15.12.2//NONSGML v1.0//EN
CALSCALE:GREGORIAN
METHOD:PUBLISH
X-ORIGINAL-URL:https://kolkatatheatre.com
X-WR-CALDESC:Events for KolkataTheatre.com
REFRESH-INTERVAL;VALUE=DURATION:PT1H
X-Robots-Tag:noindex
X-PUBLISHED-TTL:PT1H
BEGIN:VTIMEZONE
TZID:Asia/Kolkata
BEGIN:STANDARD
TZOFFSETFROM:+0530
TZOFFSETTO:+0530
TZNAME:IST
DTSTART:20240101T000000
END:STANDARD
END:VTIMEZONE
BEGIN:VEVENT
DTSTART;TZID=Asia/Kolkata:20251101T183000
DTEND;TZID=Asia/Kolkata:20251101T203000
DTSTAMP:20260424T233607
CREATED:20251030T134655Z
LAST-MODIFIED:20251030T134750Z
UID:14059-1762021800-1762029000@kolkatatheatre.com
SUMMARY:Dum Dum Shabdamugdho's Bel-Babu\, at Madhusudan
DESCRIPTION:Premiere of dramatist-director Rakesh Ghosh’s new play about the forgotten comedian and female impersonator of the Bengali commercial stage\, Amritalal Mukherjee (1854-1890).
URL:https://kolkatatheatre.com/event/dum-dum-shabdamugdhos-bel-babu-at-madhusudan/
LOCATION:Madhusudan Mancha\, Gariahat Rd S\, Jodhpur Park\,\, Kolkata\, West Bengal\, 700031\, India
CATEGORIES:Theatre
END:VEVENT
END:VCALENDAR