BEGIN:VCALENDAR
VERSION:2.0
PRODID:-//KolkataTheatre.com - ECPv6.15.12.2//NONSGML v1.0//EN
CALSCALE:GREGORIAN
METHOD:PUBLISH
X-ORIGINAL-URL:https://kolkatatheatre.com
X-WR-CALDESC:Events for KolkataTheatre.com
REFRESH-INTERVAL;VALUE=DURATION:PT1H
X-Robots-Tag:noindex
X-PUBLISHED-TTL:PT1H
BEGIN:VTIMEZONE
TZID:Asia/Kolkata
BEGIN:STANDARD
TZOFFSETFROM:+0530
TZOFFSETTO:+0530
TZNAME:IST
DTSTART:20240101T000000
END:STANDARD
END:VTIMEZONE
BEGIN:VEVENT
DTSTART;TZID=Asia/Kolkata:20251107T183000
DTEND;TZID=Asia/Kolkata:20251107T200000
DTSTAMP:20260425T024100
CREATED:20251102T141535Z
LAST-MODIFIED:20251102T141535Z
UID:14068-1762540200-1762545600@kolkatatheatre.com
SUMMARY:PrimeTime Theatre (Mumbai)'s Salaam Noni Appa\, at Birla Sabhagar
DESCRIPTION:The old production on “discovering love in the autumn of life” dramatized from Twinkle Khanna’s story and directed by Lillete Dubey. Read my review.
URL:https://kolkatatheatre.com/event/primetime-theatre-mumbais-salaam-noni-appa-at-birla-sabhagar/
LOCATION:G D Birla Sabhagar\, 29 Ashutosh Chowdhury Avenue\, Kolkata\, 700019
CATEGORIES:Theatre
END:VEVENT
END:VCALENDAR