BEGIN:VCALENDAR
VERSION:2.0
PRODID:-//KolkataTheatre.com - ECPv6.15.12.2//NONSGML v1.0//EN
CALSCALE:GREGORIAN
METHOD:PUBLISH
X-WR-CALNAME:KolkataTheatre.com
X-ORIGINAL-URL:https://kolkatatheatre.com
X-WR-CALDESC:Events for KolkataTheatre.com
REFRESH-INTERVAL;VALUE=DURATION:PT1H
X-Robots-Tag:noindex
X-PUBLISHED-TTL:PT1H
BEGIN:VTIMEZONE
TZID:Asia/Kolkata
BEGIN:STANDARD
TZOFFSETFROM:+0530
TZOFFSETTO:+0530
TZNAME:IST
DTSTART:20240101T000000
END:STANDARD
END:VTIMEZONE
BEGIN:VEVENT
DTSTART;TZID=Asia/Kolkata:20251109T183000
DTEND;TZID=Asia/Kolkata:20251109T203000
DTSTAMP:20260425T024446
CREATED:20251106T133401Z
LAST-MODIFIED:20251106T133401Z
UID:14231-1762713000-1762720200@kolkatatheatre.com
SUMMARY:Rangapat’s He Sindhusaras\, at Academy
DESCRIPTION:Ujjwal Chattopadhyay’s play based on the making of Chekhov’s classic The Seagull\, recreating the work of the Moscow Art Theatre\, its director Stanislavski and lead actress Olga Knipper (Chekhov’s wife). Directed by Tapanjyoti.
URL:https://kolkatatheatre.com/event/rangapats-he-sindhusaras-at-academy-5/
LOCATION:Academy of Fine Arts\, 2\, Cathedral Rd\, Maidan\, Kolkata\, West Bengal 700020\, Kolkata\, West Bengal\, 700071\, India
CATEGORIES:Theatre
END:VEVENT
BEGIN:VEVENT
DTSTART;TZID=Asia/Kolkata:20251109T183000
DTEND;TZID=Asia/Kolkata:20251109T210000
DTSTAMP:20260425T024446
CREATED:20251106T133032Z
LAST-MODIFIED:20251106T133032Z
UID:14229-1762713000-1762722000@kolkatatheatre.com
SUMMARY:Angik’s Binodini Opera\, at Birla Sabhagar
DESCRIPTION:Biographical drama on Nati Binodini co-written by Abanti Chakraborty and Sibashis Bandyopadhyay\, and directed by Abanti Chakraborty. Read my review.
URL:https://kolkatatheatre.com/event/angiks-binodini-opera-at-birla-sabhagar-3/
LOCATION:G D Birla Sabhagar\, 29 Ashutosh Chowdhury Avenue\, Kolkata\, 700019
CATEGORIES:Theatre
END:VEVENT
BEGIN:VEVENT
DTSTART;TZID=Asia/Kolkata:20251109T190000
DTEND;TZID=Asia/Kolkata:20251109T203000
DTSTAMP:20260425T024446
CREATED:20251106T133956Z
LAST-MODIFIED:20251106T133956Z
UID:14233-1762714800-1762720200@kolkatatheatre.com
SUMMARY:Padatik and Rikh's Kripaya Sima Par Na Karen\, at Padatik
DESCRIPTION:Vinay Sharma’s new play directed by him. Three episodes from different times linked by doublespeak around enforced silences: a professor faces an inquiry; a warlord declares himself God’s messenger; an activist faces the warlord’s wrath.
URL:https://kolkatatheatre.com/event/padatik-and-rikhs-kripaya-sima-par-na-karen-at-padatik/
LOCATION:Padatik Little Theatre\, 6/7 A J C Bose Road\, Kolkata\, 700017
CATEGORIES:Theatre
END:VEVENT
END:VCALENDAR