BEGIN:VCALENDAR
VERSION:2.0
PRODID:-//KolkataTheatre.com - ECPv6.15.12.2//NONSGML v1.0//EN
CALSCALE:GREGORIAN
METHOD:PUBLISH
X-WR-CALNAME:KolkataTheatre.com
X-ORIGINAL-URL:https://kolkatatheatre.com
X-WR-CALDESC:Events for KolkataTheatre.com
REFRESH-INTERVAL;VALUE=DURATION:PT1H
X-Robots-Tag:noindex
X-PUBLISHED-TTL:PT1H
BEGIN:VTIMEZONE
TZID:Asia/Kolkata
BEGIN:STANDARD
TZOFFSETFROM:+0530
TZOFFSETTO:+0530
TZNAME:IST
DTSTART:20240101T000000
END:STANDARD
END:VTIMEZONE
BEGIN:VEVENT
DTSTART;TZID=Asia/Kolkata:20251118T183000
DTEND;TZID=Asia/Kolkata:20251118T203000
DTSTAMP:20260425T023135
CREATED:20251115T102954Z
LAST-MODIFIED:20251115T102954Z
UID:14265-1763490600-1763497800@kolkatatheatre.com
SUMMARY:Mukhomukhi’s Typist\, at Birla Sabhagar
DESCRIPTION:Adapted into Bengali by Soumitra Chatterjee from Murray Schisgal’s The Typists\, and directed by Poulomi Chatterjee. Two stenographers in an office become friends over time and grow old together.
URL:https://kolkatatheatre.com/event/mukhomukhis-typist-at-birla-sabhagar/
LOCATION:G D Birla Sabhagar\, 29 Ashutosh Chowdhury Avenue\, Kolkata\, 700019
CATEGORIES:Theatre
END:VEVENT
BEGIN:VEVENT
DTSTART;TZID=Asia/Kolkata:20251118T183000
DTEND;TZID=Asia/Kolkata:20251118T203000
DTSTAMP:20260425T023135
CREATED:20251115T103322Z
LAST-MODIFIED:20251115T103322Z
UID:14267-1763490600-1763497800@kolkatatheatre.com
SUMMARY:Jadavpur Manthan’s Ramanujan\, at Tapan
DESCRIPTION:A retelling of the life of Srinivasa Iyengar Ramanujan from the humble town of Kumbakonam to the hallowed halls of Cambridge. The dramatis personae include devout and determined mother\, Kamallatammal\, who introduced him to the world of classical Indian mathematics; his young wife Janaki\, whose loneliness\, sacrifices and silent suffering form a backdrop to his spiritual quest and scientific ascent; and G. H. Hardy\, the English mathematician who receives a letter filled with unconventional theorems and identities\, intrigued and awestruck by which he becomes Ramanujan’s academic collaborator. Written and directed by Rajib Bardhan.
URL:https://kolkatatheatre.com/event/jadavpur-manthans-ramanujan-at-tapan/
LOCATION:Tapan Theatre\, Kalighat
CATEGORIES:Theatre
END:VEVENT
END:VCALENDAR