BEGIN:VCALENDAR
VERSION:2.0
PRODID:-//KolkataTheatre.com - ECPv6.15.12.2//NONSGML v1.0//EN
CALSCALE:GREGORIAN
METHOD:PUBLISH
X-ORIGINAL-URL:https://kolkatatheatre.com
X-WR-CALDESC:Events for KolkataTheatre.com
REFRESH-INTERVAL;VALUE=DURATION:PT1H
X-Robots-Tag:noindex
X-PUBLISHED-TTL:PT1H
BEGIN:VTIMEZONE
TZID:Asia/Kolkata
BEGIN:STANDARD
TZOFFSETFROM:+0530
TZOFFSETTO:+0530
TZNAME:IST
DTSTART:20240101T000000
END:STANDARD
END:VTIMEZONE
BEGIN:VEVENT
DTSTART;TZID=Asia/Kolkata:20251129T180000
DTEND;TZID=Asia/Kolkata:20251129T200000
DTSTAMP:20260425T024120
CREATED:20251128T103344Z
LAST-MODIFIED:20251128T103344Z
UID:14353-1764439200-1764446400@kolkatatheatre.com
SUMMARY:Manukriti Pahwa (Mumbai)'s Lafzon Ki Gathri\, at KCC
DESCRIPTION:An anthology of three plays directed by Seema Bhargava Pahwa. The medley brings to life three timeless Hindi short stories by Premchand\, Mannu Bhandari and Bhisham Sahni\, exploring the colourful mosaic of human emotions\, tracing the ebbs and flows of human connection woven with womanhood\, memory and meaning. \nPart of the Ami Arts Festival.
URL:https://kolkatatheatre.com/event/manukriti-pahwa-mumbais-lafzon-ki-gathri-at-kcc/
LOCATION:Kolkata Centre for Creativity\, Anandapur\, E M Bypass\, Kolkata
CATEGORIES:Theatre
END:VEVENT
BEGIN:VEVENT
DTSTART;TZID=Asia/Kolkata:20251129T180000
DTEND;TZID=Asia/Kolkata:20251129T210000
DTSTAMP:20260425T024120
CREATED:20251128T105415Z
LAST-MODIFIED:20251128T105415Z
UID:14360-1764439200-1764450000@kolkatatheatre.com
SUMMARY:Sarabhuj's Aranya Purush\, at Rabindra Sadan
DESCRIPTION:The first segment features a colourful presentation of a dozen diverse folk forms from Medinipur. The second part\, Aranya Purush\, is a theatre production deeply inspired by folk traditions. This play combines dance\, music and drama to portray the profound relationship between humanity and nature\, exploring themes of identity\, survival and harmony with the natural world. Directed by Tarun Pradhan.
URL:https://kolkatatheatre.com/event/sarabhujs-aranya-purush-at-rabindra-sadan/
LOCATION:Rabindra Sadan\, Cathedral Road\, Kolkata\, 700016
CATEGORIES:Theatre
END:VEVENT
BEGIN:VEVENT
DTSTART;TZID=Asia/Kolkata:20251129T183000
DTEND;TZID=Asia/Kolkata:20251129T203000
DTSTAMP:20260425T024120
CREATED:20251128T104407Z
LAST-MODIFIED:20251128T104512Z
UID:14355-1764441000-1764448200@kolkatatheatre.com
SUMMARY:Aadyam (Mumbai)'s Sanp Sirhi\, at Birla Sabhagar
DESCRIPTION:A darkly comic thriller adapted into Hindi from Anthony Shaffer’s celebrated two-hander Sleuth\, directed by Shubhrajyoti Barat. \nPart of the Ami Arts Festival. \n 
URL:https://kolkatatheatre.com/event/aadyam-mumbais-sanp-sirhi-at-birla-sabhagar/
LOCATION:G D Birla Sabhagar\, 29 Ashutosh Chowdhury Avenue\, Kolkata\, 700019
CATEGORIES:Theatre
END:VEVENT
END:VCALENDAR