BEGIN:VCALENDAR
VERSION:2.0
PRODID:-//KolkataTheatre.com - ECPv6.15.12.2//NONSGML v1.0//EN
CALSCALE:GREGORIAN
METHOD:PUBLISH
X-WR-CALNAME:KolkataTheatre.com
X-ORIGINAL-URL:https://kolkatatheatre.com
X-WR-CALDESC:Events for KolkataTheatre.com
REFRESH-INTERVAL;VALUE=DURATION:PT1H
X-Robots-Tag:noindex
X-PUBLISHED-TTL:PT1H
BEGIN:VTIMEZONE
TZID:Asia/Kolkata
BEGIN:STANDARD
TZOFFSETFROM:+0530
TZOFFSETTO:+0530
TZNAME:IST
DTSTART:20240101T000000
END:STANDARD
END:VTIMEZONE
BEGIN:VEVENT
DTSTART;TZID=Asia/Kolkata:20251201T183000
DTEND;TZID=Asia/Kolkata:20251201T203000
DTSTAMP:20260425T035519
CREATED:20251130T091550Z
LAST-MODIFIED:20251130T091550Z
UID:14369-1764613800-1764621000@kolkatatheatre.com
SUMMARY:Smarannik (Bengaluru)'s Drishtikanya\, at Academy
DESCRIPTION:Inspired by Daphne Du Maurier’s “The Blue Lenses” \, Indrashis Laharry’s Bengali adaptation is a comedy of illusions revolving around a blind lady who regains her eyesight after an operation. As the bandages are removed\, she sees everything – or\, rather\, everyone – entirely differently; every human face appears to be that of an animal. Directed by Sayandeb Bhattacharya.
URL:https://kolkatatheatre.com/event/smarannik-bengalurus-drishtikanya-at-academy/
LOCATION:Academy of Fine Arts\, 2\, Cathedral Rd\, Maidan\, Kolkata\, West Bengal 700020\, Kolkata\, West Bengal\, 700071\, India
CATEGORIES:Theatre
END:VEVENT
END:VCALENDAR