BEGIN:VCALENDAR
VERSION:2.0
PRODID:-//KolkataTheatre.com - ECPv6.15.12.2//NONSGML v1.0//EN
CALSCALE:GREGORIAN
METHOD:PUBLISH
X-WR-CALNAME:KolkataTheatre.com
X-ORIGINAL-URL:https://kolkatatheatre.com
X-WR-CALDESC:Events for KolkataTheatre.com
REFRESH-INTERVAL;VALUE=DURATION:PT1H
X-Robots-Tag:noindex
X-PUBLISHED-TTL:PT1H
BEGIN:VTIMEZONE
TZID:Asia/Kolkata
BEGIN:STANDARD
TZOFFSETFROM:+0530
TZOFFSETTO:+0530
TZNAME:IST
DTSTART:20240101T000000
END:STANDARD
END:VTIMEZONE
BEGIN:VEVENT
DTSTART;TZID=Asia/Kolkata:20251216T180000
DTEND;TZID=Asia/Kolkata:20251225T210000
DTSTAMP:20260425T035552
CREATED:20251213T101919Z
LAST-MODIFIED:20251213T101919Z
UID:14410-1765908000-1766696400@kolkatatheatre.com
SUMMARY:Nandikar's Theatre Festival\, at Academy
DESCRIPTION:Nandikar’s 42nd annual festival\, beginning on December 16 and continuing till December 25. Featuring Bengali plays by the groups Aneek\, Naihati Natya Samannyay\, Mukhomukhi–Tritiyo Sutra\, Ichheymoto\, Sarabhuj\, Swapnasandhani\, Natya Anan\, Theatre Formation Poribortok and the hosts\, and Hindi productions by National School of Drama Sikkim Repertory and Dinkar Sharma\, Jharkhand.
URL:https://kolkatatheatre.com/event/nandikars-theatre-festival-at-academy/
LOCATION:Academy of Fine Arts\, 2\, Cathedral Rd\, Maidan\, Kolkata\, West Bengal 700020\, Kolkata\, West Bengal\, 700071\, India
CATEGORIES:Theatre
END:VEVENT
BEGIN:VEVENT
DTSTART;TZID=Asia/Kolkata:20251220T150000
DTEND;TZID=Asia/Kolkata:20251220T170000
DTSTAMP:20260425T035552
CREATED:20251218T091418Z
LAST-MODIFIED:20251218T091418Z
UID:14421-1766242800-1766250000@kolkatatheatre.com
SUMMARY:Nat-ranga’s Mithye Car-er Satyi\, at Tapan
DESCRIPTION:Written and directed by Sohan Bandopadhyay\, comedy and romance come together in an old-age home.
URL:https://kolkatatheatre.com/event/nat-rangas-mithye-car-er-satyi-at-tapan/
LOCATION:Tapan Theatre\, Kalighat
CATEGORIES:Theatre
END:VEVENT
BEGIN:VEVENT
DTSTART;TZID=Asia/Kolkata:20251220T150000
DTEND;TZID=Asia/Kolkata:20251220T170000
DTSTAMP:20260425T035552
CREATED:20251218T092810Z
LAST-MODIFIED:20251218T092810Z
UID:14425-1766242800-1766250000@kolkatatheatre.com
SUMMARY:Sarabhuj’s Macbeth\, at Academy
DESCRIPTION:Tarun Pradhan’s Bangla folk adaptation and direction of Shakespeare’s classic using the performing arts of Medinipur. \nRecommended: ★★★★. Read my review. \n 
URL:https://kolkatatheatre.com/event/sarabhujs-macbeth-at-academy/
LOCATION:Academy of Fine Arts\, 2\, Cathedral Rd\, Maidan\, Kolkata\, West Bengal 700020\, Kolkata\, West Bengal\, 700071\, India
CATEGORIES:Theatre
END:VEVENT
BEGIN:VEVENT
DTSTART;TZID=Asia/Kolkata:20251220T180000
DTEND;TZID=Asia/Kolkata:20251220T190000
DTSTAMP:20260425T035552
CREATED:20251213T100130Z
LAST-MODIFIED:20251213T100130Z
UID:14407-1766253600-1766257200@kolkatatheatre.com
SUMMARY:Nothing Like Persepolis\, at The Urban Theatre Project
DESCRIPTION:An independent and intimate production  that borrows from Persepolis\, Macbeth and the various wars of survival around us\, and features three women clowns and their many voices\, protests and prophecies\, served with a red nose on top. Written and directed by Sourav R Nath.\nRepeat performance at 7:30 pm the same evening.
URL:https://kolkatatheatre.com/event/nothing-like-persepolis-at-the-urban-theatre-project/
LOCATION:The Urban Theatre Project\, Kabir Road\, Kolkata\, 700029
CATEGORIES:Theatre
ATTACH;FMTTYPE=image/jpeg:https://kolkatatheatre.com/wp-content/uploads/2025/12/1000508155-scaled.jpg
END:VEVENT
BEGIN:VEVENT
DTSTART;TZID=Asia/Kolkata:20251220T183000
DTEND;TZID=Asia/Kolkata:20251220T203000
DTSTAMP:20260425T035552
CREATED:20251218T091649Z
LAST-MODIFIED:20251218T091649Z
UID:14423-1766255400-1766262600@kolkatatheatre.com
SUMMARY:Nat-ranga’s Ami Weds Ami\, at Tapan
DESCRIPTION:Revival of Sohan Bandopadhyay’s Bengali dramatization from 2010 of Charlie Fish’s short story “The Man Who Married Himself”\, about a man who does just that.
URL:https://kolkatatheatre.com/event/nat-rangas-ami-weds-ami-at-tapan/
LOCATION:Tapan Theatre\, Kalighat
CATEGORIES:Theatre
END:VEVENT
BEGIN:VEVENT
DTSTART;TZID=Asia/Kolkata:20251220T183000
DTEND;TZID=Asia/Kolkata:20251220T210000
DTSTAMP:20260425T035552
CREATED:20251218T093342Z
LAST-MODIFIED:20251218T093342Z
UID:14431-1766255400-1766264400@kolkatatheatre.com
SUMMARY:Nandikar’s Madhabi\, at Academy
DESCRIPTION:Bhisham Sahni’s play translated into Bengali and directed by Swatilekha Sengupta.
URL:https://kolkatatheatre.com/event/nandikars-madhabi-at-academy-2/
LOCATION:Academy of Fine Arts\, 2\, Cathedral Rd\, Maidan\, Kolkata\, West Bengal 700020\, Kolkata\, West Bengal\, 700071\, India
CATEGORIES:Theatre
END:VEVENT
END:VCALENDAR