BEGIN:VCALENDAR
VERSION:2.0
PRODID:-//KolkataTheatre.com - ECPv6.15.12.2//NONSGML v1.0//EN
CALSCALE:GREGORIAN
METHOD:PUBLISH
X-WR-CALNAME:KolkataTheatre.com
X-ORIGINAL-URL:https://kolkatatheatre.com
X-WR-CALDESC:Events for KolkataTheatre.com
REFRESH-INTERVAL;VALUE=DURATION:PT1H
X-Robots-Tag:noindex
X-PUBLISHED-TTL:PT1H
BEGIN:VTIMEZONE
TZID:Asia/Kolkata
BEGIN:STANDARD
TZOFFSETFROM:+0530
TZOFFSETTO:+0530
TZNAME:IST
DTSTART:20240101T000000
END:STANDARD
END:VTIMEZONE
BEGIN:VEVENT
DTSTART;TZID=Asia/Kolkata:20251227T143000
DTEND;TZID=Asia/Kolkata:20251227T210000
DTSTAMP:20260425T035551
CREATED:20251225T195513Z
LAST-MODIFIED:20251225T195513Z
UID:14460-1766845800-1766869200@kolkatatheatre.com
SUMMARY:Aneek’s Aksharik\, at Academy
DESCRIPTION:Dramatist-director Debasish’s biodrama about Panchanan Karmakar\, the first creator of Bengali moveable typeface in the 18th century\, based on Rajat Chakraborti’s novel Panchananer Haraph. Two shows\, at 2:45 pm and 6:30 pm. \nRecommended: ★★★★. Read my review.
URL:https://kolkatatheatre.com/event/aneeks-aksharik-at-academy-9/
LOCATION:Academy of Fine Arts\, 2\, Cathedral Rd\, Maidan\, Kolkata\, West Bengal 700020\, Kolkata\, West Bengal\, 700071\, India
CATEGORIES:Theatre
END:VEVENT
BEGIN:VEVENT
DTSTART;TZID=Asia/Kolkata:20251227T180000
DTEND;TZID=Asia/Kolkata:20251227T210000
DTSTAMP:20260425T035551
CREATED:20251225T195148Z
LAST-MODIFIED:20251225T195148Z
UID:14458-1766858400-1766869200@kolkatatheatre.com
SUMMARY:Swapna-sandhani’s Hamlet\, at Kala Mandir
DESCRIPTION:Shakespeare’s classic translated into Bengali by Chaiti Mitra and directed by Koushik Sen. \nRecommended: ★★★★. Read my review.
URL:https://kolkatatheatre.com/event/swapna-sandhanis-hamlet-at-kala-mandir-2/
LOCATION:Kala Mandir\, Shakespeare Sarani\, Kolkata
CATEGORIES:Theatre
END:VEVENT
END:VCALENDAR