BEGIN:VCALENDAR
VERSION:2.0
PRODID:-//KolkataTheatre.com - ECPv6.15.12.2//NONSGML v1.0//EN
CALSCALE:GREGORIAN
METHOD:PUBLISH
X-WR-CALNAME:KolkataTheatre.com
X-ORIGINAL-URL:https://kolkatatheatre.com
X-WR-CALDESC:Events for KolkataTheatre.com
REFRESH-INTERVAL;VALUE=DURATION:PT1H
X-Robots-Tag:noindex
X-PUBLISHED-TTL:PT1H
BEGIN:VTIMEZONE
TZID:Asia/Kolkata
BEGIN:STANDARD
TZOFFSETFROM:+0530
TZOFFSETTO:+0530
TZNAME:IST
DTSTART:20250101T000000
END:STANDARD
END:VTIMEZONE
BEGIN:VEVENT
DTSTART;TZID=Asia/Kolkata:20260101T183000
DTEND;TZID=Asia/Kolkata:20260101T210000
DTSTAMP:20260425T035420
CREATED:20251228T125739Z
LAST-MODIFIED:20251228T125739Z
UID:14467-1767292200-1767301200@kolkatatheatre.com
SUMMARY:ECTA (New Jersey)'s two Bengali plays\, at Tapan
DESCRIPTION:Short plays written and directed by Sudipta Bhawmik: Banijye Basate Lakshmi is a solo performance in which Sudipta enacts a motivational speaker delivering a speech on how Bengali entrepreneurs can succeed in business. Paul o Vincent is a period piece set in 1888 that explores the intense\, tragic relationship between Gauguin and Van Gogh right up to the famous “ear incident”.
URL:https://kolkatatheatre.com/event/ecta-new-jerseys-two-bengali-plays-at-tapan/
LOCATION:Tapan Theatre\, Kalighat
CATEGORIES:Theatre
END:VEVENT
END:VCALENDAR