BEGIN:VCALENDAR
VERSION:2.0
PRODID:-//KolkataTheatre.com - ECPv6.15.12.2//NONSGML v1.0//EN
CALSCALE:GREGORIAN
METHOD:PUBLISH
X-ORIGINAL-URL:https://kolkatatheatre.com
X-WR-CALDESC:Events for KolkataTheatre.com
REFRESH-INTERVAL;VALUE=DURATION:PT1H
X-Robots-Tag:noindex
X-PUBLISHED-TTL:PT1H
BEGIN:VTIMEZONE
TZID:Asia/Kolkata
BEGIN:STANDARD
TZOFFSETFROM:+0530
TZOFFSETTO:+0530
TZNAME:IST
DTSTART:20250101T000000
END:STANDARD
END:VTIMEZONE
BEGIN:VEVENT
DTSTART;TZID=Asia/Kolkata:20260112T183000
DTEND;TZID=Asia/Kolkata:20260112T203000
DTSTAMP:20260425T154912
CREATED:20260110T164148Z
LAST-MODIFIED:20260110T164148Z
UID:14544-1768242600-1768249800@kolkatatheatre.com
SUMMARY:Sanglap Kolkata’s Hulusthul\, at Academy
DESCRIPTION:Dramatized from Shirshendu Mukhopadhyay’s Ek Āshcharja Pheriwālā by Kuntal Mukhopadhyay and directed by Debasish. A mysterious hawker sells seemingly useless things\, which evil people conspire to capture\, while an eccentric scientist pursues his thirst for knowledge\, \nRecommended: ★★★★. Read my review.
URL:https://kolkatatheatre.com/event/sanglap-kolkatas-hulusthul-at-academy-8/
LOCATION:Academy of Fine Arts\, 2\, Cathedral Rd\, Maidan\, Kolkata\, West Bengal 700020\, Kolkata\, West Bengal\, 700071\, India
CATEGORIES:Theatre
END:VEVENT
BEGIN:VEVENT
DTSTART;TZID=Asia/Kolkata:20260112T183000
DTEND;TZID=Asia/Kolkata:20260112T203000
DTSTAMP:20260425T154912
CREATED:20260112T075650Z
LAST-MODIFIED:20260112T075650Z
UID:14550-1768242600-1768249800@kolkatatheatre.com
SUMMARY:Krishti (Dinajpur)'s Jaha Bolibo Satya Bolibo\, at Madhusudan
DESCRIPTION:Bengali translation of Swadesh Deepak’s Court Martial\, directed by Surojit Ghosh. Part of Minerva’s National Theatre Festival 2026.
URL:https://kolkatatheatre.com/event/krishti-dinajpurs-jaha-bolibo-satya-bolibo-at-madhusudan/
LOCATION:Madhusudan Mancha\, Gariahat Rd S\, Jodhpur Park\,\, Kolkata\, West Bengal\, 700031\, India
CATEGORIES:Theatre
END:VEVENT
BEGIN:VEVENT
DTSTART;TZID=Asia/Kolkata:20260112T183000
DTEND;TZID=Asia/Kolkata:20260112T203000
DTSTAMP:20260425T154912
CREATED:20260112T075926Z
LAST-MODIFIED:20260112T075926Z
UID:14552-1768242600-1768249800@kolkatatheatre.com
SUMMARY:Tala Dhrupad Natya Sanstha (Hugli)'s Abhijan\, at Girish
DESCRIPTION:Bengali play directed by Debasish Chakraborty. Part of Minerva’s National Theatre Festival 2026.
URL:https://kolkatatheatre.com/event/tala-dhrupad-natya-sanstha-huglis-abhijan-at-girish/
LOCATION:Girish Mancha\, Bagbazar
CATEGORIES:Theatre
END:VEVENT
END:VCALENDAR