BEGIN:VCALENDAR
VERSION:2.0
PRODID:-//KolkataTheatre.com - ECPv6.15.12.2//NONSGML v1.0//EN
CALSCALE:GREGORIAN
METHOD:PUBLISH
X-ORIGINAL-URL:https://kolkatatheatre.com
X-WR-CALDESC:Events for KolkataTheatre.com
REFRESH-INTERVAL;VALUE=DURATION:PT1H
X-Robots-Tag:noindex
X-PUBLISHED-TTL:PT1H
BEGIN:VTIMEZONE
TZID:Asia/Kolkata
BEGIN:STANDARD
TZOFFSETFROM:+0530
TZOFFSETTO:+0530
TZNAME:IST
DTSTART:20250101T000000
END:STANDARD
END:VTIMEZONE
BEGIN:VEVENT
DTSTART;TZID=Asia/Kolkata:20260116T183000
DTEND;TZID=Asia/Kolkata:20260116T200000
DTSTAMP:20260425T213548
CREATED:20260112T081210Z
LAST-MODIFIED:20260112T081210Z
UID:14554-1768588200-1768593600@kolkatatheatre.com
SUMMARY:Out of Nowhere's Guards at the Taj\, at Gyan Manch
DESCRIPTION:Hindustani adaptation of Rajiv Joseph’s dark comedy that won the Obie award for best new American play in 2016. Two guards at the newly built Taj Mahal discuss perfection\, duty\, obedience and rebellion in a blend of humour\, brutality and philosophical questions about beauty and power.
URL:https://kolkatatheatre.com/event/out-of-nowheres-guards-at-the-taj-at-gyan-manch/
LOCATION:Gyan Manch\, Gyan Manch\, 11\, Pretoria St\, Kolkata\, West Bengal\, 700071\, India
CATEGORIES:Theatre
END:VEVENT
BEGIN:VEVENT
DTSTART;TZID=Asia/Kolkata:20260116T183000
DTEND;TZID=Asia/Kolkata:20260116T203000
DTSTAMP:20260425T213548
CREATED:20260112T082411Z
LAST-MODIFIED:20260112T083736Z
UID:14556-1768588200-1768595400@kolkatatheatre.com
SUMMARY:Rangakarmee's Lok Katha\, at Sujata Sadan
DESCRIPTION:The inaugural production at Rangakarmee’s festival celebrating their golden jubilee. A revival of their historic play directed by Usha Ganguli.
URL:https://kolkatatheatre.com/event/rangakarmees-lok-katha-at-sujata-sadan/
LOCATION:Sujata Devi Smriti Sadan\, 7 Hazra Road\, Kolkata\, India
CATEGORIES:Theatre
END:VEVENT
BEGIN:VEVENT
DTSTART;TZID=Asia/Kolkata:20260116T193000
DTEND;TZID=Asia/Kolkata:20260116T210000
DTSTAMP:20260425T213548
CREATED:20260113T110953Z
LAST-MODIFIED:20260113T110953Z
UID:14563-1768591800-1768597200@kolkatatheatre.com
SUMMARY:Curl's Seasons of Love\, at Padatik
DESCRIPTION:A memory play about love and loss that grapples with themes of family and homesickness as well as the intergenerational bonds that give individual family members the strength to stay together despite the dementia and geography that threaten to separate them. Through mutual experiences of grief and an overarching love for Shakespeare and Rabindrasangit\, the characters attempt to find light at the end of the tunnel. Written by Ahon Gooptu and directed by Vikram Iyengar. \nFurther shows on January 17 and 18.
URL:https://kolkatatheatre.com/event/curls-seasons-of-love-at-padatik-4/
LOCATION:Padatik Little Theatre\, 6/7 A J C Bose Road\, Kolkata\, 700017
CATEGORIES:Theatre
ATTACH;FMTTYPE=image/png:https://kolkatatheatre.com/wp-content/uploads/2026/01/Cast-_-Seasons-of-Love-_-2026-_-Photo-by-Jaisheej-Paul-e1767431441329.png
END:VEVENT
END:VCALENDAR