BEGIN:VCALENDAR
VERSION:2.0
PRODID:-//KolkataTheatre.com - ECPv6.15.12.2//NONSGML v1.0//EN
CALSCALE:GREGORIAN
METHOD:PUBLISH
X-WR-CALNAME:KolkataTheatre.com
X-ORIGINAL-URL:https://kolkatatheatre.com
X-WR-CALDESC:Events for KolkataTheatre.com
REFRESH-INTERVAL;VALUE=DURATION:PT1H
X-Robots-Tag:noindex
X-PUBLISHED-TTL:PT1H
BEGIN:VTIMEZONE
TZID:Asia/Kolkata
BEGIN:STANDARD
TZOFFSETFROM:+0530
TZOFFSETTO:+0530
TZNAME:IST
DTSTART:20250101T000000
END:STANDARD
END:VTIMEZONE
BEGIN:VEVENT
DTSTART;TZID=Asia/Kolkata:20260122T183000
DTEND;TZID=Asia/Kolkata:20260122T203000
DTSTAMP:20260426T065225
CREATED:20260117T193615Z
LAST-MODIFIED:20260117T193615Z
UID:14593-1769106600-1769113800@kolkatatheatre.com
SUMMARY:Rangroop's Bhalo Pahar\, at Academy
DESCRIPTION:Premiere of Rangroop’s new play\, translated and set in Bengal by Tirthankar Chanda from British dramatist Timberlake Wertenbaker’s Winter Hill\, about a group of women discussing the construction of a luxury hotel in a remote rural location.
URL:https://kolkatatheatre.com/event/rangroops-bhalo-pahar-at-academy/
LOCATION:Academy of Fine Arts\, 2\, Cathedral Rd\, Maidan\, Kolkata\, West Bengal 700020\, Kolkata\, West Bengal\, 700071\, India
CATEGORIES:Theatre
END:VEVENT
END:VCALENDAR