BEGIN:VCALENDAR
VERSION:2.0
PRODID:-//KolkataTheatre.com - ECPv6.15.12.2//NONSGML v1.0//EN
CALSCALE:GREGORIAN
METHOD:PUBLISH
X-ORIGINAL-URL:https://kolkatatheatre.com
X-WR-CALDESC:Events for KolkataTheatre.com
REFRESH-INTERVAL;VALUE=DURATION:PT1H
X-Robots-Tag:noindex
X-PUBLISHED-TTL:PT1H
BEGIN:VTIMEZONE
TZID:Asia/Kolkata
BEGIN:STANDARD
TZOFFSETFROM:+0530
TZOFFSETTO:+0530
TZNAME:IST
DTSTART:20250101T000000
END:STANDARD
END:VTIMEZONE
BEGIN:VEVENT
DTSTART;TZID=Asia/Kolkata:20260125T183000
DTEND;TZID=Asia/Kolkata:20260125T200000
DTSTAMP:20260421T155436
CREATED:20260122T092333Z
LAST-MODIFIED:20260122T092333Z
UID:14599-1769365800-1769371200@kolkatatheatre.com
SUMMARY:Rangakarmee’s Chanda Bedni\, at Birla Sabhagar
DESCRIPTION:Rangakarmee’s dynamic production that won multiple awards at META 2025. Based on Bundeli folklore\, Alakhnandan had dramatized the tragedy of Chanda\, a member of the Bedni tribe\, historically criminalized as prostitutes. Directed by Anirudh Sarkar. Part of Exide Kolkata Literary Meet. \nRecommended: ★★★★. Read my review.
URL:https://kolkatatheatre.com/event/rangakarmees-chanda-bedni-at-birla-sabhagar/
LOCATION:G D Birla Sabhagar\, 29 Ashutosh Chowdhury Avenue\, Kolkata\, 700019
CATEGORIES:Theatre
END:VEVENT
END:VCALENDAR