BEGIN:VCALENDAR
VERSION:2.0
PRODID:-//KolkataTheatre.com - ECPv6.15.12.2//NONSGML v1.0//EN
CALSCALE:GREGORIAN
METHOD:PUBLISH
X-WR-CALNAME:KolkataTheatre.com
X-ORIGINAL-URL:https://kolkatatheatre.com
X-WR-CALDESC:Events for KolkataTheatre.com
REFRESH-INTERVAL;VALUE=DURATION:PT1H
X-Robots-Tag:noindex
X-PUBLISHED-TTL:PT1H
BEGIN:VTIMEZONE
TZID:Asia/Kolkata
BEGIN:STANDARD
TZOFFSETFROM:+0530
TZOFFSETTO:+0530
TZNAME:IST
DTSTART:20240101T000000
END:STANDARD
END:VTIMEZONE
BEGIN:VEVENT
DTSTART;TZID=Asia/Kolkata:20250812T183000
DTEND;TZID=Asia/Kolkata:20250812T203000
DTSTAMP:20260421T171154
CREATED:20250810T133748Z
LAST-MODIFIED:20250810T134918Z
UID:13767-1755023400-1755030600@kolkatatheatre.com
SUMMARY:Theatre Platform’s Gharer Madhye Bari\, at Tapan
DESCRIPTION:Dramatist-director Debasish’s new play about an old building facing demolition\, whose residents face eviction\, and whose inhabitants include non-humans too. \nHighly recommended: ★★★★★. Read my review.
URL:https://kolkatatheatre.com/event/theatre-platforms-gharer-madhye-bari-at-tapan-4/
LOCATION:Tapan Theatre\, Kalighat
CATEGORIES:Theatre
END:VEVENT
BEGIN:VEVENT
DTSTART;TZID=Asia/Kolkata:20250814T183000
DTEND;TZID=Asia/Kolkata:20250814T203000
DTSTAMP:20260421T171154
CREATED:20250810T134415Z
LAST-MODIFIED:20250810T134415Z
UID:13769-1755196200-1755203400@kolkatatheatre.com
SUMMARY:Rangroop’s Jadi Ar Ekbar\, at Academy
DESCRIPTION:Rangroop marks the birth centenary of Badal Sircar with a revival of his perennial early comedy about wish fulfilment. Directed by Sima Mukhopadhyay.
URL:https://kolkatatheatre.com/event/rangroops-jadi-ar-ekbar-at-academy-2/
LOCATION:Academy of Fine Arts\, 2\, Cathedral Rd\, Maidan\, Kolkata\, West Bengal 700020\, Kolkata\, West Bengal\, 700071\, India
CATEGORIES:Theatre
END:VEVENT
BEGIN:VEVENT
DTSTART;TZID=Asia/Kolkata:20250818T183000
DTEND;TZID=Asia/Kolkata:20250818T203000
DTSTAMP:20260421T171154
CREATED:20250815T072653Z
LAST-MODIFIED:20250815T072653Z
UID:13776-1755541800-1755549000@kolkatatheatre.com
SUMMARY:Aneek’s Aksharik\, at Academy
DESCRIPTION:Dramatist-director Debasish’s biodrama about Panchanan Karmakar\, the first creator of Bengali moveable typeface in the 18th century\, based on Rajat Chakraborti’s novel Panchananer Haraph. \nRecommended: ★★★★. Read my review.
URL:https://kolkatatheatre.com/event/aneeks-aksharik-at-academy-7/
LOCATION:Academy of Fine Arts\, 2\, Cathedral Rd\, Maidan\, Kolkata\, West Bengal 700020\, Kolkata\, West Bengal\, 700071\, India
CATEGORIES:Theatre
END:VEVENT
BEGIN:VEVENT
DTSTART;TZID=Asia/Kolkata:20250820T183000
DTEND;TZID=Asia/Kolkata:20250820T203000
DTSTAMP:20260421T171154
CREATED:20250815T073016Z
LAST-MODIFIED:20250815T073016Z
UID:13778-1755714600-1755721800@kolkatatheatre.com
SUMMARY:Prachya’s Khelaghar\, at Academy
DESCRIPTION:Ibsen’s trailblazing Doll’s House adapted by Ratan Kumar Das and directed by Biplab Bandyopadhyay. \nRecommended: ★★★★ Read my review.
URL:https://kolkatatheatre.com/event/prachyas-khelaghar-at-academy-3/
LOCATION:Academy of Fine Arts\, 2\, Cathedral Rd\, Maidan\, Kolkata\, West Bengal 700020\, Kolkata\, West Bengal\, 700071\, India
CATEGORIES:Theatre
END:VEVENT
BEGIN:VEVENT
DTSTART;TZID=Asia/Kolkata:20250822T183000
DTEND;TZID=Asia/Kolkata:20250822T203000
DTSTAMP:20260421T171154
CREATED:20250819T071741Z
LAST-MODIFIED:20250820T092746Z
UID:13780-1755887400-1755894600@kolkatatheatre.com
SUMMARY:Pancham Vaidic's Rajnaitik Hatya?\, at Academy
DESCRIPTION:Premiere of this revived production based on Jean-Paul Sartre’s Crime Passionnel about a Communist plot of political assassination\, adapted into Bengali and directed by Arpita Ghosh.
URL:https://kolkatatheatre.com/event/pancham-vaidics-rajnaitik-hatya-at-academy/
LOCATION:Academy of Fine Arts\, 2\, Cathedral Rd\, Maidan\, Kolkata\, West Bengal 700020\, Kolkata\, West Bengal\, 700071\, India
CATEGORIES:Theatre
END:VEVENT
BEGIN:VEVENT
DTSTART;TZID=Asia/Kolkata:20250823T143000
DTEND;TZID=Asia/Kolkata:20250823T170000
DTSTAMP:20260421T171154
CREATED:20250821T142230Z
LAST-MODIFIED:20250821T142230Z
UID:13788-1755959400-1755968400@kolkatatheatre.com
SUMMARY:Naye Natua’s Meghnadbadh Kabya\, at Academy
DESCRIPTION:Dramatized from Michael Madhusudan Dutt’s epic and directed by Goutam Halder\, his long-running solo hit.
URL:https://kolkatatheatre.com/event/naye-natuas-meghnadbadh-kabya-at-academy-4/
LOCATION:Academy of Fine Arts\, 2\, Cathedral Rd\, Maidan\, Kolkata\, West Bengal 700020\, Kolkata\, West Bengal\, 700071\, India
CATEGORIES:Theatre
END:VEVENT
BEGIN:VEVENT
DTSTART;TZID=Asia/Kolkata:20250823T150000
DTEND;TZID=Asia/Kolkata:20250823T170000
DTSTAMP:20260421T171154
CREATED:20250821T141934Z
LAST-MODIFIED:20250821T141934Z
UID:13786-1755961200-1755968400@kolkatatheatre.com
SUMMARY:Pancham Vaidic’s Tumi Thik Jadi Bhabo Tumi Thik\, at Madhusudan
DESCRIPTION:Adapted from Pirandello’s Right You Are If You Think So and directed by Arpita Ghosh. \nRecommended: ★★★★ Read my review.
URL:https://kolkatatheatre.com/event/pancham-vaidics-tumi-thik-jadi-bhabo-tumi-thik-at-madhusudan-6/
LOCATION:Madhusudan Mancha\, Gariahat Rd S\, Jodhpur Park\,\, Kolkata\, West Bengal\, 700031\, India
CATEGORIES:Theatre
END:VEVENT
BEGIN:VEVENT
DTSTART;TZID=Asia/Kolkata:20250824T150000
DTEND;TZID=Asia/Kolkata:20250824T170000
DTSTAMP:20260421T171154
CREATED:20250821T142513Z
LAST-MODIFIED:20250821T142513Z
UID:13790-1756047600-1756054800@kolkatatheatre.com
SUMMARY:Pancham Vaidic’s Pulish\, at Madhusudan
DESCRIPTION:Acclaimed Polish dramatist Slawomir Mrozek’s dark political satire on power titled Police\, adapted and directed by Arpita Ghosh. \nRecommended: ★★★★. Read my review.
URL:https://kolkatatheatre.com/event/pancham-vaidics-pulish-at-madhusudan-2/
LOCATION:Madhusudan Mancha\, Gariahat Rd S\, Jodhpur Park\,\, Kolkata\, West Bengal\, 700031\, India
CATEGORIES:Theatre
END:VEVENT
BEGIN:VEVENT
DTSTART;TZID=Asia/Kolkata:20250824T183000
DTEND;TZID=Asia/Kolkata:20250824T204000
DTSTAMP:20260421T171154
CREATED:20250821T142857Z
LAST-MODIFIED:20250821T142857Z
UID:13792-1756060200-1756068000@kolkatatheatre.com
SUMMARY:Natasena’s Gorur Garir Headlight\, at Girish
DESCRIPTION:The record-breaking comedy that has had an uninterrupted run since 1972\, with over 1200 performances. Written and directed by the late Saroj Ray for his own group Natasena.
URL:https://kolkatatheatre.com/event/natasenas-gorur-garir-headlight-at-girish/
LOCATION:Girish Mancha\, Bagbazar
CATEGORIES:Theatre
END:VEVENT
BEGIN:VEVENT
DTSTART;TZID=Asia/Kolkata:20250826T180000
DTEND;TZID=Asia/Kolkata:20250826T203000
DTSTAMP:20260421T171154
CREATED:20250825T070519Z
LAST-MODIFIED:20250825T070519Z
UID:13817-1756231200-1756240200@kolkatatheatre.com
SUMMARY:Angan's Nilambala Chhe Ana\, at Academy
DESCRIPTION:After the turbulent 1960s\, young Nilambala and Uddalak cross into the thunderous calls of the 1970s. Before the stormy chaos settles\, life becomes unstable again—then the change of 1977\, a breeze of dreamlike euphoria. But again the tide turns\, and the river of life becomes a vast low tide. Uddalak\, now past sixty\, appears like a sage of time with Nilambala\, his witness and companion\, seemingly mere history. Written by Shantanu Majumdar and directed by Abhi Sengupta.
URL:https://kolkatatheatre.com/event/angans-nilambala-chhe-ana-at-academy/
LOCATION:Academy of Fine Arts\, 2\, Cathedral Rd\, Maidan\, Kolkata\, West Bengal 700020\, Kolkata\, West Bengal\, 700071\, India
CATEGORIES:Theatre
END:VEVENT
BEGIN:VEVENT
DTSTART;TZID=Asia/Kolkata:20250827T183000
DTEND;TZID=Asia/Kolkata:20250827T203000
DTSTAMP:20260421T171154
CREATED:20250824T143909Z
LAST-MODIFIED:20250824T143909Z
UID:13797-1756319400-1756326600@kolkatatheatre.com
SUMMARY:Nandipat’s Pet-i Case\, at Academy
DESCRIPTION:The Dario Fo–Franca Rame political satire Can’t Pay\, Won’t Pay (1974) adapted into Bengali by Bismoy Roy and directed by Bimal Chakraborty.
URL:https://kolkatatheatre.com/event/nandipats-pet-i-case-at-academy-7/
LOCATION:Academy of Fine Arts\, 2\, Cathedral Rd\, Maidan\, Kolkata\, West Bengal 700020\, Kolkata\, West Bengal\, 700071\, India
CATEGORIES:Theatre
END:VEVENT
BEGIN:VEVENT
DTSTART;TZID=Asia/Kolkata:20250828T183000
DTEND;TZID=Asia/Kolkata:20250828T203000
DTSTAMP:20260421T171154
CREATED:20250824T144427Z
LAST-MODIFIED:20250824T144427Z
UID:13799-1756405800-1756413000@kolkatatheatre.com
SUMMARY:People’s Little Theatre’s Panjare Danrer Shabda\, at Academy
DESCRIPTION:Hara Bhattacharya’s play\, directed by Kamalesh Chakrabarti\, about a coach who fought against corruption in his professional capacity in the sports world and his discovery of an underprivileged girl as a promising wrestler.
URL:https://kolkatatheatre.com/event/peoples-little-theatres-panjare-danrer-shabda-at-academy-2/
LOCATION:Academy of Fine Arts\, 2\, Cathedral Rd\, Maidan\, Kolkata\, West Bengal 700020\, Kolkata\, West Bengal\, 700071\, India
CATEGORIES:Theatre
END:VEVENT
BEGIN:VEVENT
DTSTART;TZID=Asia/Kolkata:20250828T183000
DTEND;TZID=Asia/Kolkata:20250828T203000
DTSTAMP:20260421T171154
CREATED:20250825T191520Z
LAST-MODIFIED:20250825T191520Z
UID:13819-1756405800-1756413000@kolkatatheatre.com
SUMMARY:Shilpi Sangha's Baghnakh\, at Madhusudan
DESCRIPTION:Jayanta De’s story dramatized and directed by Suman Sengupta\, about the ever-increasing irrational instigation in society without thinking of humanity. Problems and failure in life get vented in various ugly forms; and nobody speaks up against the powerful. The play depicts the instinct to overcome a grave situation by violent or easy means rather than trying to solve the root cause of the issue.
URL:https://kolkatatheatre.com/event/shilpi-sanghas-baghnakh-at-madhusudan/
LOCATION:Madhusudan Mancha\, Gariahat Rd S\, Jodhpur Park\,\, Kolkata\, West Bengal\, 700031\, India
CATEGORIES:Theatre
END:VEVENT
BEGIN:VEVENT
DTSTART;TZID=Asia/Kolkata:20250829T183000
DTEND;TZID=Asia/Kolkata:20250829T203000
DTSTAMP:20260421T171154
CREATED:20250824T152817Z
LAST-MODIFIED:20250824T152817Z
UID:13812-1756492200-1756499400@kolkatatheatre.com
SUMMARY:Theatre House (Santiniketan)'s Antigone\, at Rabindra Bhaban (Baranagar)
DESCRIPTION:A bilingual contemporization of Sophocles’ classic set in a violent modern metropolis\, directed by Alessandro Anil in English and Bengali.
URL:https://kolkatatheatre.com/event/theatre-house-santiniketans-antigone-at-rabindra-bhaban-baranagar/
LOCATION:Rabindra Bhaban\, Baranagar\, Kolkata\, India
CATEGORIES:Theatre
END:VEVENT
BEGIN:VEVENT
DTSTART;TZID=Asia/Kolkata:20250830T183000
DTEND;TZID=Asia/Kolkata:20250830T203000
DTSTAMP:20260421T171154
CREATED:20250824T144948Z
LAST-MODIFIED:20250824T144948Z
UID:13801-1756578600-1756585800@kolkatatheatre.com
SUMMARY:Sudrak’s Shikh ^kha Jatir Merudanda\, at Madhusudan
DESCRIPTION:Sudrak’s so-called “uneducated” satire on education written and directed by Debasis Majumdar. Read my review.
URL:https://kolkatatheatre.com/event/sudraks-shikh-kha-jatir-merudanda-at-madhusudan/
LOCATION:Madhusudan Mancha\, Gariahat Rd S\, Jodhpur Park\,\, Kolkata\, West Bengal\, 700031\, India
CATEGORIES:Theatre
END:VEVENT
BEGIN:VEVENT
DTSTART;TZID=Asia/Kolkata:20250830T183000
DTEND;TZID=Asia/Kolkata:20250830T203000
DTSTAMP:20260421T171154
CREATED:20250824T145435Z
LAST-MODIFIED:20250824T145435Z
UID:13806-1756578600-1756585800@kolkatatheatre.com
SUMMARY:Theatre Workshop’s Agnishajya\, at Academy
DESCRIPTION:Utpal Dutt’s historical play about Ram Mohun Roy’s anti-sati activism\, revived and directed by Ashok Mukhopadhyay.
URL:https://kolkatatheatre.com/event/theatre-workshops-agnishajya-at-academy/
LOCATION:Academy of Fine Arts\, 2\, Cathedral Rd\, Maidan\, Kolkata\, West Bengal 700020\, Kolkata\, West Bengal\, 700071\, India
CATEGORIES:Theatre
END:VEVENT
BEGIN:VEVENT
DTSTART;TZID=Asia/Kolkata:20250830T183000
DTEND;TZID=Asia/Kolkata:20250830T204000
DTSTAMP:20260421T171154
CREATED:20250824T145225Z
LAST-MODIFIED:20250824T145225Z
UID:13804-1756578600-1756586400@kolkatatheatre.com
SUMMARY:Nirbak’s Saodagarer Nauka\, at Tapan
DESCRIPTION:Revival of Ajitesh Bandopadhyay’s drama about the crisis of identity and relevance of a Jatra artiste. Directed by Ashok Mukhopadhyay.
URL:https://kolkatatheatre.com/event/nirbaks-saodagarer-nauka-at-tapan/
LOCATION:Madhusudan Mancha\, Gariahat Rd S\, Jodhpur Park\,\, Kolkata\, West Bengal\, 700031\, India
CATEGORIES:Theatre
END:VEVENT
BEGIN:VEVENT
DTSTART;TZID=Asia/Kolkata:20250831T183000
DTEND;TZID=Asia/Kolkata:20250831T203000
DTSTAMP:20260421T171154
CREATED:20250824T150354Z
LAST-MODIFIED:20250824T150354Z
UID:13808-1756665000-1756672200@kolkatatheatre.com
SUMMARY:Ashokenagar Nattyamukh's Shakespeare Must Die\, at Madhusudan
DESCRIPTION:Sharanya Dey’s new play in Bengali directed by Avi Chakraborty\, on the occasion of Nattyamukh’s completion of 25 years.
URL:https://kolkatatheatre.com/event/ashokenagar-nattyamukhs-shakespeare-must-die-at-madhusudan/
LOCATION:Madhusudan Mancha\, Gariahat Rd S\, Jodhpur Park\,\, Kolkata\, West Bengal\, 700031\, India
CATEGORIES:Theatre
END:VEVENT
BEGIN:VEVENT
DTSTART;TZID=Asia/Kolkata:20250901T183000
DTEND;TZID=Asia/Kolkata:20250901T203000
DTSTAMP:20260421T171154
CREATED:20250824T151641Z
LAST-MODIFIED:20250824T151641Z
UID:13810-1756751400-1756758600@kolkatatheatre.com
SUMMARY:Ashokenagar Nattyamukh's Vemular Ramayan\, at Sisir Mancha
DESCRIPTION:Anshuman Kar’s play juxtaposes Rohit Vemula and Shambuka of the Ramayana\, who was killed as he began a rigorous tapasya considered the exclusive right of Brahmins. It dramatizes the events that motivated Shambuka to choose tapasya as his form of protest and places alongside Vemula’s suicide note\, unravelling the incidents that led to his decision. Directed by Avi Chakraborty.
URL:https://kolkatatheatre.com/event/ashokenagar-nattyamukhs-vemular-ramayan-at-sisir-mancha/
LOCATION:Sisir Mancha\, 1/1 A J C Bose Road\, Kolkata
CATEGORIES:Theatre
END:VEVENT
BEGIN:VEVENT
DTSTART;TZID=Asia/Kolkata:20250906T180000
DTEND;TZID=Asia/Kolkata:20250906T200000
DTSTAMP:20260421T171154
CREATED:20250902T150839Z
LAST-MODIFIED:20250902T150839Z
UID:13822-1757181600-1757188800@kolkatatheatre.com
SUMMARY:Durgapur Bhimroti’s Prati-prashna\, at Tapan
DESCRIPTION:Based on the Netflix webseries Criminal\, exploring the scars of sexual harassment in the context of an unresolved police interrogation. Adapted and directed by Dipankar Sen.
URL:https://kolkatatheatre.com/event/durgapur-bhimrotis-prati-prashna-at-tapan-3/
LOCATION:Tapan Theatre\, Kalighat
CATEGORIES:Theatre
END:VEVENT
BEGIN:VEVENT
DTSTART;TZID=Asia/Kolkata:20250907T183000
DTEND;TZID=Asia/Kolkata:20250907T203000
DTSTAMP:20260421T171154
CREATED:20250905T084838Z
LAST-MODIFIED:20250905T084838Z
UID:13825-1757269800-1757277000@kolkatatheatre.com
SUMMARY:Studio 9’s My Name Is Jaan\, at Birla Sabhagar
DESCRIPTION:Arpita Chatterjee’s solo musical on Gauhar Jan\, directed by Abanti Chakraborty. Read my review.
URL:https://kolkatatheatre.com/event/studio-9s-my-name-is-jaan-at-birla-sabhagar-4/
LOCATION:G D Birla Sabhagar\, 29 Ashutosh Chowdhury Avenue\, Kolkata\, 700019
CATEGORIES:Theatre
END:VEVENT
BEGIN:VEVENT
DTSTART;TZID=Asia/Kolkata:20250911T183000
DTEND;TZID=Asia/Kolkata:20250911T203000
DTSTAMP:20260421T171154
CREATED:20250907T132843Z
LAST-MODIFIED:20250907T132843Z
UID:13827-1757615400-1757622600@kolkatatheatre.com
SUMMARY:Sayak’s Dharmabatar\, at Academy
DESCRIPTION:Ujjwal Chattopadhyay’s play inspired by the American film The Judge (2014) about the personal conflict between a retired judge and his son who defends criminals. Directed by Meghnad Bhattacharya.
URL:https://kolkatatheatre.com/event/sayaks-dharmabatar-at-academy-6/
LOCATION:Academy of Fine Arts\, 2\, Cathedral Rd\, Maidan\, Kolkata\, West Bengal 700020\, Kolkata\, West Bengal\, 700071\, India
CATEGORIES:Theatre
END:VEVENT
BEGIN:VEVENT
DTSTART;TZID=Asia/Kolkata:20250912T183000
DTEND;TZID=Asia/Kolkata:20250912T203000
DTSTAMP:20260421T171154
CREATED:20250907T134315Z
LAST-MODIFIED:20250907T134315Z
UID:13829-1757701800-1757709000@kolkatatheatre.com
SUMMARY:Jadavpur Manthan's Ramanujan\, at Aban Mahal
DESCRIPTION:A retelling of the life of Srinivasa Iyengar Ramanujan from the humble town of Kumbakonam to the hallowed halls of Cambridge. The dramatis personae include devout and determined mother\, Kamallatammal\, who introduced him to the world of classical Indian mathematics; his young wife Janaki\, whose loneliness\, sacrifices and silent suffering form a backdrop to his spiritual quest and scientific ascent; and G. H. Hardy\, the English mathematician who receives a letter filled with unconventional theorems and identities\, intrigued and awestruck by which he becomes Ramanujan’s academic collaborator. Written and directed by Rajib Bardhan.
URL:https://kolkatatheatre.com/event/jadavpur-manthans-ramanujan-at-aban-mahal/
LOCATION:CLT Aban Mahal\, 90 Kankulia\, Gariahat Road\, Kolkata\, India
CATEGORIES:Theatre
END:VEVENT
BEGIN:VEVENT
DTSTART;TZID=Asia/Kolkata:20250913T183000
DTEND;TZID=Asia/Kolkata:20250913T203000
DTSTAMP:20260421T171154
CREATED:20250911T071122Z
LAST-MODIFIED:20250911T071122Z
UID:13833-1757788200-1757795400@kolkatatheatre.com
SUMMARY:Rage (Mumbai)'s The Siddhus of Upper Juhu\, at Birla Sabhagar
DESCRIPTION:Rage’s old production with Rajit Kapur and Shernaz Patel\, an Indianization of Neil Simon’s Prisoner of Second Avenue (unacknowledged in the credits). Presented by Anamika Kala Sangam. \nRead my review.
URL:https://kolkatatheatre.com/event/rage-mumbais-the-siddhus-of-upper-juhu-at-birla-sabhagar/
LOCATION:G D Birla Sabhagar\, 29 Ashutosh Chowdhury Avenue\, Kolkata\, 700019
CATEGORIES:Theatre
END:VEVENT
BEGIN:VEVENT
DTSTART;TZID=Asia/Kolkata:20250913T193000
DTEND;TZID=Asia/Kolkata:20250913T210000
DTSTAMP:20260421T171154
CREATED:20250911T073008Z
LAST-MODIFIED:20250911T073008Z
UID:13835-1757791800-1757797200@kolkatatheatre.com
SUMMARY:4th Bell’s Hapi-D\, at Tapan
DESCRIPTION:An ebullient Bengali pastiche of Hamlet. 4th Bell debuted in 2011 with this play\, deliberately and delectably perverting Shakespeare’s tragedy into a festive comedy written and directed by Aniruddha Dasgupta. \nRecommended: ★★★★.
URL:https://kolkatatheatre.com/event/4th-bells-hapi-d-at-tapan/
LOCATION:Tapan Theatre\, Kalighat
CATEGORIES:Theatre
END:VEVENT
BEGIN:VEVENT
DTSTART;TZID=Asia/Kolkata:20250917T183000
DTEND;TZID=Asia/Kolkata:20250917T203000
DTSTAMP:20260421T171154
CREATED:20250913T083313Z
LAST-MODIFIED:20250913T083313Z
UID:13841-1758133800-1758141000@kolkatatheatre.com
SUMMARY:Chetana's Meghe Dhaka Ghatak\, at Academy
DESCRIPTION:Marking Ritwik Ghatak’s birth centenary\, this biodrama by Jeet Satragni\, unlike the usual portrayal of Ghatak as an unwavering and fearless rebel\, delicately explores his early years as a romantic and passionate lover of art. It traces his journey towards a stable career in cinema after marrying his muse\, Surama\, and his time in Bombay before returning to Kolkata to create his filmic masterpieces\, through dialogues with his crafted characters. It sheds light on the real reasons behind his dissatisfaction and struggles with alcoholism and highlights the sacrifices of Surama in their time together. Directed by Sujan Mukhopadhyay.
URL:https://kolkatatheatre.com/event/chetanas-meghe-dhaka-ghatak-at-academy/
LOCATION:Academy of Fine Arts\, 2\, Cathedral Rd\, Maidan\, Kolkata\, West Bengal 700020\, Kolkata\, West Bengal\, 700071\, India
CATEGORIES:Theatre
END:VEVENT
BEGIN:VEVENT
DTSTART;TZID=Asia/Kolkata:20250918T183000
DTEND;TZID=Asia/Kolkata:20250918T204000
DTSTAMP:20260421T171154
CREATED:20250913T083637Z
LAST-MODIFIED:20250913T083637Z
UID:13843-1758220200-1758228000@kolkatatheatre.com
SUMMARY:Nandipat’s Chandrabati Katha\, at Academy
DESCRIPTION:Ujjwal Chattopadhyay’s play about Chandrabati\, the 16th-century poet who composed the first Bangla Ramayan from the perspective of Sita\, as well as parts of the Maimansingha Gitika. Directed by Prokash Bhattacharya.
URL:https://kolkatatheatre.com/event/nandipats-chandrabati-katha-at-academy-4/
LOCATION:Academy of Fine Arts\, 2\, Cathedral Rd\, Maidan\, Kolkata\, West Bengal 700020\, Kolkata\, West Bengal\, 700071\, India
CATEGORIES:Theatre
END:VEVENT
BEGIN:VEVENT
DTSTART;TZID=Asia/Kolkata:20250919T183000
DTEND;TZID=Asia/Kolkata:20250919T203000
DTSTAMP:20260421T171154
CREATED:20250913T084036Z
LAST-MODIFIED:20250913T084036Z
UID:13845-1758306600-1758313800@kolkatatheatre.com
SUMMARY:Sanglap Kolkata’s Hulusthul\, at Academy
DESCRIPTION:Dramatized from Shirshendu Mukhopadhyay’s Ek Āshcharja Pheriwālā by Kuntal Mukhopadhyay and directed by Debasish. A mysterious hawker sells seemingly useless things\, which evil people conspire to capture\, while an eccentric scientist pursues his thirst for knowledge\, \nRecommended: ★★★★. Read my review.
URL:https://kolkatatheatre.com/event/sanglap-kolkatas-hulusthul-at-academy-6/
LOCATION:Academy of Fine Arts\, 2\, Cathedral Rd\, Maidan\, Kolkata\, West Bengal 700020\, Kolkata\, West Bengal\, 700071\, India
CATEGORIES:Theatre
END:VEVENT
BEGIN:VEVENT
DTSTART;TZID=Asia/Kolkata:20250920T150000
DTEND;TZID=Asia/Kolkata:20250920T170000
DTSTAMP:20260421T171154
CREATED:20250917T152755Z
LAST-MODIFIED:20250917T153046Z
UID:13847-1758380400-1758387600@kolkatatheatre.com
SUMMARY:Kalyani Natyacharcha Kendra's Nim Amrita\, at Academy
DESCRIPTION:Adapted from Somerset Maugham’s play on euthanasia\, The Sacred Flame\, by Bhaskar Lahiri and directed by Kishore Sengupta.
URL:https://kolkatatheatre.com/event/kalyani-natyacharcha-kendras-nim-amrita-at-academy-2/
LOCATION:Academy of Fine Arts\, 2\, Cathedral Rd\, Maidan\, Kolkata\, West Bengal 700020\, Kolkata\, West Bengal\, 700071\, India
CATEGORIES:Theatre
END:VEVENT
BEGIN:VEVENT
DTSTART;TZID=Asia/Kolkata:20250920T180000
DTEND;TZID=Asia/Kolkata:20250920T200000
DTSTAMP:20260421T171154
CREATED:20250917T153357Z
LAST-MODIFIED:20250917T153357Z
UID:13850-1758391200-1758398400@kolkatatheatre.com
SUMMARY:Pancham Vaidic’s Rajnaitik Hatya?\, at Madhusudan
DESCRIPTION:Revived production based on Jean-Paul Sartre’s Crime Passionnel about a Communist plot of political assassination\, adapted into Bengali and directed by Arpita Ghosh.
URL:https://kolkatatheatre.com/event/pancham-vaidics-rajnaitik-hatya-at-madhusudan/
LOCATION:Madhusudan Mancha\, Gariahat Rd S\, Jodhpur Park\,\, Kolkata\, West Bengal\, 700031\, India
CATEGORIES:Theatre
END:VEVENT
END:VCALENDAR