BEGIN:VCALENDAR
VERSION:2.0
PRODID:-//KolkataTheatre.com - ECPv6.15.12.2//NONSGML v1.0//EN
CALSCALE:GREGORIAN
METHOD:PUBLISH
X-WR-CALNAME:KolkataTheatre.com
X-ORIGINAL-URL:https://kolkatatheatre.com
X-WR-CALDESC:Events for KolkataTheatre.com
REFRESH-INTERVAL;VALUE=DURATION:PT1H
X-Robots-Tag:noindex
X-PUBLISHED-TTL:PT1H
BEGIN:VTIMEZONE
TZID:Asia/Kolkata
BEGIN:STANDARD
TZOFFSETFROM:+0530
TZOFFSETTO:+0530
TZNAME:IST
DTSTART:20240101T000000
END:STANDARD
END:VTIMEZONE
BEGIN:VEVENT
DTSTART;TZID=Asia/Kolkata:20250503T183000
DTEND;TZID=Asia/Kolkata:20250503T203000
DTSTAMP:20260422T075107
CREATED:20250501T111601Z
LAST-MODIFIED:20250501T111601Z
UID:13491-1746297000-1746304200@kolkatatheatre.com
SUMMARY:Nandipat’s Ballabhpurer Rupkatha\, at Jogesh Mime
DESCRIPTION:Badal Sircar’s mysterious comedy directed by Prokash Bhattacharya.
URL:https://kolkatatheatre.com/event/nandipats-ballabhpurer-rupkatha-at-jogesh-mime/
LOCATION:Jogesh Mime Academy\, Kalighat Park\, Kolkata\, India
CATEGORIES:Theatre
END:VEVENT
BEGIN:VEVENT
DTSTART;TZID=Asia/Kolkata:20250503T183000
DTEND;TZID=Asia/Kolkata:20250503T203000
DTSTAMP:20260422T075107
CREATED:20250501T111054Z
LAST-MODIFIED:20250501T111054Z
UID:13489-1746297000-1746304200@kolkatatheatre.com
SUMMARY:Sayak's Damini-he\, at Auro Town Hall
DESCRIPTION:Revival of Sayak’s production dramatized by Chandan Sen from Amar Mitra’s short story “Akal”. In a poor\, remote backwater\, the young Damini serves virtually as a caregiver to three generations of ineffectual\, doddering men: she wangles government dole for them\, using her charm to achieve her ends while keeping her dignity. The apparently social drama reaches symbolical heights. \nRecommended: ★★★★.
URL:https://kolkatatheatre.com/event/sayaks-damini-he-at-auro-town-hall/
LOCATION:Auro Town Hall\, Dum Dum Cantonment\, Kolkata\, India
CATEGORIES:Theatre
END:VEVENT
BEGIN:VEVENT
DTSTART;TZID=Asia/Kolkata:20250503T150000
DTEND;TZID=Asia/Kolkata:20250503T170000
DTSTAMP:20260422T075107
CREATED:20250501T111846Z
LAST-MODIFIED:20250501T111846Z
UID:13493-1746284400-1746291600@kolkatatheatre.com
SUMMARY:Rangroop’s Manmayi Girls School\, at Academy
DESCRIPTION:The highly popular 1932 play written by Rabindranath Maitra\, directed by Sima Mukhopadhyay. \nRecommended: ★★★★ Read my review here.
URL:https://kolkatatheatre.com/event/rangroops-manmayi-girls-school-at-academy-8/
LOCATION:Academy of Fine Arts\, 2\, Cathedral Rd\, Maidan\, Kolkata\, West Bengal 700020\, Kolkata\, West Bengal\, 700071\, India
CATEGORIES:Theatre
END:VEVENT
BEGIN:VEVENT
DTSTART;TZID=Asia/Kolkata:20250502T183000
DTEND;TZID=Asia/Kolkata:20250502T203000
DTSTAMP:20260422T075107
CREATED:20250427T101543Z
LAST-MODIFIED:20250427T101543Z
UID:13486-1746210600-1746217800@kolkatatheatre.com
SUMMARY:Sayak’s Atmajan\, at Auro Town Hall
DESCRIPTION:Directed by Meghnad Bhattacharya and written by Ujjwal Chattopadhyay\, about a man who dutifully takes care of his ailing father but in doing so risks alienating his wife.
URL:https://kolkatatheatre.com/event/sayaks-atmajan-at-auro-town-hall/
LOCATION:Auro Town Hall\, Dum Dum Cantonment\, Kolkata\, India
CATEGORIES:Theatre
END:VEVENT
BEGIN:VEVENT
DTSTART;TZID=Asia/Kolkata:20250501T183000
DTEND;TZID=Asia/Kolkata:20250501T203000
DTSTAMP:20260422T075107
CREATED:20250427T100926Z
LAST-MODIFIED:20250427T100926Z
UID:13482-1746124200-1746131400@kolkatatheatre.com
SUMMARY:Sayak’s Dharmabatar\, at Auro Town Hall
DESCRIPTION:Ujjwal Chattopadhyay’s play inspired by a foreign film about the personal conflict between a retired judge and his son who defends criminals. Directed by Meghnad Bhattacharya.
URL:https://kolkatatheatre.com/event/sayaks-dharmabatar-at-auro-town-hall/
LOCATION:Auro Town Hall\, Dum Dum Cantonment\, Kolkata\, India
CATEGORIES:Theatre
END:VEVENT
BEGIN:VEVENT
DTSTART;TZID=Asia/Kolkata:20250429T183000
DTEND;TZID=Asia/Kolkata:20250429T210000
DTSTAMP:20260422T075107
CREATED:20250427T095500Z
LAST-MODIFIED:20250427T101100Z
UID:13479-1745951400-1745960400@kolkatatheatre.com
SUMMARY:Mukhomukhi’s Tiner Taloyar\, at Academy
DESCRIPTION:Utpal Dutt’s classic play\, directed by Suman Mukhopadhyay. \nRecommended: ★★★★ Read my review.
URL:https://kolkatatheatre.com/event/mukhomukhis-tiner-taloyar-at-academy-6/
LOCATION:Academy of Fine Arts\, 2\, Cathedral Rd\, Maidan\, Kolkata\, West Bengal 700020\, Kolkata\, West Bengal\, 700071\, India
CATEGORIES:Theatre
END:VEVENT
BEGIN:VEVENT
DTSTART;TZID=Asia/Kolkata:20250427T150000
DTEND;TZID=Asia/Kolkata:20250427T170000
DTSTAMP:20260422T075107
CREATED:20250422T185454Z
LAST-MODIFIED:20250422T185454Z
UID:13474-1745766000-1745773200@kolkatatheatre.com
SUMMARY:Nandikar’s Rani Kadambini\, at Academy
DESCRIPTION:Narayan Sanyal’s Rāni Kādambini\, dramatized by Swatilekha Sengupta and directed by Sohini Sengupta\, about Kadambini Ganguly’s achievements as one of the first two Indian women to graduate (1882) and earn a medical degree (1886). \nRecommended: ★★★★ Read my review here.
URL:https://kolkatatheatre.com/event/nandikars-rani-kadambini-at-academy-2/
LOCATION:Academy of Fine Arts\, 2\, Cathedral Rd\, Maidan\, Kolkata\, West Bengal 700020\, Kolkata\, West Bengal\, 700071\, India
CATEGORIES:Theatre
END:VEVENT
BEGIN:VEVENT
DTSTART;TZID=Asia/Kolkata:20250422T183000
DTEND;TZID=Asia/Kolkata:20250422T210000
DTSTAMP:20260422T075107
CREATED:20250420T102822Z
LAST-MODIFIED:20250420T102822Z
UID:13470-1745346600-1745355600@kolkatatheatre.com
SUMMARY:Aneek’s Aksharik\, at Academy
DESCRIPTION:Dramatist-director Debasish’s biodrama about Panchanan Karmakar\, the first creator of Bengali moveable typeface in the 18th century\, based on Rajat Chakraborti’s novel Panchananer Haraph. \nRecommended: ★★★★ Read my review.
URL:https://kolkatatheatre.com/event/aneeks-aksharik-at-academy-5/
LOCATION:Academy of Fine Arts\, 2\, Cathedral Rd\, Maidan\, Kolkata\, West Bengal 700020\, Kolkata\, West Bengal\, 700071\, India
CATEGORIES:Theatre
END:VEVENT
BEGIN:VEVENT
DTSTART;TZID=Asia/Kolkata:20250421T183000
DTEND;TZID=Asia/Kolkata:20250421T203000
DTSTAMP:20260422T075107
CREATED:20250419T132059Z
LAST-MODIFIED:20250419T132059Z
UID:13468-1745260200-1745267400@kolkatatheatre.com
SUMMARY:Renaissance's Toba Tek Singh\, at Academy
DESCRIPTION:Saadat Hasan Manto’s classic story dramatized and expanded by Rajesh Kumar and directed by Aloke Chakravorty in Hindi.
URL:https://kolkatatheatre.com/event/renaissances-toba-tek-singh-at-academy/
LOCATION:Academy of Fine Arts\, 2\, Cathedral Rd\, Maidan\, Kolkata\, West Bengal 700020\, Kolkata\, West Bengal\, 700071\, India
CATEGORIES:Theatre
END:VEVENT
BEGIN:VEVENT
DTSTART;TZID=Asia/Kolkata:20250420T183000
DTEND;TZID=Asia/Kolkata:20250420T203000
DTSTAMP:20260422T075107
CREATED:20250419T131512Z
LAST-MODIFIED:20250419T131512Z
UID:13466-1745173800-1745181000@kolkatatheatre.com
SUMMARY:Anya Theatre's Caretaker\, at Gyan Manch
DESCRIPTION:Harold Pinter’s early drama translated into Bengali and directed by Arindam Mukherjee.
URL:https://kolkatatheatre.com/event/anya-theatres-caretaker-at-gyan-manch/
LOCATION:Gyan Manch\, Gyan Manch\, 11\, Pretoria St\, Kolkata\, West Bengal\, 700071\, India
CATEGORIES:Theatre
END:VEVENT
BEGIN:VEVENT
DTSTART;TZID=Asia/Kolkata:20250420T150000
DTEND;TZID=Asia/Kolkata:20250420T170000
DTSTAMP:20260422T075107
CREATED:20250415T185628Z
LAST-MODIFIED:20250415T185628Z
UID:13461-1745161200-1745168400@kolkatatheatre.com
SUMMARY:Alaap’s Agun\, at Academy
DESCRIPTION:An original romantic play commemorating the liberation of Bangladesh in 1971\, written by Rakesh Ghosh and directed by Parthapratim Deb. \nRecommended: ★★★★ Read my review.
URL:https://kolkatatheatre.com/event/alaaps-agun-at-academy/
LOCATION:Academy of Fine Arts\, 2\, Cathedral Rd\, Maidan\, Kolkata\, West Bengal 700020\, Kolkata\, West Bengal\, 700071\, India
CATEGORIES:Theatre
END:VEVENT
BEGIN:VEVENT
DTSTART;TZID=Asia/Kolkata:20250419T190000
DTEND;TZID=Asia/Kolkata:20250419T203000
DTSTAMP:20260422T075107
CREATED:20250415T184942Z
LAST-MODIFIED:20250415T184942Z
UID:13459-1745089200-1745094600@kolkatatheatre.com
SUMMARY:Shishikshu’s Jara Brishtite Bhijechhilo\, at Madhusudan
DESCRIPTION:Revival of the production featuring poetic text by Joy Goswami\, direction by Gautam Halder and solo enactment by Bijoylakshmi Barman.
URL:https://kolkatatheatre.com/event/shishikshus-jara-brishtite-bhijechhilo-at-madhusudan-2/
LOCATION:Madhusudan Mancha\, Gariahat Rd S\, Jodhpur Park\,\, Kolkata\, West Bengal\, 700031\, India
CATEGORIES:Theatre
END:VEVENT
BEGIN:VEVENT
DTSTART;TZID=Asia/Kolkata:20250415T183000
DTEND;TZID=Asia/Kolkata:20250415T203000
DTSTAMP:20260422T075107
CREATED:20250413T094953Z
LAST-MODIFIED:20250413T094953Z
UID:13454-1744741800-1744749000@kolkatatheatre.com
SUMMARY:Dwitiya Satta’s Na Tor Janya\, at Tapan
DESCRIPTION:Written and directed by Suman Sengupta\, a portrayal of the dilemma of an accomplished commercial artist who sells out to the ruthless and competitive contemporary ratrace.
URL:https://kolkatatheatre.com/event/dwitiya-sattas-na-tor-janya-at-tapan-2/
LOCATION:Tapan Theatre\, Kalighat
CATEGORIES:Theatre
END:VEVENT
BEGIN:VEVENT
DTSTART;TZID=Asia/Kolkata:20250415T150000
DTEND;TZID=Asia/Kolkata:20250415T170000
DTSTAMP:20260422T075107
CREATED:20250413T095348Z
LAST-MODIFIED:20250413T095348Z
UID:13456-1744729200-1744736400@kolkatatheatre.com
SUMMARY:Sudrak’s Shikh ^kha Jatir Merudanda\, at Academy
DESCRIPTION:Sudrak’s new\, so-called “uneducated” satire on education written and directed by Debasis Majumdar. Read my review.
URL:https://kolkatatheatre.com/event/sudraks-shikh-kha-jatir-merudanda-at-academy-8/
LOCATION:Academy of Fine Arts\, 2\, Cathedral Rd\, Maidan\, Kolkata\, West Bengal 700020\, Kolkata\, West Bengal\, 700071\, India
CATEGORIES:Theatre
END:VEVENT
BEGIN:VEVENT
DTSTART;TZID=Asia/Kolkata:20250414T150000
DTEND;TZID=Asia/Kolkata:20250414T170000
DTSTAMP:20260422T075107
CREATED:20250413T094620Z
LAST-MODIFIED:20250413T094620Z
UID:13452-1744642800-1744650000@kolkatatheatre.com
SUMMARY:Chetana’s Marich Sambad\, at Academy
DESCRIPTION:Revival of Chetana’s classic production\, written and directed by Arun Mukhopadhyay.
URL:https://kolkatatheatre.com/event/chetanas-marich-sambad-at-academy-5/
LOCATION:Academy of Fine Arts\, 2\, Cathedral Rd\, Maidan\, Kolkata\, West Bengal 700020\, Kolkata\, West Bengal\, 700071\, India
CATEGORIES:Theatre
END:VEVENT
BEGIN:VEVENT
DTSTART;TZID=Asia/Kolkata:20250413T183000
DTEND;TZID=Asia/Kolkata:20250413T210000
DTSTAMP:20260422T075107
CREATED:20250411T160116Z
LAST-MODIFIED:20250411T160116Z
UID:13448-1744569000-1744578000@kolkatatheatre.com
SUMMARY:Mukhomukhi’s Tiner Taloyar\, at Sarat Sadan
DESCRIPTION:Utpal Dutt’s classic play\, directed by Suman Mukhopadhyay. Recommended: ★★★★
URL:https://kolkatatheatre.com/event/mukhomukhis-tiner-taloyar-at-sarat-sadan/
LOCATION:Sarat Sadan\, Behala\, Kolkata\, India
CATEGORIES:Theatre
END:VEVENT
BEGIN:VEVENT
DTSTART;TZID=Asia/Kolkata:20250413T183000
DTEND;TZID=Asia/Kolkata:20250413T203000
DTSTAMP:20260422T075107
CREATED:20250412T131610Z
LAST-MODIFIED:20250412T131610Z
UID:13450-1744569000-1744576200@kolkatatheatre.com
SUMMARY:Rangakarmee’s Chanda Bedni\, at Madhusudan
DESCRIPTION:At the prestigious META 2025\, this production directed by Anirudh Sarkar received the awards for Best Ensemble\, Best Lighting (Badal Das)\, Best Female Actor (Ranjini Ghosh) and Best Choreography (Subhojiet Guha and Madhumita Chakraborty). Written by the late Alakhnandan Sinha in Bundeli dialect around 1990\, the play protests against rural oppression.
URL:https://kolkatatheatre.com/event/rangakarmees-chanda-bedni-at-madhusudan/
LOCATION:Madhusudan Mancha\, Gariahat Rd S\, Jodhpur Park\,\, Kolkata\, West Bengal\, 700031\, India
CATEGORIES:Theatre
END:VEVENT
BEGIN:VEVENT
DTSTART;TZID=Asia/Kolkata:20250413T103000
DTEND;TZID=Asia/Kolkata:20250413T130000
DTSTAMP:20260422T075107
CREATED:20250411T155130Z
LAST-MODIFIED:20250411T155130Z
UID:13446-1744540200-1744549200@kolkatatheatre.com
SUMMARY:Nandikar’s Panchajanya\, at Academy
DESCRIPTION:A play written by Parthapratim Deb dramatizing the story of Krishna\, directed by Sohini Sengupta.
URL:https://kolkatatheatre.com/event/nandikars-panchajanya-at-academy/
LOCATION:Academy of Fine Arts\, 2\, Cathedral Rd\, Maidan\, Kolkata\, West Bengal 700020\, Kolkata\, West Bengal\, 700071\, India
CATEGORIES:Theatre
END:VEVENT
BEGIN:VEVENT
DTSTART;TZID=Asia/Kolkata:20250412T183000
DTEND;TZID=Asia/Kolkata:20250412T210000
DTSTAMP:20260422T075107
CREATED:20250411T154728Z
LAST-MODIFIED:20250411T154728Z
UID:13444-1744482600-1744491600@kolkatatheatre.com
SUMMARY:Mukhomukhi’s Tiner Taloyar\, at Academy
DESCRIPTION:Utpal Dutt’s classic play\, directed by Suman Mukhopadhyay. Recommended: ★★★★
URL:https://kolkatatheatre.com/event/mukhomukhis-tiner-taloyar-at-academy-5/
LOCATION:Academy of Fine Arts\, 2\, Cathedral Rd\, Maidan\, Kolkata\, West Bengal 700020\, Kolkata\, West Bengal\, 700071\, India
CATEGORIES:Theatre
END:VEVENT
BEGIN:VEVENT
DTSTART;TZID=Asia/Kolkata:20250411T180000
DTEND;TZID=Asia/Kolkata:20250411T210000
DTSTAMP:20260422T075107
CREATED:20250406T132159Z
LAST-MODIFIED:20250406T132159Z
UID:13439-1744394400-1744405200@kolkatatheatre.com
SUMMARY:Mukhomukhi and Tritiyo Sutra’s Mephisto\, at Academy
DESCRIPTION:Revival of their 2002 production. Based on Ariane Mnouchkine’s dramatization of Klaus Mann’s novel on the Nazi co-option of artists\, translated and directed by Suman Mukhopadhyay. Recommended: ★★★★
URL:https://kolkatatheatre.com/event/mukhomukhi-and-tritiyo-sutras-mephisto-at-academy-2/
LOCATION:Academy of Fine Arts\, 2\, Cathedral Rd\, Maidan\, Kolkata\, West Bengal 700020\, Kolkata\, West Bengal\, 700071\, India
CATEGORIES:Theatre
END:VEVENT
BEGIN:VEVENT
DTSTART;TZID=Asia/Kolkata:20250410T190000
DTEND;TZID=Asia/Kolkata:20250410T210000
DTSTAMP:20260422T075107
CREATED:20250406T133610Z
LAST-MODIFIED:20250406T133610Z
UID:13441-1744311600-1744318800@kolkatatheatre.com
SUMMARY:Theatrecian's Verdict\, at Gyan Manch
DESCRIPTION:Based on Agatha Christie’s drama about a murder and directed by Aaron Targain\, in English.
URL:https://kolkatatheatre.com/event/theatrecians-verdict-at-gyan-manch/
LOCATION:Gyan Manch\, Gyan Manch\, 11\, Pretoria St\, Kolkata\, West Bengal\, 700071\, India
CATEGORIES:Theatre
END:VEVENT
BEGIN:VEVENT
DTSTART;TZID=Asia/Kolkata:20250409T183000
DTEND;TZID=Asia/Kolkata:20250409T203000
DTSTAMP:20260422T075107
CREATED:20250406T131637Z
LAST-MODIFIED:20250406T131637Z
UID:13437-1744223400-1744230600@kolkatatheatre.com
SUMMARY:Nandipat’s Chandrabati Katha\, at Tapan
DESCRIPTION:Ujjwal Chattopadhyay’s play about Chandrabati\, the 16th-century poet who composed the first Bangla Ramayan from the perspective of Sita\, as well as parts of the Maimansingha Gitika. Directed by Prokash Bhattacharya.
URL:https://kolkatatheatre.com/event/nandipats-chandrabati-katha-at-tapan/
LOCATION:Tapan Theatre\, Kalighat
CATEGORIES:Theatre
END:VEVENT
BEGIN:VEVENT
DTSTART;TZID=Asia/Kolkata:20250407T183000
DTEND;TZID=Asia/Kolkata:20250407T203000
DTSTAMP:20260422T075107
CREATED:20250404T153933Z
LAST-MODIFIED:20250404T153933Z
UID:13435-1744050600-1744057800@kolkatatheatre.com
SUMMARY:Arohee's Dhanapatir Char\, at Academy
DESCRIPTION:Amar Mitra’s novel chronicling a year in the life of an estuarine island\, mixing realism with the myth of a sea turtle\, dramatized and directed by Ranjan Ray.
URL:https://kolkatatheatre.com/event/arohees-dhanapatir-char-at-academy/
LOCATION:Academy of Fine Arts\, 2\, Cathedral Rd\, Maidan\, Kolkata\, West Bengal 700020\, Kolkata\, West Bengal\, 700071\, India
CATEGORIES:Theatre
END:VEVENT
BEGIN:VEVENT
DTSTART;TZID=Asia/Kolkata:20250406T183000
DTEND;TZID=Asia/Kolkata:20250406T203000
DTSTAMP:20260422T075107
CREATED:20250403T112634Z
LAST-MODIFIED:20250403T112634Z
UID:13430-1743964200-1743971400@kolkatatheatre.com
SUMMARY:Natasena’s Gorur Garir Headlight\, at Rabindra Sadan
DESCRIPTION:The record-breaking comedy that has had an uninterrupted run since 1972\, with over 1200 performances. Written and directed by the late Saroj Ray for his own group Natasena.
URL:https://kolkatatheatre.com/event/natasenas-gorur-garir-headlight-at-rabindra-sadan/
LOCATION:Rabindra Sadan\, Cathedral Road\, Kolkata\, 700016
CATEGORIES:Theatre
END:VEVENT
BEGIN:VEVENT
DTSTART;TZID=Asia/Kolkata:20250406T183000
DTEND;TZID=Asia/Kolkata:20250406T203000
DTSTAMP:20260422T075107
CREATED:20250403T112310Z
LAST-MODIFIED:20250403T112310Z
UID:13428-1743964200-1743971400@kolkatatheatre.com
SUMMARY:Rangroop’s Swaha\, at Academy
DESCRIPTION:About rural superstition exploiting young girls\, dramatized from Sayantani Putatunda and directed by Sima Mukhopadhyay. \nRecommended: ★★★★ Read my review.
URL:https://kolkatatheatre.com/event/rangroops-swaha-at-academy-5/
LOCATION:Academy of Fine Arts\, 2\, Cathedral Rd\, Maidan\, Kolkata\, West Bengal 700020\, Kolkata\, West Bengal\, 700071\, India
CATEGORIES:Theatre
END:VEVENT
BEGIN:VEVENT
DTSTART;TZID=Asia/Kolkata:20250405T170000
DTEND;TZID=Asia/Kolkata:20250405T200000
DTSTAMP:20260422T075107
CREATED:20250404T151515Z
LAST-MODIFIED:20250404T151515Z
UID:13432-1743872400-1743883200@kolkatatheatre.com
SUMMARY:The Forbidden Productions’ and Creative Arts’ The Chai Queens\, at TCA
DESCRIPTION:A one-hour play based on Taranjit Kaur’s storyline and Vikrant Dhote’s script\, directed by Ramanjit Kaur. A queer tale of love\, longing and the quiet choices women make for family\, culture and survival. Two shows\, at 5 and 7 p.m.
URL:https://kolkatatheatre.com/event/the-forbidden-productions-and-creative-arts-the-chai-queens-at-tca-2/
LOCATION:The Creative Arts\, 31/2A Sadananda Road\, Kolkata\, 700026\, India
CATEGORIES:Theatre
END:VEVENT
BEGIN:VEVENT
DTSTART;TZID=Asia/Kolkata:20250404T183000
DTEND;TZID=Asia/Kolkata:20250404T203000
DTSTAMP:20260422T075107
CREATED:20250330T113215Z
LAST-MODIFIED:20250330T113215Z
UID:13422-1743791400-1743798600@kolkatatheatre.com
SUMMARY:Samstab’s Uranta Tarader Chhaya\, at Academy
DESCRIPTION:Written and directed by Debasish. An imaginative account of the conflict between Nadir Shah and Muhammad Shah. \nHighly recommended: ★★★★★ Read my review.
URL:https://kolkatatheatre.com/event/samstabs-uranta-tarader-chhaya-at-academy-5/
LOCATION:Academy of Fine Arts\, 2\, Cathedral Rd\, Maidan\, Kolkata\, West Bengal 700020\, Kolkata\, West Bengal\, 700071\, India
CATEGORIES:Theatre
END:VEVENT
BEGIN:VEVENT
DTSTART;TZID=Asia/Kolkata:20250403T190000
DTEND;TZID=Asia/Kolkata:20250403T203000
DTSTAMP:20260422T075107
CREATED:20250330T114510Z
LAST-MODIFIED:20250330T114510Z
UID:13424-1743706800-1743712200@kolkatatheatre.com
SUMMARY:The Forbidden Productions' and Creative Arts' The Chai Queens\, at TCA
DESCRIPTION:Premiere of a play based on Taranjit Kaur’s storyline and Vikrant Dhote’s script\, directed by Ramanjit Kaur. A queer tale of love\, longing and the quiet choices women make for family\, culture and survival.
URL:https://kolkatatheatre.com/event/the-forbidden-productions-and-creative-arts-the-chai-queens-at-tca/
LOCATION:The Creative Arts\, 31/2A Sadananda Road\, Kolkata\, 700026\, India
CATEGORIES:Theatre
END:VEVENT
BEGIN:VEVENT
DTSTART;TZID=Asia/Kolkata:20250403T183000
DTEND;TZID=Asia/Kolkata:20250403T203000
DTSTAMP:20260422T075107
CREATED:20250330T112841Z
LAST-MODIFIED:20250330T112841Z
UID:13420-1743705000-1743712200@kolkatatheatre.com
SUMMARY:Kalyani Natyacharcha Kendra’s Dayamayir Katha\, at Academy
DESCRIPTION:Sunanda Sikdar’s award-winning book\, based on her poignant childhood memories in East Pakistan\, dramatized and directed by Kishore Sengupta. \nRecommended: ★★★★. Read my review.
URL:https://kolkatatheatre.com/event/kalyani-natyacharcha-kendras-dayamayir-katha-at-academy-2/
LOCATION:Academy of Fine Arts\, 2\, Cathedral Rd\, Maidan\, Kolkata\, West Bengal 700020\, Kolkata\, West Bengal\, 700071\, India
CATEGORIES:Theatre
END:VEVENT
BEGIN:VEVENT
DTSTART;TZID=Asia/Kolkata:20250402T183000
DTEND;TZID=Asia/Kolkata:20250402T203000
DTSTAMP:20260422T075107
CREATED:20250330T112416Z
LAST-MODIFIED:20250330T112416Z
UID:13418-1743618600-1743625800@kolkatatheatre.com
SUMMARY:Ganakrishti’s Athaba Rabithakur\, at Academy
DESCRIPTION:Adapted from Slovenian dramatist Evald Flisar’s What about Leonardo\, set in a neurological institute\, and directed by Amitava Dutta.
URL:https://kolkatatheatre.com/event/ganakrishtis-athaba-rabithakur-at-academy-4/
LOCATION:Academy of Fine Arts\, 2\, Cathedral Rd\, Maidan\, Kolkata\, West Bengal 700020\, Kolkata\, West Bengal\, 700071\, India
CATEGORIES:Theatre
END:VEVENT
END:VCALENDAR