BEGIN:VCALENDAR
VERSION:2.0
PRODID:-//KolkataTheatre.com - ECPv6.15.12.2//NONSGML v1.0//EN
CALSCALE:GREGORIAN
METHOD:PUBLISH
X-WR-CALNAME:KolkataTheatre.com
X-ORIGINAL-URL:https://kolkatatheatre.com
X-WR-CALDESC:Events for KolkataTheatre.com
REFRESH-INTERVAL;VALUE=DURATION:PT1H
X-Robots-Tag:noindex
X-PUBLISHED-TTL:PT1H
BEGIN:VTIMEZONE
TZID:Asia/Kolkata
BEGIN:STANDARD
TZOFFSETFROM:+0530
TZOFFSETTO:+0530
TZNAME:IST
DTSTART:20250101T000000
END:STANDARD
END:VTIMEZONE
BEGIN:VEVENT
DTSTART;TZID=Asia/Kolkata:20260419T183000
DTEND;TZID=Asia/Kolkata:20260419T210000
DTSTAMP:20260420T095630
CREATED:20260416T110452Z
LAST-MODIFIED:20260419T095505Z
UID:14901-1776623400-1776632400@kolkatatheatre.com
SUMMARY:Roopkatha Rangmanch (Mumbai)'s La-ilaaj\, at Kala Mandir
DESCRIPTION:Pankaj Tripathi’s return to his theatre roots with a musical that explores love\, passion\, responsibility\, self-respect and consent. Set in a city neighbourhood around a local band party\, it follows different characters as they struggle to define love in their own lives. Written and directed by Faiz Mohammed Khan\, it features a 30-member ensemble. \nPresented by Anamika Kala Sangam.
URL:https://kolkatatheatre.com/event/roopkatha-rangmanch-mumbais-la-ilaaj-at-kala-mandir/
LOCATION:Kala Mandir\, Shakespeare Sarani\, Kolkata
CATEGORIES:Theatre
END:VEVENT
BEGIN:VEVENT
DTSTART;TZID=Asia/Kolkata:20260419T190000
DTEND;TZID=Asia/Kolkata:20260419T200000
DTSTAMP:20260420T095630
CREATED:20260418T145846Z
LAST-MODIFIED:20260418T145846Z
UID:14904-1776625200-1776628800@kolkatatheatre.com
SUMMARY:Seconds Before Coming (Delhi)\, at Urban Theatre
DESCRIPTION:Freshly kissed by a man\, an eleven-year-old girl believed she had fallen in love. Now an adult\, she is soaked in pain. As the body reveals itself to be a sea of conflicts and mirrors\, she urgently tries to swim to the smooth surfaces of herself. Instead\, when she finds herself sinking into the soft noise of her childhood\, and turns to us to ask: what does any of this mean? Created and performed solo by Rishika Kaushik. A final performance on April 20\, same time same place.
URL:https://kolkatatheatre.com/event/seconds-before-coming-delhi-at-urban-theatre-3/
LOCATION:The Urban Theatre Project\, Kabir Road\, Kolkata\, 700029
CATEGORIES:Theatre
END:VEVENT
BEGIN:VEVENT
DTSTART;TZID=Asia/Kolkata:20260420T183000
DTEND;TZID=Asia/Kolkata:20260420T203000
DTSTAMP:20260420T095630
CREATED:20260418T152200Z
LAST-MODIFIED:20260419T094616Z
UID:14910-1776709800-1776717000@kolkatatheatre.com
SUMMARY:Jadavpur Manthan's Ramanujan\, at Academy
DESCRIPTION:A retelling of the life of Srinivasa Iyengar Ramanujan from the humble town of Kumbakonam to the hallowed halls of Cambridge. The dramatis personae include devout and determined mother\, Kamallatammal\, who introduced him to the world of classical Indian mathematics; his young wife Janaki\, whose loneliness\, sacrifices and silent suffering form a backdrop to his spiritual quest and scientific ascent; and G. H. Hardy\, the English mathematician who receives a letter filled with unconventional theorems and identities\, intrigued and awestruck by which he becomes Ramanujan’s academic collaborator. Written and directed by Rajib Bardhan.
URL:https://kolkatatheatre.com/event/jadavpur-manthans-ramanujan-at-academy/
LOCATION:Academy of Fine Arts\, 2\, Cathedral Rd\, Maidan\, Kolkata\, West Bengal 700020\, Kolkata\, West Bengal\, 700071\, India
CATEGORIES:Theatre
END:VEVENT
BEGIN:VEVENT
DTSTART;TZID=Asia/Kolkata:20260420T190000
DTEND;TZID=Asia/Kolkata:20260420T203000
DTSTAMP:20260420T095630
CREATED:20260419T193057Z
LAST-MODIFIED:20260419T193057Z
UID:14914-1776711600-1776717000@kolkatatheatre.com
SUMMARY:Guild of the Goat (Delhi)'s Seconds Before Coming\, at Urban Theatre
DESCRIPTION:Freshly kissed by a man\, an eleven-year-old girl believed she had fallen in love. Now an adult\, she is soaked in pain. As the body reveals itself to be a sea of conflicts and mirrors\, she urgently tries to swim to the smooth surfaces of herself. Instead\, when she finds herself sinking into the soft noise of her childhood\, and turns to us to ask: what does any of this mean? Created and performed solo by Rishika Kaushik\, directed by Anirudh Nair.
URL:https://kolkatatheatre.com/event/guild-of-the-goat-delhis-seconds-before-coming-at-urban-theatre/
LOCATION:The Urban Theatre Project\, Kabir Road\, Kolkata\, 700029
CATEGORIES:Theatre
END:VEVENT
BEGIN:VEVENT
DTSTART;TZID=Asia/Kolkata:20260421T180000
DTEND;TZID=Asia/Kolkata:20260421T203000
DTSTAMP:20260420T095630
CREATED:20260418T150127Z
LAST-MODIFIED:20260418T150127Z
UID:14906-1776794400-1776803400@kolkatatheatre.com
SUMMARY:Ichheymoto’s Je Janlagulor Akash Chhilo\, at Academy
DESCRIPTION:Four childhood friends from the 1990s grow up and go different ways\, passing through youthful romances\, heated arguments and political movements\, testifying to changing times through the decades. Dramatized from Rahul Arunoday Banerjee’s stories and directed by Saurav Palodhi. The only production from Kolkata to reach the final round of META 2026\, Delhi\, where it won four awards. \nRecommended: ★★★★. Read my review.
URL:https://kolkatatheatre.com/event/ichheymotos-je-janlagulor-akash-chhilo-at-academy-4/
LOCATION:Academy of Fine Arts\, 2\, Cathedral Rd\, Maidan\, Kolkata\, West Bengal 700020\, Kolkata\, West Bengal\, 700071\, India
CATEGORIES:Theatre
END:VEVENT
BEGIN:VEVENT
DTSTART;TZID=Asia/Kolkata:20260424T170000
DTEND;TZID=Asia/Kolkata:20260424T183000
DTSTAMP:20260420T095630
CREATED:20260419T194931Z
LAST-MODIFIED:20260419T194931Z
UID:14916-1777050000-1777055400@kolkatatheatre.com
SUMMARY:Akvarious (Mumbai)'s Dekh Behen\, at Urban Theatre
DESCRIPTION:Over 130 performances across 13 cities\, “the first fully female superhit”. A bittersweet comedy about daughters\, girlfriends\, mothers\, sisters\, wives\, at a big fat Delhi wedding. Merely hours before they need to put up their rehearsed item number\, five bridesmaids catch up\, gossip\, eat\, drink and bitch about their identical outfits. But that’s not the only thing they have in common — they all dislike the bride. Written by Dilshad Edibam and Tahira Nath\, directed by Shikha Talsania and Prerna Chawla. Two performances\, at 5 and 8 pm.
URL:https://kolkatatheatre.com/event/akvarious-mumbais-dekh-behen-at-urban-theatre/
LOCATION:The Urban Theatre Project\, Kabir Road\, Kolkata\, 700029
CATEGORIES:Theatre
END:VEVENT
BEGIN:VEVENT
DTSTART;TZID=Asia/Kolkata:20260424T183000
DTEND;TZID=Asia/Kolkata:20260424T204000
DTSTAMP:20260420T095630
CREATED:20260418T150514Z
LAST-MODIFIED:20260418T150514Z
UID:14908-1777055400-1777063200@kolkatatheatre.com
SUMMARY:Nandipat’s Chandrabati Katha\, at Academy
DESCRIPTION:Ujjwal Chattopadhyay’s play about Chandrabati\, the 16th-century poet who composed the first Bangla Ramayan from the perspective of Sita\, as well as parts of the Maimansingha Gitika. Directed by Prokash Bhattacharya.
URL:https://kolkatatheatre.com/event/nandipats-chandrabati-katha-at-academy-9/
LOCATION:Academy of Fine Arts\, 2\, Cathedral Rd\, Maidan\, Kolkata\, West Bengal 700020\, Kolkata\, West Bengal\, 700071\, India
CATEGORIES:Theatre
END:VEVENT
END:VCALENDAR