BEGIN:VCALENDAR
VERSION:2.0
PRODID:-//KolkataTheatre.com - ECPv6.15.12.2//NONSGML v1.0//EN
CALSCALE:GREGORIAN
METHOD:PUBLISH
X-WR-CALNAME:KolkataTheatre.com
X-ORIGINAL-URL:https://kolkatatheatre.com
X-WR-CALDESC:Events for KolkataTheatre.com
REFRESH-INTERVAL;VALUE=DURATION:PT1H
X-Robots-Tag:noindex
X-PUBLISHED-TTL:PT1H
BEGIN:VTIMEZONE
TZID:Asia/Kolkata
BEGIN:STANDARD
TZOFFSETFROM:+0530
TZOFFSETTO:+0530
TZNAME:IST
DTSTART:20240101T000000
END:STANDARD
END:VTIMEZONE
BEGIN:VEVENT
DTSTART;TZID=Asia/Kolkata:20251208T173000
DTEND;TZID=Asia/Kolkata:20251208T193000
DTSTAMP:20260421T005510
CREATED:20251206T143410Z
LAST-MODIFIED:20251206T143410Z
UID:14388-1765215000-1765222200@kolkatatheatre.com
SUMMARY:East India Dastangos' Kolkata Ki Jalkatha\, at Victoria Memorial
DESCRIPTION:A musical Dastangoi storytelling performance of the city’s flowing heritage.
URL:https://kolkatatheatre.com/event/east-india-dastangos-kolkata-ki-jalkatha-at-victoria-memorial/
LOCATION:Victoria Memorial\, Cathedral Road\, Kolkata\, India
CATEGORIES:Theatre
END:VEVENT
BEGIN:VEVENT
DTSTART;TZID=Asia/Kolkata:20251207T183000
DTEND;TZID=Asia/Kolkata:20251207T203000
DTSTAMP:20260421T005510
CREATED:20251204T150322Z
LAST-MODIFIED:20251204T150322Z
UID:14382-1765132200-1765139400@kolkatatheatre.com
SUMMARY:Purbaranga’s Sitayan\, at Academy
DESCRIPTION:The 100th performance of this production. Written and directed by Malay Ray\, inspired by Mallika Sengupta’s novel on Sita’s story rather than Rama’s. \nRecommended: ★★★★. Read my review.
URL:https://kolkatatheatre.com/event/purbarangas-sitayan-at-academy-3/
LOCATION:Academy of Fine Arts\, 2\, Cathedral Rd\, Maidan\, Kolkata\, West Bengal 700020\, Kolkata\, West Bengal\, 700071\, India
CATEGORIES:Theatre
END:VEVENT
BEGIN:VEVENT
DTSTART;TZID=Asia/Kolkata:20251207T170000
DTEND;TZID=Asia/Kolkata:20251217T210000
DTSTAMP:20260421T005510
CREATED:20251205T130706Z
LAST-MODIFIED:20251205T130706Z
UID:14385-1765126800-1766005200@kolkatatheatre.com
SUMMARY:Paschimbanga Natya Academy's Natyamela
DESCRIPTION:The West Bengal Government has organized its 25th Natyamela festival of Bengali theatre starting on December 7 lasting till December 17\, with free admission for everyone. Every afternoon and evening\, over 100 groups from all over the state will stage their productions at the state-run auditoriums in Kolkata: Rabindra Sadan\, Girish Mancha\, Madhusudan Mancha\, Rabindra Tirtha\, Sisir Mancha\, Tripti Mitra Natyagriha and Ektara Mukta Mancha. Performances include puppet theatre\, folk theatre\, mime and intimate theatre\, besides regular proscenium theatre.
URL:https://kolkatatheatre.com/event/paschimbanga-natya-academys-natyamela/
LOCATION:Rabindra Sadan\, Cathedral Road\, Kolkata\, 700016
CATEGORIES:Theatre
END:VEVENT
BEGIN:VEVENT
DTSTART;TZID=Asia/Kolkata:20251206T183000
DTEND;TZID=Asia/Kolkata:20251206T203000
DTSTAMP:20260421T005510
CREATED:20251204T145757Z
LAST-MODIFIED:20251204T145757Z
UID:14380-1765045800-1765053000@kolkatatheatre.com
SUMMARY:Rangroop’s Manmayi Girls School\, at Academy
DESCRIPTION:The highly popular Bengali play written by Rabindranath Maitra in 1932\, directed by Sima Mukhopadhyay. \nRecommended: ★★★★ Read my review here.
URL:https://kolkatatheatre.com/event/rangroops-manmayi-girls-school-at-academy-10/
LOCATION:Academy of Fine Arts\, 2\, Cathedral Rd\, Maidan\, Kolkata\, West Bengal 700020\, Kolkata\, West Bengal\, 700071\, India
CATEGORIES:Theatre
END:VEVENT
BEGIN:VEVENT
DTSTART;TZID=Asia/Kolkata:20251206T180000
DTEND;TZID=Asia/Kolkata:20251206T200000
DTSTAMP:20260421T005510
CREATED:20251204T145305Z
LAST-MODIFIED:20251204T145305Z
UID:14378-1765044000-1765051200@kolkatatheatre.com
SUMMARY:Gandharvi's Gulabijaan\, at Birla Sabhagar
DESCRIPTION:A musical drama by Shukla Banerjee and group\, which revives the legacy of Awadh’s courtesans through Kathak\, Thumri and ghazals. Set in 1881 Kolkata\, the play follows an ageing courtesan as she recounts her life\, bringing to light a culture of resilience\, refinement and resistance in a forgotten world of silken veils\, haunting music and lost histories. \nPart of AMI Arts Festival.
URL:https://kolkatatheatre.com/event/gandharvis-gulabijaan-at-birla-sabhagar/
LOCATION:G D Birla Sabhagar\, 29 Ashutosh Chowdhury Avenue\, Kolkata\, 700019
CATEGORIES:Theatre
END:VEVENT
BEGIN:VEVENT
DTSTART;TZID=Asia/Kolkata:20251205T180000
DTEND;TZID=Asia/Kolkata:20251205T203000
DTSTAMP:20260421T005510
CREATED:20251130T093152Z
LAST-MODIFIED:20251130T093152Z
UID:14375-1764957600-1764966600@kolkatatheatre.com
SUMMARY:Beadon Street Subham’s Ami Pluto\, at Madhusudan
DESCRIPTION:Inspired by Steve Metzger’s awardwinning children’s book Pluto Visits Earth!\, the story of a tiny planet but also a beautiful wish that grants love\, rejoices in friendship and finds hope in remembering who we actually are. Dramatized by Kallol Lahiri and Alekhya Ghosh\, set in Kolkata\, and directed by Anamitra Khan. \nRecommended: ★★★★ Read my review.
URL:https://kolkatatheatre.com/event/beadon-street-subhams-ami-pluto-at-madhusudan-3/
LOCATION:Madhusudan Mancha\, Gariahat Rd S\, Jodhpur Park\,\, Kolkata\, West Bengal\, 700031\, India
CATEGORIES:Theatre
END:VEVENT
BEGIN:VEVENT
DTSTART;TZID=Asia/Kolkata:20251203T183000
DTEND;TZID=Asia/Kolkata:20251203T204000
DTSTAMP:20260421T005510
CREATED:20251130T092236Z
LAST-MODIFIED:20251130T092236Z
UID:14373-1764786600-1764794400@kolkatatheatre.com
SUMMARY:Samstab’s Gaurer Kabach\, at Academy
DESCRIPTION:Shirshendu Mukhopadhyay’s magical story about Gaur\, who loves to play the flute\, and is loved by the ancient folk in his village\, threatened by the arrival of a man who wants to take over everything. Dramatized and directed by Suman Sengupta. \nRecommended: ★★★★. Read my review.
URL:https://kolkatatheatre.com/event/samstabs-gaurer-kabach-at-academy-6/
LOCATION:Academy of Fine Arts\, 2\, Cathedral Rd\, Maidan\, Kolkata\, West Bengal 700020\, Kolkata\, West Bengal\, 700071\, India
CATEGORIES:Theatre
END:VEVENT
BEGIN:VEVENT
DTSTART;TZID=Asia/Kolkata:20251202T183000
DTEND;TZID=Asia/Kolkata:20251202T204000
DTSTAMP:20260421T005510
CREATED:20251130T091841Z
LAST-MODIFIED:20251130T091841Z
UID:14371-1764700200-1764708000@kolkatatheatre.com
SUMMARY:Sayak’s Dharmabatar\, at Academy
DESCRIPTION:Ujjwal Chattopadhyay’s play inspired by the American film The Judge (2014) about the personal conflict between a retired judge and his son who defends criminals. Directed by Meghnad Bhattacharya.
URL:https://kolkatatheatre.com/event/sayaks-dharmabatar-at-academy-7/
LOCATION:Academy of Fine Arts\, 2\, Cathedral Rd\, Maidan\, Kolkata\, West Bengal 700020\, Kolkata\, West Bengal\, 700071\, India
CATEGORIES:Theatre
END:VEVENT
BEGIN:VEVENT
DTSTART;TZID=Asia/Kolkata:20251201T183000
DTEND;TZID=Asia/Kolkata:20251201T203000
DTSTAMP:20260421T005510
CREATED:20251130T091550Z
LAST-MODIFIED:20251130T091550Z
UID:14369-1764613800-1764621000@kolkatatheatre.com
SUMMARY:Smarannik (Bengaluru)'s Drishtikanya\, at Academy
DESCRIPTION:Inspired by Daphne Du Maurier’s “The Blue Lenses” \, Indrashis Laharry’s Bengali adaptation is a comedy of illusions revolving around a blind lady who regains her eyesight after an operation. As the bandages are removed\, she sees everything – or\, rather\, everyone – entirely differently; every human face appears to be that of an animal. Directed by Sayandeb Bhattacharya.
URL:https://kolkatatheatre.com/event/smarannik-bengalurus-drishtikanya-at-academy/
LOCATION:Academy of Fine Arts\, 2\, Cathedral Rd\, Maidan\, Kolkata\, West Bengal 700020\, Kolkata\, West Bengal\, 700071\, India
CATEGORIES:Theatre
END:VEVENT
BEGIN:VEVENT
DTSTART;TZID=Asia/Kolkata:20251130T183000
DTEND;TZID=Asia/Kolkata:20251130T210000
DTSTAMP:20260421T005510
CREATED:20251128T105744Z
LAST-MODIFIED:20251128T105744Z
UID:14362-1764527400-1764536400@kolkatatheatre.com
SUMMARY:Mukhomukhi’s Tiner Taloyar\, at Academy
DESCRIPTION:Utpal Dutt’s classic play\, directed by Suman Mukhopadhyay. \nRecommended: ★★★★ Read my review.
URL:https://kolkatatheatre.com/event/mukhomukhis-tiner-taloyar-at-academy-9/
LOCATION:Academy of Fine Arts\, 2\, Cathedral Rd\, Maidan\, Kolkata\, West Bengal 700020\, Kolkata\, West Bengal\, 700071\, India
CATEGORIES:Theatre
END:VEVENT
BEGIN:VEVENT
DTSTART;TZID=Asia/Kolkata:20251130T183000
DTEND;TZID=Asia/Kolkata:20251130T200000
DTSTAMP:20260421T005510
CREATED:20251128T112217Z
LAST-MODIFIED:20251128T112619Z
UID:14366-1764527400-1764532800@kolkatatheatre.com
SUMMARY:Gopal Datt (Mumbai)'s Aur Karo Theatre\, at KCC
DESCRIPTION:A collection of theatre songs delivered and linked by Datt and his accompanists. The songs formed part of different productions from his early days at National School of Drama to his career as actor\, writer\, director and composer. The performance features perfectly-timed humour\, satire and shared anecdotes from his experiences. \nPart of Ami Arts Festival.
URL:https://kolkatatheatre.com/event/gopal-datts-aur-karo-theatre-at-kcc/
LOCATION:Kolkata Centre for Creativity\, Anandapur\, E M Bypass\, Kolkata
CATEGORIES:Theatre
END:VEVENT
BEGIN:VEVENT
DTSTART;TZID=Asia/Kolkata:20251130T170000
DTEND;TZID=Asia/Kolkata:20251130T203000
DTSTAMP:20260421T005510
CREATED:20251128T110322Z
LAST-MODIFIED:20251128T110322Z
UID:14364-1764522000-1764534600@kolkatatheatre.com
SUMMARY:Natadha’s Mahabharat 2\, at Madhusudan
DESCRIPTION:Written by Shib Mukhopadhyay as his second dramatization of the epic\, this time concentrating on the Udyoga Parva. Directed by Arna Mukhopadhyay. \nRecommended: ★★★★. Read my review.
URL:https://kolkatatheatre.com/event/natadhas-mahabharat-2-at-madhusudan-3/
LOCATION:Madhusudan Mancha\, Gariahat Rd S\, Jodhpur Park\,\, Kolkata\, West Bengal\, 700031\, India
CATEGORIES:Theatre
END:VEVENT
BEGIN:VEVENT
DTSTART;TZID=Asia/Kolkata:20251129T183000
DTEND;TZID=Asia/Kolkata:20251129T203000
DTSTAMP:20260421T005510
CREATED:20251128T104407Z
LAST-MODIFIED:20251128T104512Z
UID:14355-1764441000-1764448200@kolkatatheatre.com
SUMMARY:Aadyam (Mumbai)'s Sanp Sirhi\, at Birla Sabhagar
DESCRIPTION:A darkly comic thriller adapted into Hindi from Anthony Shaffer’s celebrated two-hander Sleuth\, directed by Shubhrajyoti Barat. \nPart of the Ami Arts Festival. \n 
URL:https://kolkatatheatre.com/event/aadyam-mumbais-sanp-sirhi-at-birla-sabhagar/
LOCATION:G D Birla Sabhagar\, 29 Ashutosh Chowdhury Avenue\, Kolkata\, 700019
CATEGORIES:Theatre
END:VEVENT
BEGIN:VEVENT
DTSTART;TZID=Asia/Kolkata:20251129T180000
DTEND;TZID=Asia/Kolkata:20251129T210000
DTSTAMP:20260421T005510
CREATED:20251128T105415Z
LAST-MODIFIED:20251128T105415Z
UID:14360-1764439200-1764450000@kolkatatheatre.com
SUMMARY:Sarabhuj's Aranya Purush\, at Rabindra Sadan
DESCRIPTION:The first segment features a colourful presentation of a dozen diverse folk forms from Medinipur. The second part\, Aranya Purush\, is a theatre production deeply inspired by folk traditions. This play combines dance\, music and drama to portray the profound relationship between humanity and nature\, exploring themes of identity\, survival and harmony with the natural world. Directed by Tarun Pradhan.
URL:https://kolkatatheatre.com/event/sarabhujs-aranya-purush-at-rabindra-sadan/
LOCATION:Rabindra Sadan\, Cathedral Road\, Kolkata\, 700016
CATEGORIES:Theatre
END:VEVENT
BEGIN:VEVENT
DTSTART;TZID=Asia/Kolkata:20251129T180000
DTEND;TZID=Asia/Kolkata:20251129T200000
DTSTAMP:20260421T005510
CREATED:20251128T103344Z
LAST-MODIFIED:20251128T103344Z
UID:14353-1764439200-1764446400@kolkatatheatre.com
SUMMARY:Manukriti Pahwa (Mumbai)'s Lafzon Ki Gathri\, at KCC
DESCRIPTION:An anthology of three plays directed by Seema Bhargava Pahwa. The medley brings to life three timeless Hindi short stories by Premchand\, Mannu Bhandari and Bhisham Sahni\, exploring the colourful mosaic of human emotions\, tracing the ebbs and flows of human connection woven with womanhood\, memory and meaning. \nPart of the Ami Arts Festival.
URL:https://kolkatatheatre.com/event/manukriti-pahwa-mumbais-lafzon-ki-gathri-at-kcc/
LOCATION:Kolkata Centre for Creativity\, Anandapur\, E M Bypass\, Kolkata
CATEGORIES:Theatre
END:VEVENT
BEGIN:VEVENT
DTSTART;TZID=Asia/Kolkata:20251128T190000
DTEND;TZID=Asia/Kolkata:20251128T200000
DTSTAMP:20260421T005510
CREATED:20251125T084030Z
LAST-MODIFIED:20251125T084030Z
UID:14313-1764356400-1764360000@kolkatatheatre.com
SUMMARY:Ontroerend Goed (Belgium)'s Handle with Care\, at Urban Theatre
DESCRIPTION:A theatre performance in a box. No actors\, no technicians. Just a box. Ontroerend Goed puts the audience in control. They provide the structure; the audience shapes the shared experience. Together\, the audience creates something special filled with reflections on time\, transience and togetherness.
URL:https://kolkatatheatre.com/event/ontroerend-goed-belgiums-handle-with-care-at-urban-theatre/
LOCATION:The Urban Theatre Project\, Kabir Road\, Kolkata\, 700029
CATEGORIES:Theatre
END:VEVENT
BEGIN:VEVENT
DTSTART;TZID=Asia/Kolkata:20251128T183000
DTEND;TZID=Asia/Kolkata:20251128T203000
DTSTAMP:20260421T005510
CREATED:20251128T085335Z
LAST-MODIFIED:20251128T085335Z
UID:14351-1764354600-1764361800@kolkatatheatre.com
SUMMARY:Anjor (Mumbai)'s Vhay! I Am Savitribai Phule\, at Padatik
DESCRIPTION:Biography of the pioneer women’s educationist and activist\, written and directed by Sushama Deshpande\, dramatized by Manjiri Bhuskute and translated into English by Shanta Gokhale. A solo performance of “theatre journalism” by Nandita Patkar.
URL:https://kolkatatheatre.com/event/anjor-mumbais-vhay-i-am-savitribai-phule-at-padatik/
LOCATION:Padatik Little Theatre\, 6/7 A J C Bose Road\, Kolkata\, 700017
CATEGORIES:Theatre
END:VEVENT
BEGIN:VEVENT
DTSTART;TZID=Asia/Kolkata:20251128T183000
DTEND;TZID=Asia/Kolkata:20251128T203000
DTSTAMP:20260421T005510
CREATED:20251123T141654Z
LAST-MODIFIED:20251123T141654Z
UID:14308-1764354600-1764361800@kolkatatheatre.com
SUMMARY:Purbaranga’s Spartacus\, at Girish
DESCRIPTION:Newly dramatized in Bengali from Howard Fast’s novel and directed by Rokeya Ray and Malay Ray. \nRecommended. Read review here.
URL:https://kolkatatheatre.com/event/purbarangas-spartacus-at-girish/
LOCATION:Girish Mancha\, Bagbazar
CATEGORIES:Theatre
END:VEVENT
BEGIN:VEVENT
DTSTART;TZID=Asia/Kolkata:20251128T180000
DTEND;TZID=Asia/Kolkata:20251128T203000
DTSTAMP:20260421T005510
CREATED:20251123T141208Z
LAST-MODIFIED:20251123T141208Z
UID:14306-1764352800-1764361800@kolkatatheatre.com
SUMMARY:Pancham Vaidic’s Rajnaitik Hatya?\, at Academy
DESCRIPTION:Revived production based on Jean-Paul Sartre’s Crime Passionnel about a Communist plot of political assassination\, adapted into Bengali and directed by Arpita Ghosh.
URL:https://kolkatatheatre.com/event/pancham-vaidics-rajnaitik-hatya-at-academy-3/
LOCATION:Academy of Fine Arts\, 2\, Cathedral Rd\, Maidan\, Kolkata\, West Bengal 700020\, Kolkata\, West Bengal\, 700071\, India
CATEGORIES:Theatre
END:VEVENT
BEGIN:VEVENT
DTSTART;TZID=Asia/Kolkata:20251127T183000
DTEND;TZID=Asia/Kolkata:20251127T203000
DTSTAMP:20260421T005510
CREATED:20251123T140921Z
LAST-MODIFIED:20251123T140921Z
UID:14304-1764268200-1764275400@kolkatatheatre.com
SUMMARY:Ganakrishti’s Mastuto Vice\, at Tapan
DESCRIPTION:Adapted from Dario Fo’s early farce The Virtuous Burglar and directed by Amitava Dutta. The thief’s plans for a simple robbery are immediately complicated when he unexpectedly faces two sets of cheating partners. Forced to act as a go-between and peacemaker\, he attempts to keep the multiple affairs a secret.
URL:https://kolkatatheatre.com/event/ganakrishtis-mastuto-vice-at-tapan/
LOCATION:Tapan Theatre\, Kalighat
CATEGORIES:Theatre
END:VEVENT
BEGIN:VEVENT
DTSTART;TZID=Asia/Kolkata:20251127T183000
DTEND;TZID=Asia/Kolkata:20251127T203000
DTSTAMP:20260421T005510
CREATED:20251123T140342Z
LAST-MODIFIED:20251124T072240Z
UID:14302-1764268200-1764275400@kolkatatheatre.com
SUMMARY:Ansh (Mumbai)'s Piyakkad\, at KCC
DESCRIPTION:Hilarious\, surreal and deeply unsettling\, Piyakkad explores the fragile line between intoxication and liberation. A man finds truth\, illusion and escape through alcohol\, blurring the boundary between reality and imagination. With Makarand Deshpande’s trademark mix of absurdist humour\, lyrical monologues and raw emotional intensity\, his one-man play becomes both a mirror of loneliness and a doctrine of freedom\, a layered metaphor for our human condition\, a philosophical reflection on dependence\, escape and the fragile complexities of the psyche. \nPart of the Ami Arts Festival.
URL:https://kolkatatheatre.com/event/ansh-mumbais-piyakkad-at-kcc/
LOCATION:Kolkata Centre for Creativity\, Anandapur\, E M Bypass\, Kolkata
CATEGORIES:Theatre
END:VEVENT
BEGIN:VEVENT
DTSTART;TZID=Asia/Kolkata:20251127T183000
DTEND;TZID=Asia/Kolkata:20251127T203000
DTSTAMP:20260421T005510
CREATED:20251123T135450Z
LAST-MODIFIED:20251123T135450Z
UID:14300-1764268200-1764275400@kolkatatheatre.com
SUMMARY:Sanglap Kolkata’s Hulusthul\, at Academy
DESCRIPTION:Dramatized from Shirshendu Mukhopadhyay’s Ek Āshcharja Pheriwālā by Kuntal Mukhopadhyay and directed by Debasish. A mysterious hawker sells seemingly useless things\, which evil people conspire to capture\, while an eccentric scientist pursues his thirst for knowledge\, \nRecommended: ★★★★. Read my review.
URL:https://kolkatatheatre.com/event/sanglap-kolkatas-hulusthul-at-academy-7/
LOCATION:Academy of Fine Arts\, 2\, Cathedral Rd\, Maidan\, Kolkata\, West Bengal 700020\, Kolkata\, West Bengal\, 700071\, India
CATEGORIES:Theatre
END:VEVENT
BEGIN:VEVENT
DTSTART;TZID=Asia/Kolkata:20251126T183000
DTEND;TZID=Asia/Kolkata:20251126T203000
DTSTAMP:20260421T005510
CREATED:20251123T135202Z
LAST-MODIFIED:20251123T135202Z
UID:14298-1764181800-1764189000@kolkatatheatre.com
SUMMARY:Jyoti Dogra (Mumbai)'s Maas\, at KCC
DESCRIPTION:Minimal yet immersive\, Maas strips theatre down to its essentials—body\, memory\, voice. Through her raw and deeply physical solo performance style\, Jyoti Dogra explores the fragile yet unbreakable ties between memory\, identity and the body as a vessel of both trauma and resilience. Personal narratives intermingle with cultural conditioning\, as the play unravels the discomfort and beauty of inhabiting flesh and history. \nPart of the Ami Arts Festival.
URL:https://kolkatatheatre.com/event/jyoti-dogra-mumbais-maas-at-kcc/
LOCATION:Kolkata Centre for Creativity\, Anandapur\, E M Bypass\, Kolkata
CATEGORIES:Theatre
END:VEVENT
BEGIN:VEVENT
DTSTART;TZID=Asia/Kolkata:20251126T153000
DTEND;TZID=Asia/Kolkata:20251126T170000
DTSTAMP:20260421T005510
CREATED:20251123T132614Z
LAST-MODIFIED:20251123T132614Z
UID:14294-1764171000-1764176400@kolkatatheatre.com
SUMMARY:Ridhdhi (Bengaluru)'s The Trial of Abdus Salam\, at Bose Institute
DESCRIPTION:An imagined courtroom drama that explores the genius and faith\, trials and triumphs\, wit and wisdom\, and life and works of Abdus Salam\, Pakistani Nobel Prize-winner in Physics for contributing to unifying the electromagnetic and weak nuclear forces. His vision was inspired by the surahs of the Quran which spoke to him of a deep fundamental unity among all things and peoples. Yet\, as an Ahmadiyya Muslim\, a denomination declared non-Islamic by Pakistan\, he was ostracized as a heretic and traitor\, his grave in Pakistan desecrated. Written and directed by Nilanjan P. Choudhury\, author of The Square Root of a Sonnet on astrophysicist S\, Chandrasekhar.\nAt Bose Institute\, Salt Lake\, Sector V. Free entry | Mandatory registration | Contact 9886320518
URL:https://kolkatatheatre.com/event/ridhdhi-bengalurus-the-trial-of-abdus-salam-at-bose-institute/
LOCATION:West Bengal
CATEGORIES:Theatre
END:VEVENT
BEGIN:VEVENT
DTSTART;TZID=Asia/Kolkata:20251125T180000
DTEND;TZID=Asia/Kolkata:20251125T200000
DTSTAMP:20260421T005510
CREATED:20251123T134620Z
LAST-MODIFIED:20251123T134732Z
UID:14296-1764093600-1764100800@kolkatatheatre.com
SUMMARY:Dastangoi Collective (Delhi)'s Dastan-e-Ret-Samadhi\, at KCC
DESCRIPTION:Evocative Dastangoi storytelling performance by Mahmood Farooqui and Poonam Girdhani\, adapting Geetanjali Shree’s novel Ret Samadhi set against the haunting echoes of Partition. It follows an elderly woman’s journey from grief to self-discovery after her husband’s death\, in the search for a long-lost home\, awakening questions of identity\, memory and renewal. \nInaugural performance of Ami Arts Festival.
URL:https://kolkatatheatre.com/event/dastangoi-collective-delhis-dastan-e-ret-samadhi-at-kcc/
LOCATION:Kolkata Centre for Creativity\, Anandapur\, E M Bypass\, Kolkata
CATEGORIES:Theatre
END:VEVENT
BEGIN:VEVENT
DTSTART;TZID=Asia/Kolkata:20251125T180000
DTEND;TZID=Asia/Kolkata:20251125T193000
DTSTAMP:20260421T005510
CREATED:20251125T085018Z
LAST-MODIFIED:20251125T085018Z
UID:14315-1764093600-1764099000@kolkatatheatre.com
SUMMARY:Ami Arts Festival's Gangs of Pencilpur\, at Gyan Manch
DESCRIPTION:A collaborative musical with over 100 students taking the stage\, from Birla High\, Mahadevi Birla World Academy\, Sri Sri Academy\, Sushila Birla Girls’ and BSS schools.
URL:https://kolkatatheatre.com/event/ami-arts-festivals-gangs-of-pencilpur-at-gyan-manch/
LOCATION:Gyan Manch\, Gyan Manch\, 11\, Pretoria St\, Kolkata\, West Bengal\, 700071\, India
CATEGORIES:Theatre
END:VEVENT
BEGIN:VEVENT
DTSTART;TZID=Asia/Kolkata:20251124T190000
DTEND;TZID=Asia/Kolkata:20251124T200000
DTSTAMP:20260421T005510
CREATED:20251124T072054Z
LAST-MODIFIED:20251124T072054Z
UID:14310-1764010800-1764014400@kolkatatheatre.com
SUMMARY:Karen Houge (Norway)’s Dreamgirl\, at Urban Theatre
DESCRIPTION:An intimate shared experience where Karen Houge explores trust through personal stories and playful audience interaction. In an era of war and political division\, it offers a fresh and urgent perspective on how trust is built\, broken and repaired. It is a conversation about the world we live in and the future of humanity. Do you trust a stranger?
URL:https://kolkatatheatre.com/event/karen-houge-norways-dreamgirl-at-urban-theatre-2/
LOCATION:The Urban Theatre Project\, Kabir Road\, Kolkata\, 700029
CATEGORIES:Theatre
END:VEVENT
BEGIN:VEVENT
DTSTART;TZID=Asia/Kolkata:20251123T190000
DTEND;TZID=Asia/Kolkata:20251123T210000
DTSTAMP:20260421T005510
CREATED:20251120T123629Z
LAST-MODIFIED:20251120T123629Z
UID:14285-1763924400-1763931600@kolkatatheatre.com
SUMMARY:Chetana’s Hibijibi Bahini\, at Academy
DESCRIPTION:A “non-sense” production with child and adult actors\, written and directed by Sujan Mukhopadhyay. Alibaba\, accompanied by his trusty donkey\, opens the door to the cave and discovers no treasure but ancient\, worthless artifacts and a rusted lamp from which emerges the Genie. Meanwhile\, the band of thieves finds themselves devoid of any occupation in today’s hyper-competitive world of employment\, and a magician enters their den.
URL:https://kolkatatheatre.com/event/chetanas-hibijibi-bahini-at-academy-5/
LOCATION:Academy of Fine Arts\, 2\, Cathedral Rd\, Maidan\, Kolkata\, West Bengal 700020\, Kolkata\, West Bengal\, 700071\, India
CATEGORIES:Theatre
END:VEVENT
BEGIN:VEVENT
DTSTART;TZID=Asia/Kolkata:20251123T190000
DTEND;TZID=Asia/Kolkata:20251123T200000
DTSTAMP:20260421T005510
CREATED:20251119T190641Z
LAST-MODIFIED:20251119T190641Z
UID:14280-1763924400-1763928000@kolkatatheatre.com
SUMMARY:Karen Houge (Norway)'s Dreamgirl\, at Urban Theatre
DESCRIPTION:An intimate shared experience where Karen Houge explores trust through personal stories and playful audience interaction. In an era of war and political division\, it offers a fresh and urgent perspective on how trust is built\, broken and repaired. It is a conversation about the world we live in and the future of humanity. Do you trust a stranger? \nA second performance at 145 East\, Jodhpur Park\, 24 November\, 6:30 pm.
URL:https://kolkatatheatre.com/event/karen-houge-norways-dreamgirl-at-urban-theatre/
LOCATION:The Urban Theatre Project\, Kabir Road\, Kolkata\, 700029
CATEGORIES:Theatre
END:VEVENT
BEGIN:VEVENT
DTSTART;TZID=Asia/Kolkata:20251123T183000
DTEND;TZID=Asia/Kolkata:20251123T203000
DTSTAMP:20260421T005510
CREATED:20251120T124640Z
LAST-MODIFIED:20251120T124640Z
UID:14291-1763922600-1763929800@kolkatatheatre.com
SUMMARY:Shohan’s Jera\, at Madhusudan
DESCRIPTION:Indianized by Jagannath Guha from Giuseppe Tornatore’s influential film A Pure Formality\, about an inspector interrogating a famous author. Directed by Anish Ghosh.
URL:https://kolkatatheatre.com/event/shohans-jera-at-madhusudan-2/
LOCATION:Madhusudan Mancha\, Gariahat Rd S\, Jodhpur Park\,\, Kolkata\, West Bengal\, 700031\, India
CATEGORIES:Theatre
END:VEVENT
END:VCALENDAR