BEGIN:VCALENDAR
VERSION:2.0
PRODID:-//KolkataTheatre.com - ECPv6.15.12.2//NONSGML v1.0//EN
CALSCALE:GREGORIAN
METHOD:PUBLISH
X-WR-CALNAME:KolkataTheatre.com
X-ORIGINAL-URL:https://kolkatatheatre.com
X-WR-CALDESC:Events for KolkataTheatre.com
REFRESH-INTERVAL;VALUE=DURATION:PT1H
X-Robots-Tag:noindex
X-PUBLISHED-TTL:PT1H
BEGIN:VTIMEZONE
TZID:Asia/Kolkata
BEGIN:STANDARD
TZOFFSETFROM:+0530
TZOFFSETTO:+0530
TZNAME:IST
DTSTART:20240101T000000
END:STANDARD
END:VTIMEZONE
BEGIN:VEVENT
DTSTART;TZID=Asia/Kolkata:20250401T183000
DTEND;TZID=Asia/Kolkata:20250401T203000
DTSTAMP:20260422T132724
CREATED:20250330T112214Z
LAST-MODIFIED:20250330T112214Z
UID:13416-1743532200-1743539400@kolkatatheatre.com
SUMMARY:Kolkata Playmakers’ Parabola Sir\, at Madhusudan
DESCRIPTION:Dramatized from Narayan Sanyal’s novel by Tirthankar Chanda\, about an idealistic teacher. Directed by Ram Mukhopadhyay. \nRead my review.
URL:https://kolkatatheatre.com/event/kolkata-playmakers-parabola-sir-at-madhusudan-3/
LOCATION:Madhusudan Mancha\, Gariahat Rd S\, Jodhpur Park\,\, Kolkata\, West Bengal\, 700031\, India
CATEGORIES:Theatre
END:VEVENT
BEGIN:VEVENT
DTSTART;TZID=Asia/Kolkata:20250331T183000
DTEND;TZID=Asia/Kolkata:20250331T203000
DTSTAMP:20260422T132724
CREATED:20250330T111630Z
LAST-MODIFIED:20250330T111630Z
UID:13413-1743445800-1743453000@kolkatatheatre.com
SUMMARY:Nandipat's Chandrabati Katha\, at Academy
DESCRIPTION:Premiere of Ujjwal Chattopadhyay’s play about Chandrabati\, the 16th-century poet who composed the first Bangla Ramayan from the perspective of Sita\, as well as parts of the Maimansingha Gitika. Directed by Prokash Bhattacharya.
URL:https://kolkatatheatre.com/event/nandipats-chandrabati-katha-at-academy/
LOCATION:Academy of Fine Arts\, 2\, Cathedral Rd\, Maidan\, Kolkata\, West Bengal 700020\, Kolkata\, West Bengal\, 700071\, India
CATEGORIES:Theatre
END:VEVENT
BEGIN:VEVENT
DTSTART;TZID=Asia/Kolkata:20250331T150000
DTEND;TZID=Asia/Kolkata:20250331T170000
DTSTAMP:20260422T132724
CREATED:20250330T111919Z
LAST-MODIFIED:20250330T111919Z
UID:13412-1743433200-1743440400@kolkatatheatre.com
SUMMARY:Durgapur Bhimroti’s Prati-prashna\, at Academy
DESCRIPTION:Based on the Netflix webseries Criminal\, exploring the scars of sexual harassment in the context of an unresolved police interrogation. Adapted and directed by Dipankar Sen.
URL:https://kolkatatheatre.com/event/durgapur-bhimrotis-prati-prashna-at-academy/
LOCATION:Academy of Fine Arts\, 2\, Cathedral Rd\, Maidan\, Kolkata\, West Bengal 700020\, Kolkata\, West Bengal\, 700071\, India
CATEGORIES:Theatre
END:VEVENT
BEGIN:VEVENT
DTSTART;TZID=Asia/Kolkata:20250330T183000
DTEND;TZID=Asia/Kolkata:20250330T210000
DTSTAMP:20260422T132724
CREATED:20250326T185559Z
LAST-MODIFIED:20250326T185559Z
UID:13402-1743359400-1743368400@kolkatatheatre.com
SUMMARY:Mukhomukhi’s Tiner Taloyar\, at Kala Mandir
DESCRIPTION:Utpal Dutt’s classic play\, directed by Suman Mukhopadhyay. Recommended: ★★★★
URL:https://kolkatatheatre.com/event/mukhomukhis-tiner-taloyar-at-kala-mandir/
LOCATION:Kala Mandir\, Shakespeare Sarani\, Kolkata
CATEGORIES:Theatre
END:VEVENT
BEGIN:VEVENT
DTSTART;TZID=Asia/Kolkata:20250330T183000
DTEND;TZID=Asia/Kolkata:20250330T203000
DTSTAMP:20260422T132724
CREATED:20250329T072533Z
LAST-MODIFIED:20250329T072533Z
UID:13410-1743359400-1743366600@kolkatatheatre.com
SUMMARY:Studio 9’s My Name Is Jaan\, at Birla Sabhagar
DESCRIPTION:Arpita Chatterjee’s solo musical on Gauhar Jan\, directed by Abanti Chakraborty. Read my review.
URL:https://kolkatatheatre.com/event/studio-9s-my-name-is-jaan-at-birla-sabhagar-2/
LOCATION:G D Birla Sabhagar\, 29 Ashutosh Chowdhury Avenue\, Kolkata\, 700019
CATEGORIES:Theatre
END:VEVENT
BEGIN:VEVENT
DTSTART;TZID=Asia/Kolkata:20250330T183000
DTEND;TZID=Asia/Kolkata:20250330T203000
DTSTAMP:20260422T132724
CREATED:20250326T185819Z
LAST-MODIFIED:20250326T185819Z
UID:13404-1743359400-1743366600@kolkatatheatre.com
SUMMARY:Pancham Vaidic’s Tumi Thik Jadi Bhabo Tumi Thik\, at Madhusudan
DESCRIPTION:Adapted from Pirandello’s Right You Are If You Think So and directed by Arpita Ghosh. \nRecommended: ★★★★ Read my review.
URL:https://kolkatatheatre.com/event/pancham-vaidics-tumi-thik-jadi-bhabo-tumi-thik-at-madhusudan-5/
LOCATION:Madhusudan Mancha\, Gariahat Rd S\, Jodhpur Park\,\, Kolkata\, West Bengal\, 700031\, India
CATEGORIES:Theatre
END:VEVENT
BEGIN:VEVENT
DTSTART;TZID=Asia/Kolkata:20250329T183000
DTEND;TZID=Asia/Kolkata:20250329T203000
DTSTAMP:20260422T132724
CREATED:20250326T185201Z
LAST-MODIFIED:20250326T185201Z
UID:13400-1743273000-1743280200@kolkatatheatre.com
SUMMARY:Beadon Street Subham’s Shab Charitra Kalpanik\, at Madhusudan
DESCRIPTION:Dramatized from Parashuram’s Mahesher Mahajatra about two friends searching for ghosts\, by Kallol Lahiri and members of the repertory\, and directed by Anamitra Khan.
URL:https://kolkatatheatre.com/event/beadon-street-subhams-shab-charitra-kalpanik-at-madhusudan/
LOCATION:Madhusudan Mancha\, Gariahat Rd S\, Jodhpur Park\,\, Kolkata\, West Bengal\, 700031\, India
CATEGORIES:Theatre
END:VEVENT
BEGIN:VEVENT
DTSTART;TZID=Asia/Kolkata:20250326T183000
DTEND;TZID=Asia/Kolkata:20250326T203000
DTSTAMP:20260422T132724
CREATED:20250323T100247Z
LAST-MODIFIED:20250323T100247Z
UID:13397-1743013800-1743021000@kolkatatheatre.com
SUMMARY:Dwitiya Satta’s Na Tor Janya\, at Madhusudan
DESCRIPTION:Written and directed by Suman Sengupta\, a portrayal of the dilemma of an accomplished commercial artist who sells out to the ruthless and competitive contemporary ratrace.
URL:https://kolkatatheatre.com/event/dwitiya-sattas-na-tor-janya-at-madhusudan-3/
LOCATION:Madhusudan Mancha\, Gariahat Rd S\, Jodhpur Park\,\, Kolkata\, West Bengal\, 700031\, India
CATEGORIES:Theatre
END:VEVENT
BEGIN:VEVENT
DTSTART;TZID=Asia/Kolkata:20250324T183000
DTEND;TZID=Asia/Kolkata:20250324T203000
DTSTAMP:20260422T132724
CREATED:20250323T095939Z
LAST-MODIFIED:20250323T095939Z
UID:13395-1742841000-1742848200@kolkatatheatre.com
SUMMARY:Chetana’s Hibijibi Bahini\, at Academy
DESCRIPTION:A “non-sense” production with child and adult actors\, written and directed by Sujan Mukhopadhyay. Alibaba\, accompanied by his trusty donkey\, opens the door to the cave and discovers no treasure but ancient\, worthless artifacts and a rusted lamp from which emerges the Genie. Meanwhile\, the band of thieves finds themselves devoid of any occupation in today’s hyper-competitive world of employment\, and a magician enters their den.
URL:https://kolkatatheatre.com/event/chetanas-hibijibi-bahini-at-academy-2/
LOCATION:Academy of Fine Arts\, 2\, Cathedral Rd\, Maidan\, Kolkata\, West Bengal 700020\, Kolkata\, West Bengal\, 700071\, India
CATEGORIES:Theatre
END:VEVENT
BEGIN:VEVENT
DTSTART;TZID=Asia/Kolkata:20250323T183000
DTEND;TZID=Asia/Kolkata:20250323T203000
DTSTAMP:20260422T132724
CREATED:20250320T131635Z
LAST-MODIFIED:20250320T131635Z
UID:13391-1742754600-1742761800@kolkatatheatre.com
SUMMARY:Nat-ranga’s Ami Weds Ami\, at Academy
DESCRIPTION:Revival of Sohan Bandopadhyay’s Bengali dramatization from 2010 of Charlie Fish’s short story “The Man Who Married Himself”\, about a man who does just that.
URL:https://kolkatatheatre.com/event/nat-rangas-ami-weds-ami-at-academy/
LOCATION:Academy of Fine Arts\, 2\, Cathedral Rd\, Maidan\, Kolkata\, West Bengal 700020\, Kolkata\, West Bengal\, 700071\, India
CATEGORIES:Theatre
END:VEVENT
BEGIN:VEVENT
DTSTART;TZID=Asia/Kolkata:20250322T183000
DTEND;TZID=Asia/Kolkata:20250322T203000
DTSTAMP:20260422T132724
CREATED:20250320T125909Z
LAST-MODIFIED:20250320T125909Z
UID:13383-1742668200-1742675400@kolkatatheatre.com
SUMMARY:Ichheymoto’s Mantu o Marx\, at Academy
DESCRIPTION:An unusual play where Marx appears today and tries to explain his theories to a Bengali labourer. Written by Dhrubajyoti Chakrabarti and directed by Kushal Chattopadhyay.
URL:https://kolkatatheatre.com/event/ichheymotos-mantu-o-marx-at-academy-2/
LOCATION:Academy of Fine Arts\, 2\, Cathedral Rd\, Maidan\, Kolkata\, West Bengal 700020\, Kolkata\, West Bengal\, 700071\, India
CATEGORIES:Theatre
END:VEVENT
BEGIN:VEVENT
DTSTART;TZID=Asia/Kolkata:20250322T180000
DTEND;TZID=Asia/Kolkata:20250322T200000
DTSTAMP:20260422T132724
CREATED:20250320T131502Z
LAST-MODIFIED:20250320T131502Z
UID:13385-1742666400-1742673600@kolkatatheatre.com
SUMMARY:Padatik/rikh’s Mark Twain: Live in Bombay!\, at KCC
DESCRIPTION:Based by Canadian playwright Gabriel Emanuel on Twain’s not-too-well-known Indian visit and lecture in Bombay\, directed and enacted by Vinay Sharma. \nHighly recommended: ★★★★★. Read my review.
URL:https://kolkatatheatre.com/event/padatik-rikhs-mark-twain-live-in-bombay-at-kcc/
LOCATION:Kolkata Centre for Creativity\, Anandapur\, E M Bypass\, Kolkata
CATEGORIES:Theatre
END:VEVENT
BEGIN:VEVENT
DTSTART;TZID=Asia/Kolkata:20250321T183000
DTEND;TZID=Asia/Kolkata:20250321T203000
DTSTAMP:20260422T132724
CREATED:20250316T104648Z
LAST-MODIFIED:20250316T104648Z
UID:13378-1742581800-1742589000@kolkatatheatre.com
SUMMARY:Srijak's Prajapati\, at Tapan
DESCRIPTION:Samaresh Basu’s 1967 novel subsequently banned for obscenity (the Supreme Court overturned the judgment in 1985)\, dramatized and directed by Debashis Basu.
URL:https://kolkatatheatre.com/event/srijaks-prajapati-at-tapan/
LOCATION:Tapan Theatre\, Kalighat
CATEGORIES:Theatre
END:VEVENT
BEGIN:VEVENT
DTSTART;TZID=Asia/Kolkata:20250321T180000
DTEND;TZID=Asia/Kolkata:20250321T210000
DTSTAMP:20260422T132724
CREATED:20250316T103044Z
LAST-MODIFIED:20250316T103044Z
UID:13376-1742580000-1742590800@kolkatatheatre.com
SUMMARY:Natadha’s Mahabharat 2\, at Madhusudan
DESCRIPTION:Written by Shib Mukhopadhyay as his second dramatization of the epic\, this time concentrating on the Udyoga Parva. Directed by Arna Mukhopadhyay. \nRecommended: ★★★★. Read my review.
URL:https://kolkatatheatre.com/event/natadhas-mahabharat-2-at-madhusudan/
LOCATION:Madhusudan Mancha\, Gariahat Rd S\, Jodhpur Park\,\, Kolkata\, West Bengal\, 700031\, India
CATEGORIES:Theatre
END:VEVENT
BEGIN:VEVENT
DTSTART;TZID=Asia/Kolkata:20250318T183000
DTEND;TZID=Asia/Kolkata:20250318T203000
DTSTAMP:20260422T132724
CREATED:20250316T102038Z
LAST-MODIFIED:20250316T102038Z
UID:13374-1742322600-1742329800@kolkatatheatre.com
SUMMARY:Hajabarala’s Ekanayaker Sesh Rat\, at Academy
DESCRIPTION:Written and directed by Chandan Sen\, Ekanāyaker Sesh Rāt depicts an imaginary strife-torn African nation where a military dictator took over but now faces a popular revolution.
URL:https://kolkatatheatre.com/event/hajabaralas-ekanayaker-sesh-rat-at-academy-4/
LOCATION:Academy of Fine Arts\, 2\, Cathedral Rd\, Maidan\, Kolkata\, West Bengal 700020\, Kolkata\, West Bengal\, 700071\, India
CATEGORIES:Theatre
END:VEVENT
BEGIN:VEVENT
DTSTART;TZID=Asia/Kolkata:20250317T183000
DTEND;TZID=Asia/Kolkata:20250317T203000
DTSTAMP:20260422T132724
CREATED:20250316T101736Z
LAST-MODIFIED:20250316T101736Z
UID:13372-1742236200-1742243400@kolkatatheatre.com
SUMMARY:Nirbak’s Saodagarer Nauka\, at Academy
DESCRIPTION:Revival of Ajitesh Bandopadhyay’s drama about the crisis of identity and relevance of a Jatra artiste. Directed by Ashok Mukhopadhyay.
URL:https://kolkatatheatre.com/event/nirbaks-saodagarer-nauka-at-academy-3/
LOCATION:Academy of Fine Arts\, 2\, Cathedral Rd\, Maidan\, Kolkata\, West Bengal 700020\, Kolkata\, West Bengal\, 700071\, India
CATEGORIES:Theatre
END:VEVENT
BEGIN:VEVENT
DTSTART;TZID=Asia/Kolkata:20250316T183000
DTEND;TZID=Asia/Kolkata:20250316T203000
DTSTAMP:20260422T132724
CREATED:20250313T092532Z
LAST-MODIFIED:20250313T092532Z
UID:13368-1742149800-1742157000@kolkatatheatre.com
SUMMARY:Nat-ranga's Ami Weds Ami\, at Girish
DESCRIPTION:Revival of Sohan Bandopadhyay’s Bengali dramatization from 2010 of Charlie Fish’s short story “The Man Who Married Himself”\, about a man who does just that.
URL:https://kolkatatheatre.com/event/nat-rangas-ami-weds-ami-at-girish/
LOCATION:Girish Mancha\, Bagbazar
CATEGORIES:Theatre
END:VEVENT
BEGIN:VEVENT
DTSTART;TZID=Asia/Kolkata:20250316T180000
DTEND;TZID=Asia/Kolkata:20250316T210000
DTSTAMP:20260422T132724
CREATED:20250313T093111Z
LAST-MODIFIED:20250313T093111Z
UID:13370-1742148000-1742158800@kolkatatheatre.com
SUMMARY:Swapna-sandhani’s Hamlet\, at Kala Mandir
DESCRIPTION:Shakespeare’s classic directed by Koushik Sen in a Bengali translation by Chaiti Mitra. \nRecommended: ★★★★ Read my review.
URL:https://kolkatatheatre.com/event/swapna-sandhanis-hamlet-at-kala-mandir/
LOCATION:Kala Mandir\, Shakespeare Sarani\, Kolkata
CATEGORIES:Theatre
END:VEVENT
BEGIN:VEVENT
DTSTART;TZID=Asia/Kolkata:20250315T150000
DTEND;TZID=Asia/Kolkata:20250315T170000
DTSTAMP:20260422T132724
CREATED:20250313T090951Z
LAST-MODIFIED:20250313T090951Z
UID:13366-1742050800-1742058000@kolkatatheatre.com
SUMMARY:Rangroop’s Swaha\, at Academy
DESCRIPTION:About rural superstition exploiting young girls\, dramatized from Sayantani Putatunda and directed by Sima Mukhopadhyay. \nRecommended: ★★★★ Read my review.
URL:https://kolkatatheatre.com/event/rangroops-swaha-at-academy-4/
LOCATION:Academy of Fine Arts\, 2\, Cathedral Rd\, Maidan\, Kolkata\, West Bengal 700020\, Kolkata\, West Bengal\, 700071\, India
CATEGORIES:Theatre
END:VEVENT
BEGIN:VEVENT
DTSTART;TZID=Asia/Kolkata:20250313T183000
DTEND;TZID=Asia/Kolkata:20250313T203000
DTSTAMP:20260422T132724
CREATED:20250309T110434Z
LAST-MODIFIED:20250309T110434Z
UID:13363-1741890600-1741897800@kolkatatheatre.com
SUMMARY:Samstab’s Gaurer Kabach\, at Academy
DESCRIPTION:Shirshendu Mukhopadhyay’s magical story about Gaur\, who loves to play the flute\, and is loved by the ancient folk in his village\, threatened by the arrival of a man who wants to take over everything. Dramatized and directed by Suman Sengupta.
URL:https://kolkatatheatre.com/event/samstabs-gaurer-kabach-at-academy-2/
LOCATION:Academy of Fine Arts\, 2\, Cathedral Rd\, Maidan\, Kolkata\, West Bengal 700020\, Kolkata\, West Bengal\, 700071\, India
CATEGORIES:Theatre
END:VEVENT
BEGIN:VEVENT
DTSTART;TZID=Asia/Kolkata:20250311T183000
DTEND;TZID=Asia/Kolkata:20250311T203000
DTSTAMP:20260422T132724
CREATED:20250309T110033Z
LAST-MODIFIED:20250309T110033Z
UID:13361-1741717800-1741725000@kolkatatheatre.com
SUMMARY:Natasena’s Gorur Garir Headlight\, at Academy
DESCRIPTION:The record-breaking comedy that has had an uninterrupted run since 1972\, with over 1200 performances. Written and directed by the late Saroj Ray for his own group Natasena.
URL:https://kolkatatheatre.com/event/natasenas-gorur-garir-headlight-at-academy-3/
LOCATION:Academy of Fine Arts\, 2\, Cathedral Rd\, Maidan\, Kolkata\, West Bengal 700020\, Kolkata\, West Bengal\, 700071\, India
CATEGORIES:Theatre
END:VEVENT
BEGIN:VEVENT
DTSTART;TZID=Asia/Kolkata:20250310T183000
DTEND;TZID=Asia/Kolkata:20250310T203000
DTSTAMP:20260422T132724
CREATED:20250309T105734Z
LAST-MODIFIED:20250309T105734Z
UID:13359-1741631400-1741638600@kolkatatheatre.com
SUMMARY:Sudrak’s Shikh ^kha Jatir Merudanda\, at Academy
DESCRIPTION:Sudrak’s new\, so-called “uneducated” satire on education written and directed by Debasis Majumdar. Read my review.
URL:https://kolkatatheatre.com/event/sudraks-shikh-kha-jatir-merudanda-at-academy-7/
LOCATION:Academy of Fine Arts\, 2\, Cathedral Rd\, Maidan\, Kolkata\, West Bengal 700020\, Kolkata\, West Bengal\, 700071\, India
CATEGORIES:Theatre
END:VEVENT
BEGIN:VEVENT
DTSTART;TZID=Asia/Kolkata:20250309T190000
DTEND;TZID=Asia/Kolkata:20250309T200000
DTSTAMP:20260422T132724
CREATED:20250306T162518Z
LAST-MODIFIED:20250306T162518Z
UID:13355-1741546800-1741550400@kolkatatheatre.com
SUMMARY:Kapila Venu (Irinjalakuda)'s Saiva Kuttu\, at Alipore Museum
DESCRIPTION:A very rare opportunity to see the solo genre of the ancient Sanskrit form of Kutiyattam from Kerala\, performed by one of its finest younger exponents\, Kapila Venu\, using a 6th-century Tamil text. A must-watch.
URL:https://kolkatatheatre.com/event/kapila-venu-irinjalakudas-saiva-kuttu-at-alipore-museum/
LOCATION:Alipore Musiem\, Judges Court Road\, Kolkata\, India
CATEGORIES:Theatre
END:VEVENT
BEGIN:VEVENT
DTSTART;TZID=Asia/Kolkata:20250309T183000
DTEND;TZID=Asia/Kolkata:20250309T203000
DTSTAMP:20260422T132724
CREATED:20250306T160414Z
LAST-MODIFIED:20250306T160414Z
UID:13353-1741545000-1741552200@kolkatatheatre.com
SUMMARY:Purba Paschim’s Sri o Nidhu-babu Katha\, at Academy
DESCRIPTION:Ujjwal Chattopadhyay’s play about the triangle between Tappa pioneer Nidhu-babu\, his royal patron-friend Mahananda Ray\, and the latter’s mistress Srimati who became Nidhu-babu’s devoted disciple. Directed by Soumitra Mitra.
URL:https://kolkatatheatre.com/event/purba-paschims-sri-o-nidhu-babu-katha-at-academy-4/
LOCATION:Academy of Fine Arts\, 2\, Cathedral Rd\, Maidan\, Kolkata\, West Bengal 700020\, Kolkata\, West Bengal\, 700071\, India
CATEGORIES:Theatre
END:VEVENT
BEGIN:VEVENT
DTSTART;TZID=Asia/Kolkata:20250308T183000
DTEND;TZID=Asia/Kolkata:20250308T203000
DTSTAMP:20260422T132724
CREATED:20250306T160003Z
LAST-MODIFIED:20250306T160003Z
UID:13351-1741458600-1741465800@kolkatatheatre.com
SUMMARY:Prachya’s Khelaghar\, at Academy
DESCRIPTION:Ibsen’s trailblazing Doll’s House adapted by Ratan Kumar Das and directed by Biplab Bandyopadhyay. \nRecommended: ★★★★ Read my review.
URL:https://kolkatatheatre.com/event/prachyas-khelaghar-at-academy-2/
LOCATION:Academy of Fine Arts\, 2\, Cathedral Rd\, Maidan\, Kolkata\, West Bengal 700020\, Kolkata\, West Bengal\, 700071\, India
CATEGORIES:Theatre
END:VEVENT
BEGIN:VEVENT
DTSTART;TZID=Asia/Kolkata:20250305T183000
DTEND;TZID=Asia/Kolkata:20250305T203000
DTSTAMP:20260422T132724
CREATED:20250302T103355Z
LAST-MODIFIED:20250302T103355Z
UID:13338-1741199400-1741206600@kolkatatheatre.com
SUMMARY:Sayak’s Dharmabatar\, at Academy
DESCRIPTION:Ujjwal Chattopadhyay’s play inspired by a foreign film about the personal conflict between a retired judge and his son who defends criminals. Directed by Meghnad Bhattacharya.
URL:https://kolkatatheatre.com/event/sayaks-dharmabatar-at-academy-4/
LOCATION:Academy of Fine Arts\, 2\, Cathedral Rd\, Maidan\, Kolkata\, West Bengal 700020\, Kolkata\, West Bengal\, 700071\, India
CATEGORIES:Theatre
END:VEVENT
BEGIN:VEVENT
DTSTART;TZID=Asia/Kolkata:20250305T140000
DTEND;TZID=Asia/Kolkata:20250305T160000
DTSTAMP:20260422T132724
CREATED:20250302T111150Z
LAST-MODIFIED:20250302T111150Z
UID:13346-1741183200-1741190400@kolkatatheatre.com
SUMMARY:Manch Rangmanch (Amritsar)'s Rang Basanti\, at Gyan Manch
DESCRIPTION:Partap Sehgal’s play is a narrative of Bhagat Singh’s life\, whose revolutionary actions are repeatedly highlighted\, but his socialist ideology relegated to the background. He emerges as a radical in actions and also in his thinking. Directed by Kewal Dhaliwal. Concluding production of Little Thespian’s Jashn-e-Azhar national theatre festival.
URL:https://kolkatatheatre.com/event/manch-rangmanch-amritsars-rang-basanti-at-gyan-manch/
LOCATION:Gyan Manch\, Gyan Manch\, 11\, Pretoria St\, Kolkata\, West Bengal\, 700071\, India
CATEGORIES:Theatre
END:VEVENT
BEGIN:VEVENT
DTSTART;TZID=Asia/Kolkata:20250304T183000
DTEND;TZID=Asia/Kolkata:20250304T203000
DTSTAMP:20260422T132724
CREATED:20250302T102942Z
LAST-MODIFIED:20250302T102942Z
UID:13336-1741113000-1741120200@kolkatatheatre.com
SUMMARY:Garia Krishti’s Kalpurush\, at Tapan
DESCRIPTION:Dramatized from Samares Mazumdar’s novel\, the third in his Animesh quartet\, focusing on the journey of Animesh’s son. Scripted and directed by Sitangshu Khatua.
URL:https://kolkatatheatre.com/event/garia-krishtis-kalpurush-at-tapan/
LOCATION:Tapan Theatre\, Kalighat
CATEGORIES:Theatre
END:VEVENT
BEGIN:VEVENT
DTSTART;TZID=Asia/Kolkata:20250304T140000
DTEND;TZID=Asia/Kolkata:20250304T160000
DTSTAMP:20260422T132724
CREATED:20250302T110312Z
LAST-MODIFIED:20250302T110312Z
UID:13344-1741096800-1741104000@kolkatatheatre.com
SUMMARY:Samukha (New Delhi)'s Bulleh Shah\, at Gyan Manch
DESCRIPTION:Partap Sehgal’s play about Bulleh Shah\, descendant of Prophet Mohammad and belonging to the upper Pathan caste\, whose family members opposed him becoming a disciple of the Sufi seer Shah Inayat\, considered a lower caste\, and did not even like him dancing and singing from street to street. Directed by Arvind Singh. Part of Little Thespian’s Jashn-e-Azhar national theatre festival.
URL:https://kolkatatheatre.com/event/samukha-new-delhis-bulleh-shah-at-gyan-manch/
LOCATION:Gyan Manch\, Gyan Manch\, 11\, Pretoria St\, Kolkata\, West Bengal\, 700071\, India
CATEGORIES:Theatre
END:VEVENT
BEGIN:VEVENT
DTSTART;TZID=Asia/Kolkata:20250304T110000
DTEND;TZID=Asia/Kolkata:20250304T130000
DTSTAMP:20260422T132724
CREATED:20250302T105302Z
LAST-MODIFIED:20250302T105302Z
UID:13342-1741086000-1741093200@kolkatatheatre.com
SUMMARY:Kamla Shankar Dhanwanti Foundation (Delhi)'s Ramanujan\, at Gyan Manch
DESCRIPTION:Partap Sehgal’s play celebrates the life and achievements of Srinivasa Ramanujan\, from a poor and modest clerk in Madras to a renowned mathematician at Cambridge\, exploring the challenges he faced due to poor health\, cultural differences and lack of formal education. Directed by Himanshu Himaniya. Part of Little Thespian’s Jashn-e-Azhar national theatre festival.
URL:https://kolkatatheatre.com/event/kamla-shankar-dhanwanti-foundation-delhis-ramanujan-at-gyan-manch/
LOCATION:Gyan Manch\, Gyan Manch\, 11\, Pretoria St\, Kolkata\, West Bengal\, 700071\, India
CATEGORIES:Theatre
END:VEVENT
END:VCALENDAR