BEGIN:VCALENDAR
VERSION:2.0
PRODID:-//KolkataTheatre.com - ECPv6.15.12.2//NONSGML v1.0//EN
CALSCALE:GREGORIAN
METHOD:PUBLISH
X-WR-CALNAME:KolkataTheatre.com
X-ORIGINAL-URL:https://kolkatatheatre.com
X-WR-CALDESC:Events for KolkataTheatre.com
REFRESH-INTERVAL;VALUE=DURATION:PT1H
X-Robots-Tag:noindex
X-PUBLISHED-TTL:PT1H
BEGIN:VTIMEZONE
TZID:Asia/Kolkata
BEGIN:STANDARD
TZOFFSETFROM:+0530
TZOFFSETTO:+0530
TZNAME:IST
DTSTART:20240101T000000
END:STANDARD
END:VTIMEZONE
BEGIN:VEVENT
DTSTART;TZID=Asia/Kolkata:20250219T183000
DTEND;TZID=Asia/Kolkata:20250219T203000
DTSTAMP:20260425T174731
CREATED:20250213T125637Z
LAST-MODIFIED:20250213T131037Z
UID:13283-1739989800-1739997000@kolkatatheatre.com
SUMMARY:Rangroop’s Abyakta\, at Academy
DESCRIPTION:Sounava Bose’s compelling historical play about the life and times of Dr Mahendra Lal Sircar\, the second MD from the University of Calcutta\, who became a famed homeopath and also founded the Indian Association for the Cultivation of Science. Directed by Sima Mukhopadhyay. \nRecommended: ★★★★. Read my review here.
URL:https://kolkatatheatre.com/event/rangroops-abyakta-at-academy-2/
LOCATION:Academy of Fine Arts\, 2\, Cathedral Rd\, Maidan\, Kolkata\, West Bengal 700020\, Kolkata\, West Bengal\, 700071\, India
CATEGORIES:Theatre
END:VEVENT
BEGIN:VEVENT
DTSTART;TZID=Asia/Kolkata:20250218T183000
DTEND;TZID=Asia/Kolkata:20250218T203000
DTSTAMP:20260425T174731
CREATED:20250213T124617Z
LAST-MODIFIED:20250213T124617Z
UID:13280-1739903400-1739910600@kolkatatheatre.com
SUMMARY:Samstab's Gaurer Kabach\, at Academy
DESCRIPTION:Shirshendu Mukhopadhyay’s magical story about Gaur\, who loves to play the flute\, and is loved by the ancient folk in his village\, threatened by the arrival of a man who wants to take over everything. Dramatized and directed by Suman Sengupta.
URL:https://kolkatatheatre.com/event/samstabs-gaurer-kabach-at-academy/
LOCATION:Academy of Fine Arts\, 2\, Cathedral Rd\, Maidan\, Kolkata\, West Bengal 700020\, Kolkata\, West Bengal\, 700071\, India
CATEGORIES:Theatre
END:VEVENT
BEGIN:VEVENT
DTSTART;TZID=Asia/Kolkata:20250215T183000
DTEND;TZID=Asia/Kolkata:20250215T203000
DTSTAMP:20260425T174731
CREATED:20250213T123153Z
LAST-MODIFIED:20250213T123153Z
UID:13278-1739644200-1739651400@kolkatatheatre.com
SUMMARY:Aneek’s Aksharik\, at Tapan
DESCRIPTION:Dramatist-director Debasish’s biodrama about Panchanan Karmakar\, the first creator of Bengali moveable typeface in the 18th century\, based on Rajat Chakraborti’s novel Panchananer Haraph. \nRecommended: ★★★★ Read my review.
URL:https://kolkatatheatre.com/event/aneeks-aksharik-at-tapan-4/
LOCATION:Tapan Theatre\, Kalighat
CATEGORIES:Theatre
END:VEVENT
BEGIN:VEVENT
DTSTART;TZID=Asia/Kolkata:20250214T183000
DTEND;TZID=Asia/Kolkata:20250214T210000
DTSTAMP:20260425T174731
CREATED:20250209T102241Z
LAST-MODIFIED:20250209T102241Z
UID:13272-1739557800-1739566800@kolkatatheatre.com
SUMMARY:Angik’s Binodini Opera\, at Kala Mandir
DESCRIPTION:Biographical drama on Nati Binodini co-written by Abanti Chakraborty and Sibashis Bandyopadhyay\, and directed by Abanti Chakraborty.
URL:https://kolkatatheatre.com/event/angiks-binodini-opera-at-kala-mandir-2/
LOCATION:Kala Mandir\, Shakespeare Sarani\, Kolkata
CATEGORIES:Theatre
END:VEVENT
BEGIN:VEVENT
DTSTART;TZID=Asia/Kolkata:20250213T183000
DTEND;TZID=Asia/Kolkata:20250213T203000
DTSTAMP:20260425T174731
CREATED:20250209T103314Z
LAST-MODIFIED:20250209T103314Z
UID:13274-1739471400-1739478600@kolkatatheatre.com
SUMMARY:Rangapat's He Sindhusaras\, at Academy
DESCRIPTION:Rangapat’s latest production\, based by dramatist Ujjwal Chattopadhyay on the making of Chekhov’s classic The Seagull\, recreating the work of the Moscow Art Theatre\, its director Stanislavski and lead actress Olga Knipper (Chekhov’s wife). Directed by Tapanjyoti.
URL:https://kolkatatheatre.com/event/rangapats-he-sindhusaras-at-academy/
LOCATION:Academy of Fine Arts\, 2\, Cathedral Rd\, Maidan\, Kolkata\, West Bengal 700020\, Kolkata\, West Bengal\, 700071\, India
CATEGORIES:Theatre
END:VEVENT
BEGIN:VEVENT
DTSTART;TZID=Asia/Kolkata:20250213T183000
DTEND;TZID=Asia/Kolkata:20250213T203000
DTSTAMP:20260425T174731
CREATED:20250209T101057Z
LAST-MODIFIED:20250209T101057Z
UID:13268-1739471400-1739478600@kolkatatheatre.com
SUMMARY:Shohan’s Amirah\, at Girish
DESCRIPTION:Inspired by Sophocles’ classic Greek tragedy Antigone\, written by Anirban Sen and directed by Anish Ghosh. Free admission as part of the 24th Natyamela.
URL:https://kolkatatheatre.com/event/shohans-amirah-at-girish/
LOCATION:Girish Mancha\, Bagbazar
CATEGORIES:Theatre
END:VEVENT
BEGIN:VEVENT
DTSTART;TZID=Asia/Kolkata:20250211T183000
DTEND;TZID=Asia/Kolkata:20250211T203000
DTSTAMP:20260425T174731
CREATED:20250209T101513Z
LAST-MODIFIED:20250209T101513Z
UID:13270-1739298600-1739305800@kolkatatheatre.com
SUMMARY:Anya Theatre’s Pratham Rajnaitik Hatya\, at Madhusudan
DESCRIPTION:Written and directed by Debashis. Based on the freedom fighters arrested in the Alipore Bomb Case of 1908. \nRecommended: ★★★★. Read my review. Free admission as part of the 24th Natyamela.
URL:https://kolkatatheatre.com/event/anya-theatres-pratham-rajnaitik-hatya-at-madhusudan-2/
LOCATION:Madhusudan Mancha\, Gariahat Rd S\, Jodhpur Park\,\, Kolkata\, West Bengal\, 700031\, India
CATEGORIES:Theatre
END:VEVENT
BEGIN:VEVENT
DTSTART;TZID=Asia/Kolkata:20250209T183000
DTEND;TZID=Asia/Kolkata:20250209T203000
DTSTAMP:20260425T174731
CREATED:20250206T083103Z
LAST-MODIFIED:20250206T083103Z
UID:13262-1739125800-1739133000@kolkatatheatre.com
SUMMARY:Rangroop’s Manmayi Girls School\, at Jogesh
DESCRIPTION:The highly popular 1932 play written by Rabindranath Maitra\, directed by Sima Mukhopadhyay. \nRecommended: ★★★★ Read my review here.
URL:https://kolkatatheatre.com/event/rangroops-manmayi-girls-school-at-jogesh/
LOCATION:Jogesh Mime Academy\, Kalighat Park\, Kolkata\, India
CATEGORIES:Theatre
END:VEVENT
BEGIN:VEVENT
DTSTART;TZID=Asia/Kolkata:20250209T150000
DTEND;TZID=Asia/Kolkata:20250209T170000
DTSTAMP:20260425T174731
CREATED:20250206T082633Z
LAST-MODIFIED:20250206T082633Z
UID:13260-1739113200-1739120400@kolkatatheatre.com
SUMMARY:Pancham Vaidic’s Pulish\, at Academy
DESCRIPTION:Acclaimed Polish dramatist Slawomir Mrozek’s dark political satire on power titled Police\, adapted and directed by Arpita Ghosh. \nRecommended: ★★★★. Read my review.
URL:https://kolkatatheatre.com/event/pancham-vaidics-pulish-at-academy-4/
LOCATION:Academy of Fine Arts\, 2\, Cathedral Rd\, Maidan\, Kolkata\, West Bengal 700020\, Kolkata\, West Bengal\, 700071\, India
CATEGORIES:Theatre
END:VEVENT
BEGIN:VEVENT
DTSTART;TZID=Asia/Kolkata:20250208T190000
DTEND;TZID=Asia/Kolkata:20250208T200000
DTSTAMP:20260425T174731
CREATED:20250206T081505Z
LAST-MODIFIED:20250206T081709Z
UID:13255-1739041200-1739044800@kolkatatheatre.com
SUMMARY:Adishakti (Puducherry)'s Urmila\, at Birla Sabhagar
DESCRIPTION:Adishakti comes to Kolkata after many years with their new production in English. Questions of consent\, agency and approval breathe new life into Urmila\, Lakshmana’s wife. Part of Pickle Factory’s month-long Season 5.
URL:https://kolkatatheatre.com/event/adishaktis-urmila-at-birla-sabhagar/
LOCATION:G D Birla Sabhagar\, 29 Ashutosh Chowdhury Avenue\, Kolkata\, 700019
CATEGORIES:Theatre
END:VEVENT
BEGIN:VEVENT
DTSTART;TZID=Asia/Kolkata:20250208T183000
DTEND;TZID=Asia/Kolkata:20250208T203000
DTSTAMP:20260425T174731
CREATED:20250206T083900Z
LAST-MODIFIED:20250206T083900Z
UID:13265-1739039400-1739046600@kolkatatheatre.com
SUMMARY:4th Bell’s Hapi-D\, at Rabindra Sadan
DESCRIPTION:An ebullient Bengali pastiche of Hamlet. 4th Bell debuted in 2011 with this play\, deliberately and delectably perverting Shakespeare’s tragedy into a festive comedy written and directed by Aniruddha Dasgupta. \nRecommended: ★★★★. Free admission as part of the 24th Natyamela.
URL:https://kolkatatheatre.com/event/4th-bells-hapi-d-at-rabindra-sadan/
LOCATION:Rabindra Sadan\, Cathedral Road\, Kolkata\, 700016
CATEGORIES:Theatre
END:VEVENT
BEGIN:VEVENT
DTSTART;TZID=Asia/Kolkata:20250208T183000
DTEND;TZID=Asia/Kolkata:20250208T203000
DTSTAMP:20260425T174731
CREATED:20250206T082306Z
LAST-MODIFIED:20250206T082306Z
UID:13258-1739039400-1739046600@kolkatatheatre.com
SUMMARY:Chetla Krishti Sansad’s Amar Gan\, at Jogesh
DESCRIPTION:A blind and wheelchair-bound youth\, highly intelligent\, wants to know about light from his physicist father. Written and directed by Suman Sengupta. Recommended: ★★★★ Read my review.
URL:https://kolkatatheatre.com/event/chetla-krishti-sansads-amar-gan-at-jogesh/
LOCATION:Jogesh Mime Academy\, Kalighat Park\, Kolkata\, India
CATEGORIES:Theatre
END:VEVENT
BEGIN:VEVENT
DTSTART;TZID=Asia/Kolkata:20250206T183000
DTEND;TZID=Asia/Kolkata:20250206T203000
DTSTAMP:20260425T174731
CREATED:20250205T074752Z
LAST-MODIFIED:20250205T074752Z
UID:13253-1738866600-1738873800@kolkatatheatre.com
SUMMARY:Kolkata Twist's Banaspatir Chhaya\, at Academy
DESCRIPTION:Ratan Kumar Das’s new play about a lonely man whose only attachments left are his daughter and his home. Everything has changed around him: relationships and the times. Directed by Biplab Bandyopadhyay.
URL:https://kolkatatheatre.com/event/kolkata-twists-banaspatir-chhaya-at-academy-2/
LOCATION:Academy of Fine Arts\, 2\, Cathedral Rd\, Maidan\, Kolkata\, West Bengal 700020\, Kolkata\, West Bengal\, 700071\, India
CATEGORIES:Theatre
END:VEVENT
BEGIN:VEVENT
DTSTART;TZID=Asia/Kolkata:20250206T183000
DTEND;TZID=Asia/Kolkata:20250206T193000
DTSTAMP:20260425T174731
CREATED:20250202T095554Z
LAST-MODIFIED:20250202T095554Z
UID:13251-1738866600-1738870200@kolkatatheatre.com
SUMMARY:Sutrapat's Elating Belating Sai Lo\, at Tripti Mitra
DESCRIPTION:Intimate theatre directed by Jayoti Bose\, part of the 24th Natyamela.
URL:https://kolkatatheatre.com/event/sutrapats-elating-belating-sai-lo-at-tripti-mitra/
LOCATION:Tripti Mitra Natyagriha\, Natya Akademi\, Nandan complex\, Kolkata\, 700020
CATEGORIES:Theatre
END:VEVENT
BEGIN:VEVENT
DTSTART;TZID=Asia/Kolkata:20250205T150000
DTEND;TZID=Asia/Kolkata:20250213T210000
DTSTAMP:20260425T174731
CREATED:20250202T095026Z
LAST-MODIFIED:20250202T095026Z
UID:13249-1738767600-1739480400@kolkatatheatre.com
SUMMARY:24th Natyamela
DESCRIPTION:The West Bengal Government has organized its annual Natyamela of Bengali theatre from February 5 till February 13\, with free admission for everyone. Every afternoon and evening\, 80 groups from all over the state will stage their productions at the state-run auditoriums in Kolkata: Rabindra Sadan\, Girish Mancha\, Madhusudan Mancha\, Sisir Mancha\, Tripti Mitra Natyagriha and Ektara Muktamancha. Performances include folk performances\, puppet theatre\, mime and intimate theatre\, besides regular proscenium theatre (full-length at the first three venues\, one-act at the others). Schedule downloadable at https://pbna.wbicad.in/notification.php
URL:https://kolkatatheatre.com/event/24th-natyamela/
CATEGORIES:Theatre
END:VEVENT
BEGIN:VEVENT
DTSTART;TZID=Asia/Kolkata:20250204T180000
DTEND;TZID=Asia/Kolkata:20250204T203000
DTSTAMP:20260425T174731
CREATED:20250201T073810Z
LAST-MODIFIED:20250201T073810Z
UID:13247-1738692000-1738701000@kolkatatheatre.com
SUMMARY:Mukhomukhi’s Tiner Taloyar\, at Birla Sabhagar
DESCRIPTION:Utpal Dutt’s classic play\, directed by Suman Mukhopadhyay. Recommended: ★★★★
URL:https://kolkatatheatre.com/event/mukhomukhis-tiner-taloyar-at-birla-sabhagar/
LOCATION:G D Birla Sabhagar\, 29 Ashutosh Chowdhury Avenue\, Kolkata\, 700019
CATEGORIES:Theatre
END:VEVENT
BEGIN:VEVENT
DTSTART;TZID=Asia/Kolkata:20250131T100000
DTEND;TZID=Asia/Kolkata:20250131T120000
DTSTAMP:20260425T174731
CREATED:20250126T093248Z
LAST-MODIFIED:20250126T093248Z
UID:13239-1738317600-1738324800@kolkatatheatre.com
SUMMARY:Shabdomugdho's Rituparno Ghosh\, at Academy
DESCRIPTION:Not biographical\, but a fictional drama showing the profound influence that film director Rituparno had as an icon. Rakesh Ghosh wrote and directed it in 2013\, about a young transgender man teased on the street as “Rituparno”\, who wants to join the crowd at Nandan paying homage to his idol after the latter’s death.
URL:https://kolkatatheatre.com/event/shabdomugdhos-rituparno-ghosh-at-academy/
LOCATION:Academy of Fine Arts\, 2\, Cathedral Rd\, Maidan\, Kolkata\, West Bengal 700020\, Kolkata\, West Bengal\, 700071\, India
CATEGORIES:Theatre
END:VEVENT
BEGIN:VEVENT
DTSTART;TZID=Asia/Kolkata:20250126T183000
DTEND;TZID=Asia/Kolkata:20250126T210000
DTSTAMP:20260425T174731
CREATED:20250123T185830Z
LAST-MODIFIED:20250123T185830Z
UID:13233-1737916200-1737925200@kolkatatheatre.com
SUMMARY:Nandikar’s Panchajanya\, at Kala Mandir
DESCRIPTION:A play written by Parthapratim Deb dramatizing the story of Krishna\, directed by Sohini Sengupta.
URL:https://kolkatatheatre.com/event/nandikars-panchajanya-at-kala-mandir-2/
LOCATION:Kala Mandir\, Shakespeare Sarani\, Kolkata
CATEGORIES:Theatre
END:VEVENT
BEGIN:VEVENT
DTSTART;TZID=Asia/Kolkata:20250126T181500
DTEND;TZID=Asia/Kolkata:20250126T203000
DTSTAMP:20260425T174731
CREATED:20250123T190311Z
LAST-MODIFIED:20250123T190311Z
UID:13237-1737915300-1737923400@kolkatatheatre.com
SUMMARY:Natasena’s Gorur Garir Headlight\, at Academy
DESCRIPTION:The record-breaking comedy that has had an uninterrupted run since 1972\, with over 1200 performances. Written and directed by the late Saroj Ray for his own group Natasena.
URL:https://kolkatatheatre.com/event/natasenas-gorur-garir-headlight-at-academy-2/
LOCATION:Academy of Fine Arts\, 2\, Cathedral Rd\, Maidan\, Kolkata\, West Bengal 700020\, Kolkata\, West Bengal\, 700071\, India
CATEGORIES:Theatre
END:VEVENT
BEGIN:VEVENT
DTSTART;TZID=Asia/Kolkata:20250126T180000
DTEND;TZID=Asia/Kolkata:20250126T203000
DTSTAMP:20260425T174731
CREATED:20250123T185446Z
LAST-MODIFIED:20250123T185446Z
UID:13231-1737914400-1737923400@kolkatatheatre.com
SUMMARY:Chetana’s Mahatma Banam Gandhi\, at Birla Sabhagar
DESCRIPTION:Translated by Arun Mukherjee from Ajit Dalvi’s play on Gandhiji’s relationship with his son\, and directed by Sujan Mukherjee. \nRecommended: ★★★★ Read my review.
URL:https://kolkatatheatre.com/event/chetanas-mahatma-banam-gandhi-at-birla-sabhagar/
LOCATION:G D Birla Sabhagar\, 29 Ashutosh Chowdhury Avenue\, Kolkata\, 700019
CATEGORIES:Theatre
END:VEVENT
BEGIN:VEVENT
DTSTART;TZID=Asia/Kolkata:20250126T150000
DTEND;TZID=Asia/Kolkata:20250126T170000
DTSTAMP:20260425T174731
CREATED:20250123T190030Z
LAST-MODIFIED:20250123T190030Z
UID:13235-1737903600-1737910800@kolkatatheatre.com
SUMMARY:Kolkata Playmakers’ Parabola Sir\, at Academy
DESCRIPTION:Dramatized from Narayan Sanyal’s novel by Tirthankar Chanda\, about an idealistic teacher. Directed by Ram Mukhopadhyay.
URL:https://kolkatatheatre.com/event/kolkata-playmakers-parabola-sir-at-academy-4/
LOCATION:Academy of Fine Arts\, 2\, Cathedral Rd\, Maidan\, Kolkata\, West Bengal 700020\, Kolkata\, West Bengal\, 700071\, India
CATEGORIES:Theatre
END:VEVENT
BEGIN:VEVENT
DTSTART;TZID=Asia/Kolkata:20250125T184500
DTEND;TZID=Asia/Kolkata:20250125T210000
DTSTAMP:20260425T174731
CREATED:20250123T185140Z
LAST-MODIFIED:20250123T185140Z
UID:13229-1737830700-1737838800@kolkatatheatre.com
SUMMARY:Purbaranga’s Sitayan\, at Academy
DESCRIPTION:Written and directed by Malay Ray\, inspired by Mallika Sengupta’s novel on Sita’s story rather than Rama’s. \nRecommended: ★★★★. Read my review.
URL:https://kolkatatheatre.com/event/purbarangas-sitayan-at-academy-2/
LOCATION:Academy of Fine Arts\, 2\, Cathedral Rd\, Maidan\, Kolkata\, West Bengal 700020\, Kolkata\, West Bengal\, 700071\, India
CATEGORIES:Theatre
END:VEVENT
BEGIN:VEVENT
DTSTART;TZID=Asia/Kolkata:20250124T183000
DTEND;TZID=Asia/Kolkata:20250124T203000
DTSTAMP:20260425T174731
CREATED:20250119T093054Z
LAST-MODIFIED:20250119T093054Z
UID:13215-1737743400-1737750600@kolkatatheatre.com
SUMMARY:Sanglap Kolkata’s Hulusthul\, at Academy
DESCRIPTION:Dramatized from Shirshendu Mukhopadhyay’s novel by Kuntal Mukhopadhyay and directed by Debasish. A mysterious hawker sells seemingly useless things\, but fruitful in the thirst for knowledge\, which some people conspire to capture. \nRecommended: ★★★★
URL:https://kolkatatheatre.com/event/sanglap-kolkatas-hulusthul-at-academy-2/
LOCATION:Academy of Fine Arts\, 2\, Cathedral Rd\, Maidan\, Kolkata\, West Bengal 700020\, Kolkata\, West Bengal\, 700071\, India
CATEGORIES:Theatre
END:VEVENT
BEGIN:VEVENT
DTSTART;TZID=Asia/Kolkata:20250123T190000
DTEND;TZID=Asia/Kolkata:20250123T203000
DTSTAMP:20260425T174731
CREATED:20250119T095923Z
LAST-MODIFIED:20250119T095923Z
UID:13221-1737658800-1737664200@kolkatatheatre.com
SUMMARY:Samuho’s Atha Hidimba Katha\, at Kolkata Lit Meet\, Horticultural Garden
DESCRIPTION:The all-women theatre collective Samuho reinterprets Hidimba’s story\, devised and directed by Titas Dutta. \nA must-watch: ★★★★. Read my review here.
URL:https://kolkatatheatre.com/event/samuhos-atha-hidimba-katha-at-kolkata-lit-meet-horticultural-garden/
CATEGORIES:Theatre
END:VEVENT
BEGIN:VEVENT
DTSTART;TZID=Asia/Kolkata:20250123T184500
DTEND;TZID=Asia/Kolkata:20250123T203000
DTSTAMP:20260425T174731
CREATED:20250119T094718Z
LAST-MODIFIED:20250119T094718Z
UID:13219-1737657900-1737664200@kolkatatheatre.com
SUMMARY:Theatrecian's 12 Angry Men\, at Kala Kunj
DESCRIPTION:Reginald Rose’s classic courtroom drama\, adapted and directed by Apratim Chatterjee.
URL:https://kolkatatheatre.com/event/theatrecians-12-angry-men-at-kala-kunj/
LOCATION:Kala Kunj\, Kala Mandir\, Shakespeare Sarani\, Kolkata\, 700045
CATEGORIES:Theatre
END:VEVENT
BEGIN:VEVENT
DTSTART;TZID=Asia/Kolkata:20250123T170000
DTEND;TZID=Asia/Kolkata:20250126T190000
DTSTAMP:20260425T174731
CREATED:20250119T094208Z
LAST-MODIFIED:20250119T094208Z
UID:13217-1737651600-1737918000@kolkatatheatre.com
SUMMARY:Bibhaban's Intimate Theatre Festival at Ayna Ghar\, Dum Dum Cantonment
DESCRIPTION:Six Bengali groups present seven short plays over four evenings from 5 p.m.\, with workshops every day from 12 noon to 4 p.m.
URL:https://kolkatatheatre.com/event/bibhabans-intimate-theatre-festival-at-ayna-ghar-dum-dum-cantonment/
CATEGORIES:Theatre
END:VEVENT
BEGIN:VEVENT
DTSTART;TZID=Asia/Kolkata:20250122T183000
DTEND;TZID=Asia/Kolkata:20250122T203000
DTSTAMP:20260425T174731
CREATED:20250119T092315Z
LAST-MODIFIED:20250119T092315Z
UID:13213-1737570600-1737577800@kolkatatheatre.com
SUMMARY:Rangroop’s Manmayi Girls School\, at Academy
DESCRIPTION:The highly popular 1932 play written by Rabindranath Maitra\, directed by Sima Mukhopadhyay. \nRecommended: ★★★★ Read my review here.
URL:https://kolkatatheatre.com/event/rangroops-manmayi-girls-school-at-academy-7/
LOCATION:Academy of Fine Arts\, 2\, Cathedral Rd\, Maidan\, Kolkata\, West Bengal 700020\, Kolkata\, West Bengal\, 700071\, India
CATEGORIES:Theatre
END:VEVENT
BEGIN:VEVENT
DTSTART;TZID=Asia/Kolkata:20250121T190000
DTEND;TZID=Asia/Kolkata:20250121T203000
DTSTAMP:20260425T174731
CREATED:20250119T100511Z
LAST-MODIFIED:20250119T100511Z
UID:13224-1737486000-1737491400@kolkatatheatre.com
SUMMARY:Ace Productions (Mumbai)'s Broken Images\, at Kala Mandir
DESCRIPTION:Girish Karnad’s play in its old production directed by Alyque Padamsee.
URL:https://kolkatatheatre.com/event/ace-productions-mumbais-broken-images-at-kala-mandir/
LOCATION:Kala Mandir\, Shakespeare Sarani\, Kolkata
CATEGORIES:Theatre
END:VEVENT
BEGIN:VEVENT
DTSTART;TZID=Asia/Kolkata:20250120T183000
DTEND;TZID=Asia/Kolkata:20250120T203000
DTSTAMP:20260425T174731
CREATED:20250119T092027Z
LAST-MODIFIED:20250119T092027Z
UID:13211-1737397800-1737405000@kolkatatheatre.com
SUMMARY:Pratikriti’s Padma Nadir Majhi\, at Academy
DESCRIPTION:Manik Bandyopadhyay’s classic novel dramatized and directed by Alok Deb in Pratikriti’s long-running production. \nHighly recommended: ★★★★★
URL:https://kolkatatheatre.com/event/pratikritis-padma-nadir-majhi-at-academy-2/
LOCATION:Academy of Fine Arts\, 2\, Cathedral Rd\, Maidan\, Kolkata\, West Bengal 700020\, Kolkata\, West Bengal\, 700071\, India
CATEGORIES:Theatre
END:VEVENT
BEGIN:VEVENT
DTSTART;TZID=Asia/Kolkata:20250118T183000
DTEND;TZID=Asia/Kolkata:20250118T210000
DTSTAMP:20260425T174731
CREATED:20250116T124355Z
LAST-MODIFIED:20250116T124355Z
UID:13209-1737225000-1737234000@kolkatatheatre.com
SUMMARY:Naye Natua’s Meghnadbadh Kabya\, at Kala Mandir
DESCRIPTION:Dramatized from Michael Madhusudan Dutt’s epic and directed by Goutam Halder\, his long-running solo hit.
URL:https://kolkatatheatre.com/event/naye-natuas-meghnadbadh-kabya-at-kala-mandir/
LOCATION:Kala Mandir\, Shakespeare Sarani\, Kolkata
CATEGORIES:Theatre
END:VEVENT
END:VCALENDAR