BEGIN:VCALENDAR
VERSION:2.0
PRODID:-//KolkataTheatre.com - ECPv6.15.12.2//NONSGML v1.0//EN
CALSCALE:GREGORIAN
METHOD:PUBLISH
X-WR-CALNAME:KolkataTheatre.com
X-ORIGINAL-URL:https://kolkatatheatre.com
X-WR-CALDESC:Events for KolkataTheatre.com
REFRESH-INTERVAL;VALUE=DURATION:PT1H
X-Robots-Tag:noindex
X-PUBLISHED-TTL:PT1H
BEGIN:VTIMEZONE
TZID:Asia/Kolkata
BEGIN:STANDARD
TZOFFSETFROM:+0530
TZOFFSETTO:+0530
TZNAME:IST
DTSTART:20240101T000000
END:STANDARD
END:VTIMEZONE
BEGIN:VEVENT
DTSTART;TZID=Asia/Kolkata:20250302T183000
DTEND;TZID=Asia/Kolkata:20250302T203000
DTSTAMP:20260424T213245
CREATED:20250301T152950Z
LAST-MODIFIED:20250301T152950Z
UID:13332-1740940200-1740947400@kolkatatheatre.com
SUMMARY:Jadavpur Ramyani’s Haraner Natjamai\, at Tapan
DESCRIPTION:Dramatized from Manik Bandyopadhyay and directed by Arun Mukherjee. The story revisits the historic Tebhaga Movement of 1946-47 in Bengal\, where Haran\, an old sharecropper\, has gone half-mad after police killed his son.
URL:https://kolkatatheatre.com/event/jadavpur-ramyanis-haraner-natjamai-at-tapan/
LOCATION:Tapan Theatre\, Kalighat
CATEGORIES:Theatre
END:VEVENT
BEGIN:VEVENT
DTSTART;TZID=Asia/Kolkata:20250302T183000
DTEND;TZID=Asia/Kolkata:20250302T203000
DTSTAMP:20260424T213245
CREATED:20250301T152701Z
LAST-MODIFIED:20250301T152701Z
UID:13330-1740940200-1740947400@kolkatatheatre.com
SUMMARY:Sansriti’s Hayabadan\, at Academy
DESCRIPTION:Translated by Sankha Ghosh from Girish Karnad’s classic folk-based play Hayavadana\, and directed by Debesh Chattopadhyay.
URL:https://kolkatatheatre.com/event/sansritis-hayabadan-at-academy-2/
LOCATION:Academy of Fine Arts\, 2\, Cathedral Rd\, Maidan\, Kolkata\, West Bengal 700020\, Kolkata\, West Bengal\, 700071\, India
CATEGORIES:Theatre
END:VEVENT
BEGIN:VEVENT
DTSTART;TZID=Asia/Kolkata:20250302T150000
DTEND;TZID=Asia/Kolkata:20250302T170000
DTSTAMP:20260424T213245
CREATED:20250301T152402Z
LAST-MODIFIED:20250301T152402Z
UID:13328-1740927600-1740934800@kolkatatheatre.com
SUMMARY:Sansriti’s Khokkas\, at Academy
DESCRIPTION:Adapted from Evgeny Schwartz’s satirical Russian play The Dragon (1944) by Arpita Ghosh and directed by Debesh Chattopadhyay. A village terrorized by a dragon finds an unlikely saviour.
URL:https://kolkatatheatre.com/event/sansritis-khokkas-at-academy-4/
LOCATION:Academy of Fine Arts\, 2\, Cathedral Rd\, Maidan\, Kolkata\, West Bengal 700020\, Kolkata\, West Bengal\, 700071\, India
CATEGORIES:Theatre
END:VEVENT
BEGIN:VEVENT
DTSTART;TZID=Asia/Kolkata:20250302T140000
DTEND;TZID=Asia/Kolkata:20250302T160000
DTSTAMP:20260424T213245
CREATED:20250301T151504Z
LAST-MODIFIED:20250301T151504Z
UID:13322-1740924000-1740931200@kolkatatheatre.com
SUMMARY:Unicorn Actors Studio (Delhi)'s Antaral\, at Gyan Manch
DESCRIPTION:Partap Sehgal’s latest play directed by Gauri Dewal deals with the ever-changing nature of values through the story of an intelligent woman whose life has been shaped by tragedy. Part of Little Thespian’s Jashn-e-Azhar national theatre festival.
URL:https://kolkatatheatre.com/event/unicorn-actors-studio-delhis-antaral-at-gyan-manch/
LOCATION:Gyan Manch\, Gyan Manch\, 11\, Pretoria St\, Kolkata\, West Bengal\, 700071\, India
CATEGORIES:Theatre
END:VEVENT
BEGIN:VEVENT
DTSTART;TZID=Asia/Kolkata:20250302T110000
DTEND;TZID=Asia/Kolkata:20250302T130000
DTSTAMP:20260424T213245
CREATED:20250301T112406Z
LAST-MODIFIED:20250301T150926Z
UID:13318-1740913200-1740920400@kolkatatheatre.com
SUMMARY:Santoshpur Anuchintan's Bachche Bade Ho Rahe Hai\, at Gyan Manch
DESCRIPTION:Partap Sehgal’s eponymous poem dramatized and directed by Gourav Das reflects on the lives of children from Peyarabagan\, the second largest slum in Kolkata\, narrating their coming-of-age transition into adolescence. Part of Little Thespian’s Jashn-e-Azhar national theatre festival.
URL:https://kolkatatheatre.com/event/santoshpur-anuchintans-bachche-bade-ho-rahe-hai-at-gyan-manch/
LOCATION:Gyan Manch\, Gyan Manch\, 11\, Pretoria St\, Kolkata\, West Bengal\, 700071\, India
CATEGORIES:Theatre
END:VEVENT
BEGIN:VEVENT
DTSTART;TZID=Asia/Kolkata:20250301T183000
DTEND;TZID=Asia/Kolkata:20250301T203000
DTSTAMP:20260424T213245
CREATED:20250228T080534Z
LAST-MODIFIED:20250228T080534Z
UID:13316-1740853800-1740861000@kolkatatheatre.com
SUMMARY:Anya Theatre’s Aparajita\, at Jogesh Mime
DESCRIPTION:Nitish Sen’s classic solo play directed by Turna Das.
URL:https://kolkatatheatre.com/event/anya-theatres-aparajita-at-jogesh-mime/
LOCATION:Jogesh Mime Academy\, Kalighat Park\, Kolkata\, India
CATEGORIES:Theatre
END:VEVENT
BEGIN:VEVENT
DTSTART;TZID=Asia/Kolkata:20250301T150000
DTEND;TZID=Asia/Kolkata:20250301T170000
DTSTAMP:20260424T213245
CREATED:20250228T075428Z
LAST-MODIFIED:20250228T075428Z
UID:13314-1740841200-1740848400@kolkatatheatre.com
SUMMARY:Sansriti’s Kothakar Charitra Kothay Rekhechha\, at Academy
DESCRIPTION:Translated from Pirandello’s metatheatrical classic Six Characters in Search of an Author by Rudraprasad Sengupta and directed by Debesh Chattopadhyay. \nRecommended: ★★★★ Read my review here.
URL:https://kolkatatheatre.com/event/sansritis-kothakar-charitra-kothay-rekhechha-at-academy-2/
LOCATION:Academy of Fine Arts\, 2\, Cathedral Rd\, Maidan\, Kolkata\, West Bengal 700020\, Kolkata\, West Bengal\, 700071\, India
CATEGORIES:Theatre
END:VEVENT
BEGIN:VEVENT
DTSTART;TZID=Asia/Kolkata:20250301T140000
DTEND;TZID=Asia/Kolkata:20250301T160000
DTSTAMP:20260424T213245
CREATED:20250228T075031Z
LAST-MODIFIED:20250228T075031Z
UID:13312-1740837600-1740844800@kolkatatheatre.com
SUMMARY:Dastaan Theatre Studio (Gwalior)'s Anveshak\, at Gyan Manch
DESCRIPTION:Partap Sehgal’s play centres on Aryabhata\, the astronomer whose groundbreaking discoveries and defiance of Brahminical dominance in favour of truth challenged prevailing superstitions and religious dogmas of his time. Directed by Ayaz Khan. Part of Little Thespian’s Jashn-e-Azhar national theatre festival.
URL:https://kolkatatheatre.com/event/dastaan-theatre-studio-gwaliors-anveshak-at-gyan-manch/
LOCATION:Gyan Manch\, Gyan Manch\, 11\, Pretoria St\, Kolkata\, West Bengal\, 700071\, India
CATEGORIES:Theatre
END:VEVENT
BEGIN:VEVENT
DTSTART;TZID=Asia/Kolkata:20250301T110000
DTEND;TZID=Asia/Kolkata:20250301T123000
DTSTAMP:20260424T213245
CREATED:20250228T074521Z
LAST-MODIFIED:20250228T074521Z
UID:13310-1740826800-1740832200@kolkatatheatre.com
SUMMARY:Sehar (Santiniketan)'s Koi Aur Rasta\, at Gyan Manch
DESCRIPTION:Partap Sehgal’s solo play\, directed by Mrityunjay Prabhakar in Bengali\, about a woman who has gone through a roller coaster ride in life due to her love affair and marriage. Part of Little Thespian’s Jashn-e-Azhar national theatre festival.
URL:https://kolkatatheatre.com/event/sehar-santiniketans-koi-aur-rasta-at-gyan-manch/
LOCATION:Gyan Manch\, Gyan Manch\, 11\, Pretoria St\, Kolkata\, West Bengal\, 700071\, India
CATEGORIES:Theatre
END:VEVENT
BEGIN:VEVENT
DTSTART;TZID=Asia/Kolkata:20250228T183000
DTEND;TZID=Asia/Kolkata:20250228T200000
DTSTAMP:20260424T213245
CREATED:20250226T095839Z
LAST-MODIFIED:20250226T095839Z
UID:13304-1740767400-1740772800@kolkatatheatre.com
SUMMARY:Little Thespian's Andhere Men\, at Gyan Manch
DESCRIPTION:Uma Jhunjhunwala directs Partap Sehgal’s new play about the concept of darkness\, which can masquerade as righteous fervor behind the veil of religion or sect\, or manifest as hypocrisy or superstition or blind devotion. It seeks to unravel the mysteries of darkness and ponder the paths to liberation. The inaugural production of Little Thespian’s Jashn-e-Azhar national theatre festival.
URL:https://kolkatatheatre.com/event/little-thespians-andhere-men-at-gyan-manch/
LOCATION:Gyan Manch\, Gyan Manch\, 11\, Pretoria St\, Kolkata\, West Bengal\, 700071\, India
CATEGORIES:Theatre
END:VEVENT
BEGIN:VEVENT
DTSTART;TZID=Asia/Kolkata:20250227T183000
DTEND;TZID=Asia/Kolkata:20250227T203000
DTSTAMP:20260424T213245
CREATED:20250223T105927Z
LAST-MODIFIED:20250223T105927Z
UID:13302-1740681000-1740688200@kolkatatheatre.com
SUMMARY:Sharabhuj's Macbeth\, at Madhusudan
DESCRIPTION:Tarun Pradhan’s Bangla folk adaptation and direction of Shakespeare’s classic.
URL:https://kolkatatheatre.com/event/sharabhujs-macbeth-at-madhusudan/
LOCATION:Madhusudan Mancha\, Gariahat Rd S\, Jodhpur Park\,\, Kolkata\, West Bengal\, 700031\, India
CATEGORIES:Theatre
END:VEVENT
BEGIN:VEVENT
DTSTART;TZID=Asia/Kolkata:20250227T183000
DTEND;TZID=Asia/Kolkata:20250227T203000
DTSTAMP:20260424T213245
CREATED:20250223T105328Z
LAST-MODIFIED:20250223T105328Z
UID:13300-1740681000-1740688200@kolkatatheatre.com
SUMMARY:Sansriti’s Sher Afgan\, at Academy
DESCRIPTION:Ajitesh Bandopadhyay’s adaptation of Pirandello’s metatheatrical classic\, Henry IV\, directed by Debesh Chattopadhyay. \nRecommended: ★★★★  Read my review.
URL:https://kolkatatheatre.com/event/sansritis-sher-afgan-at-academy-4/
LOCATION:Academy of Fine Arts\, 2\, Cathedral Rd\, Maidan\, Kolkata\, West Bengal 700020\, Kolkata\, West Bengal\, 700071\, India
CATEGORIES:Theatre
END:VEVENT
BEGIN:VEVENT
DTSTART;TZID=Asia/Kolkata:20250225T183000
DTEND;TZID=Asia/Kolkata:20250225T203000
DTSTAMP:20260424T213245
CREATED:20250223T104808Z
LAST-MODIFIED:20250223T104808Z
UID:13297-1740508200-1740515400@kolkatatheatre.com
SUMMARY:Anya Theatre’s Romeo Ebang Juliet\, at Academy
DESCRIPTION:Based on Debes Roy’s Bengali rendering of Shakespeare’s classic and Jan Otcenasek’s Romeo and Juliet in Darkness. Directed by Abanti Chakraborty. \nRecommended: ★★★★. Read my review.
URL:https://kolkatatheatre.com/event/anya-theatres-romeo-ebang-juliet-at-academy-2/
LOCATION:Academy of Fine Arts\, 2\, Cathedral Rd\, Maidan\, Kolkata\, West Bengal 700020\, Kolkata\, West Bengal\, 700071\, India
CATEGORIES:Theatre
END:VEVENT
BEGIN:VEVENT
DTSTART;TZID=Asia/Kolkata:20250224T180000
DTEND;TZID=Asia/Kolkata:20250224T200000
DTSTAMP:20260424T213245
CREATED:20250223T104218Z
LAST-MODIFIED:20250223T104218Z
UID:13295-1740420000-1740427200@kolkatatheatre.com
SUMMARY:Natasena’s Gorur Garir Headlight\, at Madhusudan
DESCRIPTION:The record-breaking comedy that has had an uninterrupted run since 1972\, with over 1200 performances. Written and directed by the late Saroj Ray for his own group Natasena.
URL:https://kolkatatheatre.com/event/natasenas-gorur-garir-headlight-at-madhusudan-2/
LOCATION:Madhusudan Mancha\, Gariahat Rd S\, Jodhpur Park\,\, Kolkata\, West Bengal\, 700031\, India
CATEGORIES:Theatre
END:VEVENT
BEGIN:VEVENT
DTSTART;TZID=Asia/Kolkata:20250223T183000
DTEND;TZID=Asia/Kolkata:20250223T203000
DTSTAMP:20260424T213245
CREATED:20250220T130856Z
LAST-MODIFIED:20250220T130856Z
UID:13293-1740335400-1740342600@kolkatatheatre.com
SUMMARY:Ekush Shatak’s Krishnaranga\, at Madhusudan
DESCRIPTION:Revival of dramatist-director Loknath Bandyopadhyay’s farce\, adapted from Peter Shaffer’s hit Black Comedy (1965). One of the funniest productions you can presently view; we cannot reveal more! Recommended: ★★★★
URL:https://kolkatatheatre.com/event/ekush-shataks-krishnaranga-at-madhusudan-2/
LOCATION:Madhusudan Mancha\, Gariahat Rd S\, Jodhpur Park\,\, Kolkata\, West Bengal\, 700031\, India
CATEGORIES:Theatre
END:VEVENT
BEGIN:VEVENT
DTSTART;TZID=Asia/Kolkata:20250222T143000
DTEND;TZID=Asia/Kolkata:20250222T210000
DTSTAMP:20260424T213245
CREATED:20250220T130512Z
LAST-MODIFIED:20250220T130512Z
UID:13291-1740234600-1740258000@kolkatatheatre.com
SUMMARY:Mukhomukhi and Tritiyo Sutra’s Mephisto\, at Academy
DESCRIPTION:Revival of their 2002 production. Based on Ariane Mnouchkine’s dramatization of Klaus Mann’s novel on the Nazi co-option of artists\, translated and directed by Suman Mukhopadhyay. Recommended: ★★★★ \nTwo shows\, at 2:30 and 6:30 respectively.
URL:https://kolkatatheatre.com/event/mukhomukhi-and-tritiyo-sutras-mephisto-at-academy/
LOCATION:Academy of Fine Arts\, 2\, Cathedral Rd\, Maidan\, Kolkata\, West Bengal 700020\, Kolkata\, West Bengal\, 700071\, India
CATEGORIES:Theatre
END:VEVENT
BEGIN:VEVENT
DTSTART;TZID=Asia/Kolkata:20250221T183000
DTEND;TZID=Asia/Kolkata:20250221T203000
DTSTAMP:20260424T213245
CREATED:20250213T130857Z
LAST-MODIFIED:20250213T130857Z
UID:13287-1740162600-1740169800@kolkatatheatre.com
SUMMARY:Proscenium's Begum Jani Ki Haveli\, at Gyan Manch
DESCRIPTION:An Urdu/Hindi Indianization of Federico Garcia Lorca’s all-women The House of Bernarda Alba. Adapted and directed by Anjum Rizvi.
URL:https://kolkatatheatre.com/event/prosceniums-begum-jani-ki-haveli-at-gyan-manch/
LOCATION:Gyan Manch\, Gyan Manch\, 11\, Pretoria St\, Kolkata\, West Bengal\, 700071\, India
CATEGORIES:Theatre
END:VEVENT
BEGIN:VEVENT
DTSTART;TZID=Asia/Kolkata:20250221T183000
DTEND;TZID=Asia/Kolkata:20250221T203000
DTSTAMP:20260424T213245
CREATED:20250213T130133Z
LAST-MODIFIED:20250213T130133Z
UID:13285-1740162600-1740169800@kolkatatheatre.com
SUMMARY:Kalyani Natyacharcha Kendra’s Bhorer Baranda\, at Academy
DESCRIPTION:A Good Samaritan doctor comes to the aid of a single woman. Written by Pradipta Bhattacharya and directed by Kishore Sengupta. \nRecommended: ★★★★. Read my review.
URL:https://kolkatatheatre.com/event/kalyani-natyacharcha-kendras-bhorer-baranda-at-academy-2/
LOCATION:Academy of Fine Arts\, 2\, Cathedral Rd\, Maidan\, Kolkata\, West Bengal 700020\, Kolkata\, West Bengal\, 700071\, India
CATEGORIES:Theatre
END:VEVENT
BEGIN:VEVENT
DTSTART;TZID=Asia/Kolkata:20250219T183000
DTEND;TZID=Asia/Kolkata:20250219T203000
DTSTAMP:20260424T213245
CREATED:20250213T125637Z
LAST-MODIFIED:20250213T131037Z
UID:13283-1739989800-1739997000@kolkatatheatre.com
SUMMARY:Rangroop’s Abyakta\, at Academy
DESCRIPTION:Sounava Bose’s compelling historical play about the life and times of Dr Mahendra Lal Sircar\, the second MD from the University of Calcutta\, who became a famed homeopath and also founded the Indian Association for the Cultivation of Science. Directed by Sima Mukhopadhyay. \nRecommended: ★★★★. Read my review here.
URL:https://kolkatatheatre.com/event/rangroops-abyakta-at-academy-2/
LOCATION:Academy of Fine Arts\, 2\, Cathedral Rd\, Maidan\, Kolkata\, West Bengal 700020\, Kolkata\, West Bengal\, 700071\, India
CATEGORIES:Theatre
END:VEVENT
BEGIN:VEVENT
DTSTART;TZID=Asia/Kolkata:20250218T183000
DTEND;TZID=Asia/Kolkata:20250218T203000
DTSTAMP:20260424T213245
CREATED:20250213T124617Z
LAST-MODIFIED:20250213T124617Z
UID:13280-1739903400-1739910600@kolkatatheatre.com
SUMMARY:Samstab's Gaurer Kabach\, at Academy
DESCRIPTION:Shirshendu Mukhopadhyay’s magical story about Gaur\, who loves to play the flute\, and is loved by the ancient folk in his village\, threatened by the arrival of a man who wants to take over everything. Dramatized and directed by Suman Sengupta.
URL:https://kolkatatheatre.com/event/samstabs-gaurer-kabach-at-academy/
LOCATION:Academy of Fine Arts\, 2\, Cathedral Rd\, Maidan\, Kolkata\, West Bengal 700020\, Kolkata\, West Bengal\, 700071\, India
CATEGORIES:Theatre
END:VEVENT
BEGIN:VEVENT
DTSTART;TZID=Asia/Kolkata:20250215T183000
DTEND;TZID=Asia/Kolkata:20250215T203000
DTSTAMP:20260424T213245
CREATED:20250213T123153Z
LAST-MODIFIED:20250213T123153Z
UID:13278-1739644200-1739651400@kolkatatheatre.com
SUMMARY:Aneek’s Aksharik\, at Tapan
DESCRIPTION:Dramatist-director Debasish’s biodrama about Panchanan Karmakar\, the first creator of Bengali moveable typeface in the 18th century\, based on Rajat Chakraborti’s novel Panchananer Haraph. \nRecommended: ★★★★ Read my review.
URL:https://kolkatatheatre.com/event/aneeks-aksharik-at-tapan-4/
LOCATION:Tapan Theatre\, Kalighat
CATEGORIES:Theatre
END:VEVENT
BEGIN:VEVENT
DTSTART;TZID=Asia/Kolkata:20250214T183000
DTEND;TZID=Asia/Kolkata:20250214T210000
DTSTAMP:20260424T213245
CREATED:20250209T102241Z
LAST-MODIFIED:20250209T102241Z
UID:13272-1739557800-1739566800@kolkatatheatre.com
SUMMARY:Angik’s Binodini Opera\, at Kala Mandir
DESCRIPTION:Biographical drama on Nati Binodini co-written by Abanti Chakraborty and Sibashis Bandyopadhyay\, and directed by Abanti Chakraborty.
URL:https://kolkatatheatre.com/event/angiks-binodini-opera-at-kala-mandir-2/
LOCATION:Kala Mandir\, Shakespeare Sarani\, Kolkata
CATEGORIES:Theatre
END:VEVENT
BEGIN:VEVENT
DTSTART;TZID=Asia/Kolkata:20250213T183000
DTEND;TZID=Asia/Kolkata:20250213T203000
DTSTAMP:20260424T213245
CREATED:20250209T103314Z
LAST-MODIFIED:20250209T103314Z
UID:13274-1739471400-1739478600@kolkatatheatre.com
SUMMARY:Rangapat's He Sindhusaras\, at Academy
DESCRIPTION:Rangapat’s latest production\, based by dramatist Ujjwal Chattopadhyay on the making of Chekhov’s classic The Seagull\, recreating the work of the Moscow Art Theatre\, its director Stanislavski and lead actress Olga Knipper (Chekhov’s wife). Directed by Tapanjyoti.
URL:https://kolkatatheatre.com/event/rangapats-he-sindhusaras-at-academy/
LOCATION:Academy of Fine Arts\, 2\, Cathedral Rd\, Maidan\, Kolkata\, West Bengal 700020\, Kolkata\, West Bengal\, 700071\, India
CATEGORIES:Theatre
END:VEVENT
BEGIN:VEVENT
DTSTART;TZID=Asia/Kolkata:20250213T183000
DTEND;TZID=Asia/Kolkata:20250213T203000
DTSTAMP:20260424T213245
CREATED:20250209T101057Z
LAST-MODIFIED:20250209T101057Z
UID:13268-1739471400-1739478600@kolkatatheatre.com
SUMMARY:Shohan’s Amirah\, at Girish
DESCRIPTION:Inspired by Sophocles’ classic Greek tragedy Antigone\, written by Anirban Sen and directed by Anish Ghosh. Free admission as part of the 24th Natyamela.
URL:https://kolkatatheatre.com/event/shohans-amirah-at-girish/
LOCATION:Girish Mancha\, Bagbazar
CATEGORIES:Theatre
END:VEVENT
BEGIN:VEVENT
DTSTART;TZID=Asia/Kolkata:20250211T183000
DTEND;TZID=Asia/Kolkata:20250211T203000
DTSTAMP:20260424T213245
CREATED:20250209T101513Z
LAST-MODIFIED:20250209T101513Z
UID:13270-1739298600-1739305800@kolkatatheatre.com
SUMMARY:Anya Theatre’s Pratham Rajnaitik Hatya\, at Madhusudan
DESCRIPTION:Written and directed by Debashis. Based on the freedom fighters arrested in the Alipore Bomb Case of 1908. \nRecommended: ★★★★. Read my review. Free admission as part of the 24th Natyamela.
URL:https://kolkatatheatre.com/event/anya-theatres-pratham-rajnaitik-hatya-at-madhusudan-2/
LOCATION:Madhusudan Mancha\, Gariahat Rd S\, Jodhpur Park\,\, Kolkata\, West Bengal\, 700031\, India
CATEGORIES:Theatre
END:VEVENT
BEGIN:VEVENT
DTSTART;TZID=Asia/Kolkata:20250209T183000
DTEND;TZID=Asia/Kolkata:20250209T203000
DTSTAMP:20260424T213245
CREATED:20250206T083103Z
LAST-MODIFIED:20250206T083103Z
UID:13262-1739125800-1739133000@kolkatatheatre.com
SUMMARY:Rangroop’s Manmayi Girls School\, at Jogesh
DESCRIPTION:The highly popular 1932 play written by Rabindranath Maitra\, directed by Sima Mukhopadhyay. \nRecommended: ★★★★ Read my review here.
URL:https://kolkatatheatre.com/event/rangroops-manmayi-girls-school-at-jogesh/
LOCATION:Jogesh Mime Academy\, Kalighat Park\, Kolkata\, India
CATEGORIES:Theatre
END:VEVENT
BEGIN:VEVENT
DTSTART;TZID=Asia/Kolkata:20250209T150000
DTEND;TZID=Asia/Kolkata:20250209T170000
DTSTAMP:20260424T213245
CREATED:20250206T082633Z
LAST-MODIFIED:20250206T082633Z
UID:13260-1739113200-1739120400@kolkatatheatre.com
SUMMARY:Pancham Vaidic’s Pulish\, at Academy
DESCRIPTION:Acclaimed Polish dramatist Slawomir Mrozek’s dark political satire on power titled Police\, adapted and directed by Arpita Ghosh. \nRecommended: ★★★★. Read my review.
URL:https://kolkatatheatre.com/event/pancham-vaidics-pulish-at-academy-4/
LOCATION:Academy of Fine Arts\, 2\, Cathedral Rd\, Maidan\, Kolkata\, West Bengal 700020\, Kolkata\, West Bengal\, 700071\, India
CATEGORIES:Theatre
END:VEVENT
BEGIN:VEVENT
DTSTART;TZID=Asia/Kolkata:20250208T190000
DTEND;TZID=Asia/Kolkata:20250208T200000
DTSTAMP:20260424T213245
CREATED:20250206T081505Z
LAST-MODIFIED:20250206T081709Z
UID:13255-1739041200-1739044800@kolkatatheatre.com
SUMMARY:Adishakti (Puducherry)'s Urmila\, at Birla Sabhagar
DESCRIPTION:Adishakti comes to Kolkata after many years with their new production in English. Questions of consent\, agency and approval breathe new life into Urmila\, Lakshmana’s wife. Part of Pickle Factory’s month-long Season 5.
URL:https://kolkatatheatre.com/event/adishaktis-urmila-at-birla-sabhagar/
LOCATION:G D Birla Sabhagar\, 29 Ashutosh Chowdhury Avenue\, Kolkata\, 700019
CATEGORIES:Theatre
END:VEVENT
BEGIN:VEVENT
DTSTART;TZID=Asia/Kolkata:20250208T183000
DTEND;TZID=Asia/Kolkata:20250208T203000
DTSTAMP:20260424T213245
CREATED:20250206T083900Z
LAST-MODIFIED:20250206T083900Z
UID:13265-1739039400-1739046600@kolkatatheatre.com
SUMMARY:4th Bell’s Hapi-D\, at Rabindra Sadan
DESCRIPTION:An ebullient Bengali pastiche of Hamlet. 4th Bell debuted in 2011 with this play\, deliberately and delectably perverting Shakespeare’s tragedy into a festive comedy written and directed by Aniruddha Dasgupta. \nRecommended: ★★★★. Free admission as part of the 24th Natyamela.
URL:https://kolkatatheatre.com/event/4th-bells-hapi-d-at-rabindra-sadan/
LOCATION:Rabindra Sadan\, Cathedral Road\, Kolkata\, 700016
CATEGORIES:Theatre
END:VEVENT
BEGIN:VEVENT
DTSTART;TZID=Asia/Kolkata:20250208T183000
DTEND;TZID=Asia/Kolkata:20250208T203000
DTSTAMP:20260424T213245
CREATED:20250206T082306Z
LAST-MODIFIED:20250206T082306Z
UID:13258-1739039400-1739046600@kolkatatheatre.com
SUMMARY:Chetla Krishti Sansad’s Amar Gan\, at Jogesh
DESCRIPTION:A blind and wheelchair-bound youth\, highly intelligent\, wants to know about light from his physicist father. Written and directed by Suman Sengupta. Recommended: ★★★★ Read my review.
URL:https://kolkatatheatre.com/event/chetla-krishti-sansads-amar-gan-at-jogesh/
LOCATION:Jogesh Mime Academy\, Kalighat Park\, Kolkata\, India
CATEGORIES:Theatre
END:VEVENT
END:VCALENDAR