BEGIN:VCALENDAR
VERSION:2.0
PRODID:-//KolkataTheatre.com - ECPv6.15.12.2//NONSGML v1.0//EN
CALSCALE:GREGORIAN
METHOD:PUBLISH
X-WR-CALNAME:KolkataTheatre.com
X-ORIGINAL-URL:https://kolkatatheatre.com
X-WR-CALDESC:Events for KolkataTheatre.com
REFRESH-INTERVAL;VALUE=DURATION:PT1H
X-Robots-Tag:noindex
X-PUBLISHED-TTL:PT1H
BEGIN:VTIMEZONE
TZID:Asia/Kolkata
BEGIN:STANDARD
TZOFFSETFROM:+0530
TZOFFSETTO:+0530
TZNAME:IST
DTSTART:20230101T000000
END:STANDARD
END:VTIMEZONE
BEGIN:VEVENT
DTSTART;TZID=Asia/Kolkata:20250104T183000
DTEND;TZID=Asia/Kolkata:20250104T203000
DTSTAMP:20260425T063533
CREATED:20250102T122037Z
LAST-MODIFIED:20250102T122037Z
UID:13178-1736015400-1736022600@kolkatatheatre.com
SUMMARY:Epic Actors' Workshop (USA)'s Nirastra\, at Academy
DESCRIPTION:Inspired by Mahasweta Devi’s “Draupadi” and other stories. Scripted and directed by Gargi Mukherjee and Golam Sarwar Harun.
URL:https://kolkatatheatre.com/event/epic-actors-workshop-usas-nirastra-at-academy/
LOCATION:Academy of Fine Arts\, 2\, Cathedral Rd\, Maidan\, Kolkata\, West Bengal 700020\, Kolkata\, West Bengal\, 700071\, India
CATEGORIES:Theatre
END:VEVENT
BEGIN:VEVENT
DTSTART;TZID=Asia/Kolkata:20250103T180000
DTEND;TZID=Asia/Kolkata:20250103T210000
DTSTAMP:20260425T063533
CREATED:20241229T122208Z
LAST-MODIFIED:20241229T122208Z
UID:13171-1735927200-1735938000@kolkatatheatre.com
SUMMARY:Nandikar's Madhabi\, at Academy
DESCRIPTION:Bhisham Sahni’s play translated and directed by Swatilekha Sengupta.
URL:https://kolkatatheatre.com/event/nandikars-madhabi-at-academy/
LOCATION:Academy of Fine Arts\, 2\, Cathedral Rd\, Maidan\, Kolkata\, West Bengal 700020\, Kolkata\, West Bengal\, 700071\, India
CATEGORIES:Theatre
END:VEVENT
BEGIN:VEVENT
DTSTART;TZID=Asia/Kolkata:20241231T183000
DTEND;TZID=Asia/Kolkata:20241231T210000
DTSTAMP:20260425T063533
CREATED:20241229T121731Z
LAST-MODIFIED:20241229T121731Z
UID:13169-1735669800-1735678800@kolkatatheatre.com
SUMMARY:Mukhomukhi’s Tiner Taloyar\, at Tapan
DESCRIPTION:Utpal Dutt’s classic play\, directed by Suman Mukhopadhyay. Recommended: ★★★★
URL:https://kolkatatheatre.com/event/mukhomukhis-tiner-taloyar-at-tapan/
LOCATION:Tapan Theatre\, Kalighat
CATEGORIES:Theatre
END:VEVENT
BEGIN:VEVENT
DTSTART;TZID=Asia/Kolkata:20241230T183000
DTEND;TZID=Asia/Kolkata:20241230T210000
DTSTAMP:20260425T063533
CREATED:20241229T121318Z
LAST-MODIFIED:20241229T121318Z
UID:13167-1735583400-1735592400@kolkatatheatre.com
SUMMARY:Anya Theatre's Aparajita\, at Academy
DESCRIPTION:Premiere of this production directed by Turna Das from Nitish Sen’s classic solo play.
URL:https://kolkatatheatre.com/event/anya-theatres-aparajita-at-academy/
LOCATION:Academy of Fine Arts\, 2\, Cathedral Rd\, Maidan\, Kolkata\, West Bengal 700020\, Kolkata\, West Bengal\, 700071\, India
CATEGORIES:Theatre
END:VEVENT
BEGIN:VEVENT
DTSTART;TZID=Asia/Kolkata:20241229T183000
DTEND;TZID=Asia/Kolkata:20241229T203000
DTSTAMP:20260425T063533
CREATED:20241226T183541Z
LAST-MODIFIED:20241226T183541Z
UID:13157-1735497000-1735504200@kolkatatheatre.com
SUMMARY:Ekush Shatak’s Krishnaranga\, at Academy
DESCRIPTION:Revival of dramatist-director Loknath Bandyopadhyay’s farce\, adapted from Peter Shaffer’s hit Black Comedy (1965). One of the funniest productions you can presently view; we cannot reveal more! Recommended: ★★★★
URL:https://kolkatatheatre.com/event/ekush-shataks-krishnaranga-at-academy-5/
LOCATION:Academy of Fine Arts\, 2\, Cathedral Rd\, Maidan\, Kolkata\, West Bengal 700020\, Kolkata\, West Bengal\, 700071\, India
CATEGORIES:Theatre
END:VEVENT
BEGIN:VEVENT
DTSTART;TZID=Asia/Kolkata:20241229T150000
DTEND;TZID=Asia/Kolkata:20241229T170000
DTSTAMP:20260425T063533
CREATED:20241226T183208Z
LAST-MODIFIED:20241226T183208Z
UID:13155-1735484400-1735491600@kolkatatheatre.com
SUMMARY:Pancham Vaidic’s Pulish\, at Academy
DESCRIPTION:Acclaimed Polish dramatist Slawomir Mrozek’s dark political satire on power titled Police\, adapted and directed by Arpita Ghosh. \nRecommended: ★★★★. Read my review.
URL:https://kolkatatheatre.com/event/pancham-vaidics-pulish-at-academy-3/
LOCATION:Academy of Fine Arts\, 2\, Cathedral Rd\, Maidan\, Kolkata\, West Bengal 700020\, Kolkata\, West Bengal\, 700071\, India
CATEGORIES:Theatre
END:VEVENT
BEGIN:VEVENT
DTSTART;TZID=Asia/Kolkata:20241228T183000
DTEND;TZID=Asia/Kolkata:20241228T203000
DTSTAMP:20260425T063533
CREATED:20241226T182524Z
LAST-MODIFIED:20241226T182524Z
UID:13151-1735410600-1735417800@kolkatatheatre.com
SUMMARY:Aneek’s Aksharik\, at Academy
DESCRIPTION:Dramatist-director Debasish’s biodrama about Panchanan Karmakar\, the first creator of Bengali moveable typeface in the 18th century\, based on Rajat Chakraborti’s novel Panchananer Haraph. \nRecommended: ★★★★ Read my review.
URL:https://kolkatatheatre.com/event/aneeks-aksharik-at-academy-4/
LOCATION:Academy of Fine Arts\, 2\, Cathedral Rd\, Maidan\, Kolkata\, West Bengal 700020\, Kolkata\, West Bengal\, 700071\, India
CATEGORIES:Theatre
END:VEVENT
BEGIN:VEVENT
DTSTART;TZID=Asia/Kolkata:20241228T183000
DTEND;TZID=Asia/Kolkata:20241228T203000
DTSTAMP:20260425T063533
CREATED:20241226T182208Z
LAST-MODIFIED:20241226T182208Z
UID:13149-1735410600-1735417800@kolkatatheatre.com
SUMMARY:Renaissance’s Charandas MLA\, at Madhusudan
DESCRIPTION:Revival of Renaissance’s Hindi production from the 1990s. Dramatized from Satinath Bhaduri’s satirical story by Partha Sarathi Upadhyay and directed by Bimal Chakraborty.
URL:https://kolkatatheatre.com/event/renaissances-charandas-mla-at-madhusudan/
LOCATION:Madhusudan Mancha\, Gariahat Rd S\, Jodhpur Park\,\, Kolkata\, West Bengal\, 700031\, India
CATEGORIES:Theatre
END:VEVENT
BEGIN:VEVENT
DTSTART;TZID=Asia/Kolkata:20241228T110000
DTEND;TZID=Asia/Kolkata:20241228T130000
DTSTAMP:20260425T063533
CREATED:20241226T182900Z
LAST-MODIFIED:20241226T182900Z
UID:13153-1735383600-1735390800@kolkatatheatre.com
SUMMARY:Sansriti’s Khokkas\, at Academy
DESCRIPTION:Adapted from Evgeny Schwartz’s satirical Russian play The Dragon (1944) by Arpita Ghosh and directed by Debesh Chattopadhyay. A village terrorized by a dragon finds an unlikely saviour.
URL:https://kolkatatheatre.com/event/sansritis-khokkas-at-academy-3/
LOCATION:Academy of Fine Arts\, 2\, Cathedral Rd\, Maidan\, Kolkata\, West Bengal 700020\, Kolkata\, West Bengal\, 700071\, India
CATEGORIES:Theatre
END:VEVENT
BEGIN:VEVENT
DTSTART;TZID=Asia/Kolkata:20241226T183000
DTEND;TZID=Asia/Kolkata:20241226T203000
DTSTAMP:20260425T063533
CREATED:20241222T103248Z
LAST-MODIFIED:20241222T103248Z
UID:13126-1735237800-1735245000@kolkatatheatre.com
SUMMARY:Nat-ranga’s Chhayapather Sheshe\, at Academy
DESCRIPTION:Dramatist-director Sohan Bandopadhyay’s ghostly comedy set in a dilapidated north Kolkata hall about to be demolished to make way for a mall. Resident spooks protest against the reigning politician’s corruption. \nRecommended: ★★★★. Read my review.
URL:https://kolkatatheatre.com/event/nat-rangas-chhayapather-sheshe-at-academy-7/
LOCATION:Academy of Fine Arts\, 2\, Cathedral Rd\, Maidan\, Kolkata\, West Bengal 700020\, Kolkata\, West Bengal\, 700071\, India
CATEGORIES:Theatre
END:VEVENT
BEGIN:VEVENT
DTSTART;TZID=Asia/Kolkata:20241224T183000
DTEND;TZID=Asia/Kolkata:20241224T203000
DTSTAMP:20260425T063533
CREATED:20241222T102354Z
LAST-MODIFIED:20241222T102354Z
UID:13124-1735065000-1735072200@kolkatatheatre.com
SUMMARY:IPTA -- Spandan's Padatik Mrinal\, at Madhusudan
DESCRIPTION:To mark Mrinal Sen’s centenary\, a play celebrating his cultural and political engagement. Written by Shibaditya Dasgupta\, Sumanto Bandyopadhyay and Anal Pal; directed by Samudra Guha.
URL:https://kolkatatheatre.com/event/ipta-spandans-padatik-mrinal-at-madhusudan/
LOCATION:Madhusudan Mancha\, Gariahat Rd S\, Jodhpur Park\,\, Kolkata\, West Bengal\, 700031\, India
CATEGORIES:Theatre
END:VEVENT
BEGIN:VEVENT
DTSTART;TZID=Asia/Kolkata:20241219T183000
DTEND;TZID=Asia/Kolkata:20241219T203000
DTSTAMP:20260425T063533
CREATED:20241215T101743Z
LAST-MODIFIED:20241215T101743Z
UID:13119-1734633000-1734640200@kolkatatheatre.com
SUMMARY:Ekush Shatak’s Krishnaranga\, at Madhusudan
DESCRIPTION:Revival of dramatist-director Loknath Bandyopadhyay’s farce\, adapted from Peter Shaffer’s hit Black Comedy (1965). One of the funniest productions you can presently view; we cannot reveal more! Recommended: ★★★★
URL:https://kolkatatheatre.com/event/ekush-shataks-krishnaranga-at-madhusudan/
LOCATION:Madhusudan Mancha\, Gariahat Rd S\, Jodhpur Park\,\, Kolkata\, West Bengal\, 700031\, India
CATEGORIES:Theatre
END:VEVENT
BEGIN:VEVENT
DTSTART;TZID=Asia/Kolkata:20241218T183000
DTEND;TZID=Asia/Kolkata:20241218T203000
DTSTAMP:20260425T063533
CREATED:20241215T100854Z
LAST-MODIFIED:20241215T100854Z
UID:13117-1734546600-1734553800@kolkatatheatre.com
SUMMARY:Ichheymoto’s Henry Kothay?\, at Tapan
DESCRIPTION:Director Saurav Palodhi’s adaptation of Clifford Odets’s 1935 socialist classic\, Waiting for Lefty\, about the poverty of taxi drivers in the USA.
URL:https://kolkatatheatre.com/event/ichheymotos-henry-kothay-at-tapan/
LOCATION:Tapan Theatre\, Kalighat
CATEGORIES:Theatre
END:VEVENT
BEGIN:VEVENT
DTSTART;TZID=Asia/Kolkata:20241216T183000
DTEND;TZID=Asia/Kolkata:20241216T203000
DTSTAMP:20260425T063533
CREATED:20241215T100526Z
LAST-MODIFIED:20241215T100526Z
UID:13115-1734373800-1734381000@kolkatatheatre.com
SUMMARY:Ha-Ja-Ba-Ra-La’s Aniket Sandhya\, at Academy
DESCRIPTION:Revival of their old production\, written and directed by Chandan Sen\, about the plight of lonely senior citizens.
URL:https://kolkatatheatre.com/event/ha-ja-ba-ra-las-aniket-sandhya-at-academy-3/
LOCATION:Academy of Fine Arts\, 2\, Cathedral Rd\, Maidan\, Kolkata\, West Bengal 700020\, Kolkata\, West Bengal\, 700071\, India
CATEGORIES:Theatre
END:VEVENT
BEGIN:VEVENT
DTSTART;TZID=Asia/Kolkata:20241215T183000
DTEND;TZID=Asia/Kolkata:20241215T203000
DTSTAMP:20260425T063533
CREATED:20241212T135411Z
LAST-MODIFIED:20241212T135411Z
UID:13108-1734287400-1734294600@kolkatatheatre.com
SUMMARY:Aneek’s Bukjhim ek Bhālobāsā\, at Tapan
DESCRIPTION:A tragic love story written by Syed Shamsul Haque\, dramatized and directed by Sraman Chatterjee. Read my review here.
URL:https://kolkatatheatre.com/event/aneeks-bukjhim-ek-bhalobasa-at-tapan/
LOCATION:Tapan Theatre\, Kalighat
CATEGORIES:Theatre
END:VEVENT
BEGIN:VEVENT
DTSTART;TZID=Asia/Kolkata:20241215T183000
DTEND;TZID=Asia/Kolkata:20241215T203000
DTSTAMP:20260425T063533
CREATED:20241212T135037Z
LAST-MODIFIED:20241212T135037Z
UID:13106-1734287400-1734294600@kolkatatheatre.com
SUMMARY:Hypokrites’ Tabe Tai\, at Gyan Manch
DESCRIPTION:Based on Pirandello’s Right You Are (If You Think So)\, adapted by Pratik Datta and directed by Susnata Bhattacharya.
URL:https://kolkatatheatre.com/event/hypokrites-tabe-tai-at-gyan-manch-4/
LOCATION:Gyan Manch\, Gyan Manch\, 11\, Pretoria St\, Kolkata\, West Bengal\, 700071\, India
CATEGORIES:Theatre
END:VEVENT
BEGIN:VEVENT
DTSTART;TZID=Asia/Kolkata:20241215T183000
DTEND;TZID=Asia/Kolkata:20241215T200000
DTSTAMP:20260425T063533
CREATED:20241212T140058Z
LAST-MODIFIED:20241212T140058Z
UID:13110-1734287400-1734292800@kolkatatheatre.com
SUMMARY:aRANYA's Trasadi\, at KCC
DESCRIPTION:A solo performance written and performed by Manav Kaul\, about the grief that comes with losing one’s mother. Part of KCC’s AMI Arts Festival.
URL:https://kolkatatheatre.com/event/aranyas-trasadi-at-kcc/
LOCATION:Kolkata Centre for Creativity\, Anandapur\, E M Bypass\, Kolkata
CATEGORIES:Theatre
END:VEVENT
BEGIN:VEVENT
DTSTART;TZID=Asia/Kolkata:20241215T150000
DTEND;TZID=Asia/Kolkata:20241215T170000
DTSTAMP:20260425T063533
CREATED:20241212T134714Z
LAST-MODIFIED:20241212T140611Z
UID:13104-1734274800-1734282000@kolkatatheatre.com
SUMMARY:Sudrak’s Shikh ^kha Jatir Merudanda\, at Academy
DESCRIPTION:Sudrak’s new\, so-called “uneducated” satire on education written and directed by Debasis Majumdar. Read my review.
URL:https://kolkatatheatre.com/event/sudraks-shikh-kha-jatir-merudanda-at-academy-6/
LOCATION:Academy of Fine Arts\, 2\, Cathedral Rd\, Maidan\, Kolkata\, West Bengal 700020\, Kolkata\, West Bengal\, 700071\, India
CATEGORIES:Theatre
END:VEVENT
BEGIN:VEVENT
DTSTART;TZID=Asia/Kolkata:20241214T183000
DTEND;TZID=Asia/Kolkata:20241214T203000
DTSTAMP:20260425T063533
CREATED:20241212T134346Z
LAST-MODIFIED:20241212T134346Z
UID:13102-1734201000-1734208200@kolkatatheatre.com
SUMMARY:Kolkata Playmakers’ Parabola Sir\, at Girish
DESCRIPTION:Dramatized from Narayan Sanyal’s novel by Tirthankar Chanda\, about an idealistic teacher. Directed by Ram Mukhopadhyay.
URL:https://kolkatatheatre.com/event/kolkata-playmakers-parabola-sir-at-girish-2/
LOCATION:Girish Mancha\, Bagbazar
CATEGORIES:Theatre
END:VEVENT
BEGIN:VEVENT
DTSTART;TZID=Asia/Kolkata:20241213T183000
DTEND;TZID=Asia/Kolkata:20241213T203000
DTSTAMP:20260425T063533
CREATED:20241207T125857Z
LAST-MODIFIED:20241207T125857Z
UID:13099-1734114600-1734121800@kolkatatheatre.com
SUMMARY:Rangroop’s Garal\, at Academy
DESCRIPTION:Revival of this searing play because of the R G Kar tragedy in Kolkata. Dramatized by Mainak Sengupta\, directed by Sima Mukhopadhyay. \nRecommended: ★★★★ Read my review here.
URL:https://kolkatatheatre.com/event/rangroops-garal-at-academy-3/
LOCATION:Academy of Fine Arts\, 2\, Cathedral Rd\, Maidan\, Kolkata\, West Bengal 700020\, Kolkata\, West Bengal\, 700071\, India
CATEGORIES:Theatre
END:VEVENT
BEGIN:VEVENT
DTSTART;TZID=Asia/Kolkata:20241212T183000
DTEND;TZID=Asia/Kolkata:20241212T203000
DTSTAMP:20260425T063533
CREATED:20241207T125255Z
LAST-MODIFIED:20241207T125255Z
UID:13097-1734028200-1734035400@kolkatatheatre.com
SUMMARY:Mangolik’s Bapu\, at Academy
DESCRIPTION:One of the best Bengali biodramas on Gandhiji\, written by Jeet-Satragni and directed by Samir Biswas. Recommended: ★★★★ \nRead my review.
URL:https://kolkatatheatre.com/event/mangoliks-bapu-at-academy-2/
LOCATION:Academy of Fine Arts\, 2\, Cathedral Rd\, Maidan\, Kolkata\, West Bengal 700020\, Kolkata\, West Bengal\, 700071\, India
CATEGORIES:Theatre
END:VEVENT
BEGIN:VEVENT
DTSTART;TZID=Asia/Kolkata:20241207T183000
DTEND;TZID=Asia/Kolkata:20241207T203000
DTSTAMP:20260425T063533
CREATED:20241206T174645Z
LAST-MODIFIED:20241206T174645Z
UID:13095-1733596200-1733603400@kolkatatheatre.com
SUMMARY:Rangalok’s Shekal Chhenra Hater Khonje\, at Girish
DESCRIPTION:Dramatized from Samaresh Basu’s 1984 novel by Tirthankar Chanda and directed by Shyamal Chakrabarti. A wake-up call to any political ideology that strays from its humanistic roots. \nRecommended: ★★★★ Read my review.
URL:https://kolkatatheatre.com/event/rangaloks-shekal-chhenra-hater-khonje-at-girish-2/
LOCATION:Girish Mancha\, Bagbazar
CATEGORIES:Theatre
END:VEVENT
BEGIN:VEVENT
DTSTART;TZID=Asia/Kolkata:20241207T100000
DTEND;TZID=Asia/Kolkata:20241207T123000
DTSTAMP:20260425T063533
CREATED:20241206T174413Z
LAST-MODIFIED:20241206T174413Z
UID:13092-1733565600-1733574600@kolkatatheatre.com
SUMMARY:Angik’s Binodini Opera\, at Academy
DESCRIPTION:Biographical drama on Nati Binodini co-written by Abanti Chakraborty and Sibashis Bandyopadhyay\, and directed by Abanti Chakraborty.
URL:https://kolkatatheatre.com/event/angiks-binodini-opera-at-academy-5/
LOCATION:Academy of Fine Arts\, 2\, Cathedral Rd\, Maidan\, Kolkata\, West Bengal 700020\, Kolkata\, West Bengal\, 700071\, India
CATEGORIES:Theatre
END:VEVENT
BEGIN:VEVENT
DTSTART;TZID=Asia/Kolkata:20241206T183000
DTEND;TZID=Asia/Kolkata:20241206T203000
DTSTAMP:20260425T063533
CREATED:20241201T191800Z
LAST-MODIFIED:20241201T191800Z
UID:13088-1733509800-1733517000@kolkatatheatre.com
SUMMARY:Studio 9's My Name Is Jaan\, at Birla Sabhagar
DESCRIPTION:Arpita Chatterjee’s solo musical on Gauhar Jan\, directed by Abanti Chakraborty.
URL:https://kolkatatheatre.com/event/studio-9s-my-name-is-jaan-at-birla-sabhagar/
LOCATION:G D Birla Sabhagar\, 29 Ashutosh Chowdhury Avenue\, Kolkata\, 700019
CATEGORIES:Theatre
END:VEVENT
BEGIN:VEVENT
DTSTART;TZID=Asia/Kolkata:20241205T183000
DTEND;TZID=Asia/Kolkata:20241205T203000
DTSTAMP:20260425T063533
CREATED:20241201T115200Z
LAST-MODIFIED:20241201T115200Z
UID:13086-1733423400-1733430600@kolkatatheatre.com
SUMMARY:Durgadas Smrity Sangha’s Joyar Bhatir Kabya\, at Academy
DESCRIPTION:Based on research in the Sundarban about the secular worship of Banbibi\, rights to water\, jungle and life\, and the terrible menace of trafficking. Written and directed by Kingshuk Bandhopadhyay.
URL:https://kolkatatheatre.com/event/durgadas-smrity-sanghas-joyar-bhatir-kabya-at-academy/
LOCATION:Academy of Fine Arts\, 2\, Cathedral Rd\, Maidan\, Kolkata\, West Bengal 700020\, Kolkata\, West Bengal\, 700071\, India
CATEGORIES:Theatre
END:VEVENT
BEGIN:VEVENT
DTSTART;TZID=Asia/Kolkata:20241201T183000
DTEND;TZID=Asia/Kolkata:20241201T210000
DTSTAMP:20260425T063533
CREATED:20241128T191448Z
LAST-MODIFIED:20241128T191448Z
UID:13071-1733077800-1733086800@kolkatatheatre.com
SUMMARY:Sayak’s Dharmabatar\, at Academy
DESCRIPTION:Ujjwal Chattopadhyay’s play inspired by a foreign film about the personal conflict between a retired judge and his son who defends criminals. Directed by Meghnad Bhattacharya.
URL:https://kolkatatheatre.com/event/sayaks-dharmabatar-at-academy-2/
LOCATION:Academy of Fine Arts\, 2\, Cathedral Rd\, Maidan\, Kolkata\, West Bengal 700020\, Kolkata\, West Bengal\, 700071\, India
CATEGORIES:Theatre
END:VEVENT
BEGIN:VEVENT
DTSTART;TZID=Asia/Kolkata:20241201T183000
DTEND;TZID=Asia/Kolkata:20241201T203000
DTSTAMP:20260425T063533
CREATED:20241129T181728Z
LAST-MODIFIED:20241129T181728Z
UID:13077-1733077800-1733085000@kolkatatheatre.com
SUMMARY:Kolkata Centre for Creativity’s Bechara B.B.\, at KCC
DESCRIPTION:Directed and designed by Suman Mukhopadhyay from fragments of plays by Bertolt Brecht\, reflecting the essence of Brecht’s life\, ideas and philosophy.
URL:https://kolkatatheatre.com/event/kolkata-centre-for-creativitys-bechara-b-b-at-kcc-3/
LOCATION:Kolkata Centre for Creativity\, Anandapur\, E M Bypass\, Kolkata
CATEGORIES:Theatre
END:VEVENT
BEGIN:VEVENT
DTSTART;TZID=Asia/Kolkata:20241130T190000
DTEND;TZID=Asia/Kolkata:20241130T203000
DTSTAMP:20260425T063533
CREATED:20241129T182616Z
LAST-MODIFIED:20241129T182641Z
UID:13080-1732993200-1732998600@kolkatatheatre.com
SUMMARY:Wright & Grainger (UK)'s Helios\, at Urban Theatre Project
DESCRIPTION:A story about the son of the god of the sun\, told by a British troupe. Presented by QTP\, Mumbai.
URL:https://kolkatatheatre.com/event/wright-grainger-uks-helios-at-urban-theatre-project/
LOCATION:The Urban Theatre Project\, Kabir Road\, Kolkata\, 700029
CATEGORIES:Theatre
END:VEVENT
BEGIN:VEVENT
DTSTART;TZID=Asia/Kolkata:20241130T183000
DTEND;TZID=Asia/Kolkata:20241130T210000
DTSTAMP:20260425T063533
CREATED:20241128T193340Z
LAST-MODIFIED:20241128T193340Z
UID:13075-1732991400-1733000400@kolkatatheatre.com
SUMMARY:The Company Theatre (Mumbai)'s Taking Sides\, at Birla Sabhagar
DESCRIPTION:Ronald Harwood’s play set in post-World War II Germany\, about the de-Nazifying investigation of the world-famous music conductor Wilhelm Furtwangler. Directed by Atul Kumar. Part of KCC’s Ami Arts Festival.
URL:https://kolkatatheatre.com/event/the-company-theatre-mumbais-taking-sides-at-birla-sabhagar/
LOCATION:G D Birla Sabhagar\, 29 Ashutosh Chowdhury Avenue\, Kolkata\, 700019
CATEGORIES:Theatre
END:VEVENT
BEGIN:VEVENT
DTSTART;TZID=Asia/Kolkata:20241130T183000
DTEND;TZID=Asia/Kolkata:20241130T203000
DTSTAMP:20260425T063533
CREATED:20241128T192728Z
LAST-MODIFIED:20241128T192728Z
UID:13073-1732991400-1732998600@kolkatatheatre.com
SUMMARY:Hoshruba Repertory (Mumbai)'s Qissebazi\, at KCC
DESCRIPTION:Danish Husain narrates the Dastangoi of the thrilling escapades of Amar Aiyyar\, who finds himself entangled in the treacherous court of Emperor Afrasiyab. With humour\, aiyyari (trickery) and adventure\, Amar devises clever schemes to retrieve a stolen magical tablet. Part of KCC’s Ami Arts Festival.
URL:https://kolkatatheatre.com/event/hoshruba-repertory-mumbais-qissebazi-at-kcc/
LOCATION:Kolkata Centre for Creativity\, Anandapur\, E M Bypass\, Kolkata
CATEGORIES:Theatre
END:VEVENT
END:VCALENDAR