BEGIN:VCALENDAR
VERSION:2.0
PRODID:-//KolkataTheatre.com - ECPv6.15.12.2//NONSGML v1.0//EN
CALSCALE:GREGORIAN
METHOD:PUBLISH
X-WR-CALNAME:KolkataTheatre.com
X-ORIGINAL-URL:https://kolkatatheatre.com
X-WR-CALDESC:Events for KolkataTheatre.com
REFRESH-INTERVAL;VALUE=DURATION:PT1H
X-Robots-Tag:noindex
X-PUBLISHED-TTL:PT1H
BEGIN:VTIMEZONE
TZID:Asia/Kolkata
BEGIN:STANDARD
TZOFFSETFROM:+0530
TZOFFSETTO:+0530
TZNAME:IST
DTSTART:20230101T000000
END:STANDARD
END:VTIMEZONE
BEGIN:VEVENT
DTSTART;TZID=Asia/Kolkata:20241112T183000
DTEND;TZID=Asia/Kolkata:20241112T203000
DTSTAMP:20260425T165454
CREATED:20241110T125630Z
LAST-MODIFIED:20241110T125630Z
UID:13025-1731436200-1731443400@kolkatatheatre.com
SUMMARY:Anya Theatre’s Romeo Ebang Juliet\, at Academy
DESCRIPTION:Based on Debes Roy’s Bengali rendering of Shakespeare’s classic and Jan Otcenasek’s Romeo and Juliet in Darkness. Directed by Abanti Chakraborty. Recommended: ★★★★
URL:https://kolkatatheatre.com/event/anya-theatres-romeo-ebang-juliet-at-academy/
LOCATION:Academy of Fine Arts\, 2\, Cathedral Rd\, Maidan\, Kolkata\, West Bengal 700020\, Kolkata\, West Bengal\, 700071\, India
CATEGORIES:Theatre
END:VEVENT
BEGIN:VEVENT
DTSTART;TZID=Asia/Kolkata:20241110T183000
DTEND;TZID=Asia/Kolkata:20241110T203000
DTSTAMP:20260425T165454
CREATED:20241108T152413Z
LAST-MODIFIED:20241108T152413Z
UID:13021-1731263400-1731270600@kolkatatheatre.com
SUMMARY:Kalyani Natyacharcha Kendra’s Meyeti\, at Academy
DESCRIPTION:Adapted from Ariel Dorfman’s internationally successful Death and the Maiden and directed by Kishore Sengupta.
URL:https://kolkatatheatre.com/event/kalyani-natyacharcha-kendras-meyeti-at-academy-5/
LOCATION:Academy of Fine Arts\, 2\, Cathedral Rd\, Maidan\, Kolkata\, West Bengal 700020\, Kolkata\, West Bengal\, 700071\, India
CATEGORIES:Theatre
END:VEVENT
BEGIN:VEVENT
DTSTART;TZID=Asia/Kolkata:20241110T183000
DTEND;TZID=Asia/Kolkata:20241110T203000
DTSTAMP:20260425T165454
CREATED:20241108T152225Z
LAST-MODIFIED:20241108T152225Z
UID:13019-1731263400-1731270600@kolkatatheatre.com
SUMMARY:Sanglap Kolkata’s Hulusthul\, at Tapan
DESCRIPTION:Dramatized from Shirshendu Mukhopadhyay’s novel by Kuntal Mukhopadhyay and directed by Debasish. A mysterious hawker sells seemingly useless things\, but fruitful in the fearless thirst for knowledge. Some people conspire to capture this power of science.
URL:https://kolkatatheatre.com/event/sanglap-kolkatas-hulusthul-at-tapan/
LOCATION:Tapan Theatre\, Kalighat
CATEGORIES:Theatre
END:VEVENT
BEGIN:VEVENT
DTSTART;TZID=Asia/Kolkata:20241110T150000
DTEND;TZID=Asia/Kolkata:20241110T173000
DTSTAMP:20260425T165454
CREATED:20241108T153213Z
LAST-MODIFIED:20241108T153213Z
UID:13023-1731250800-1731259800@kolkatatheatre.com
SUMMARY:Kolkata Twist's Banaspatir Chhaya\, at Academy
DESCRIPTION:Premiere of Ratan Kumar Das’s new play about an older man whose only roots are his memories\, his daughter and his house\, as everything changes all around. Directed by Biplab Bandopadhyay.
URL:https://kolkatatheatre.com/event/kolkata-twists-banaspatir-chhaya-at-academy/
LOCATION:Academy of Fine Arts\, 2\, Cathedral Rd\, Maidan\, Kolkata\, West Bengal 700020\, Kolkata\, West Bengal\, 700071\, India
CATEGORIES:Theatre
END:VEVENT
BEGIN:VEVENT
DTSTART;TZID=Asia/Kolkata:20241109T183000
DTEND;TZID=Asia/Kolkata:20241109T203000
DTSTAMP:20260425T165454
CREATED:20241107T191547Z
LAST-MODIFIED:20241107T191547Z
UID:13017-1731177000-1731184200@kolkatatheatre.com
SUMMARY:Belgharia Avimukh’s Kojagari\, at Academy
DESCRIPTION:From Howard Fast’s novel Silas Timberman\, dramatized and directed by Kaushik Chattopadhyay. \nHighly recommended: ★★★★★. Read my review.
URL:https://kolkatatheatre.com/event/belgharia-avimukhs-kojagari-at-academy-2/
LOCATION:Academy of Fine Arts\, 2\, Cathedral Rd\, Maidan\, Kolkata\, West Bengal 700020\, Kolkata\, West Bengal\, 700071\, India
CATEGORIES:Theatre
END:VEVENT
BEGIN:VEVENT
DTSTART;TZID=Asia/Kolkata:20241107T183000
DTEND;TZID=Asia/Kolkata:20241107T203000
DTSTAMP:20260425T165454
CREATED:20241103T125542Z
LAST-MODIFIED:20241103T125542Z
UID:13014-1731004200-1731011400@kolkatatheatre.com
SUMMARY:Ganakrishti’s Athaba Rabithakur\, at Academy
DESCRIPTION:Adapted from Slovenian dramatist Evald Flisar’s What about Leonardo\, set in a neurological institute\, and directed by Amitava Dutta.
URL:https://kolkatatheatre.com/event/ganakrishtis-athaba-rabithakur-at-academy-3/
LOCATION:Academy of Fine Arts\, 2\, Cathedral Rd\, Maidan\, Kolkata\, West Bengal 700020\, Kolkata\, West Bengal\, 700071\, India
CATEGORIES:Theatre
END:VEVENT
BEGIN:VEVENT
DTSTART;TZID=Asia/Kolkata:20241105T180000
DTEND;TZID=Asia/Kolkata:20241105T210000
DTSTAMP:20260425T165454
CREATED:20241103T125311Z
LAST-MODIFIED:20241103T125311Z
UID:13012-1730829600-1730840400@kolkatatheatre.com
SUMMARY:Swapna-sandhani’s Hamlet\, at Academy
DESCRIPTION:Shakespeare’s classic directed by Koushik Sen in a Bengali translation by Chaiti Mitra. \nRecommended: ★★★★ Read my review here.
URL:https://kolkatatheatre.com/event/swapna-sandhanis-hamlet-at-academy-3/
LOCATION:Academy of Fine Arts\, 2\, Cathedral Rd\, Maidan\, Kolkata\, West Bengal 700020\, Kolkata\, West Bengal\, 700071\, India
CATEGORIES:Theatre
END:VEVENT
BEGIN:VEVENT
DTSTART;TZID=Asia/Kolkata:20241103T183000
DTEND;TZID=Asia/Kolkata:20241103T203000
DTSTAMP:20260425T165454
CREATED:20241031T113036Z
LAST-MODIFIED:20241031T113036Z
UID:13010-1730658600-1730665800@kolkatatheatre.com
SUMMARY:Bandel Arohee’s Kāl Nirabadhi\, at Tapan
DESCRIPTION:Dramatist-director Ranjan Roy’s play presents a Kolkata novelist returning to her ancestral district mansion which her brother has decided to convert into a modern building. Flashbacks give us the complicated history.
URL:https://kolkatatheatre.com/event/bandel-arohees-kal-nirabadhi-at-tapan/
LOCATION:Tapan Theatre\, Kalighat
CATEGORIES:Theatre
END:VEVENT
BEGIN:VEVENT
DTSTART;TZID=Asia/Kolkata:20241103T183000
DTEND;TZID=Asia/Kolkata:20241103T203000
DTSTAMP:20260425T165454
CREATED:20241031T111551Z
LAST-MODIFIED:20241031T111551Z
UID:13008-1730658600-1730665800@kolkatatheatre.com
SUMMARY:Nat-ranga’s Chhayapather Sheshe\, at Madhusudan
DESCRIPTION:Dramatist-director Sohan Bandopadhyay’s ghostly comedy set in a dilapidated north Kolkata hall about to be demolished to make way for a mall. Resident spooks protest against the reigning politician’s corruption. \nRecommended: ★★★★. Read my review.
URL:https://kolkatatheatre.com/event/nat-rangas-chhayapather-sheshe-at-madhusudan/
LOCATION:Madhusudan Mancha\, Gariahat Rd S\, Jodhpur Park\,\, Kolkata\, West Bengal\, 700031\, India
CATEGORIES:Theatre
END:VEVENT
BEGIN:VEVENT
DTSTART;TZID=Asia/Kolkata:20241103T183000
DTEND;TZID=Asia/Kolkata:20241103T203000
DTSTAMP:20260425T165454
CREATED:20241031T111246Z
LAST-MODIFIED:20241031T111246Z
UID:13006-1730658600-1730665800@kolkatatheatre.com
SUMMARY:Rangroop’s Manmayi Girls School\, at Academy
DESCRIPTION:The highly popular 1932 play written by Rabindranath Maitra\, directed by Sima Mukhopadhyay. \nRecommended: ★★★★ Read my review here.
URL:https://kolkatatheatre.com/event/rangroops-manmayi-girls-school-at-academy-6/
LOCATION:Academy of Fine Arts\, 2\, Cathedral Rd\, Maidan\, Kolkata\, West Bengal 700020\, Kolkata\, West Bengal\, 700071\, India
CATEGORIES:Theatre
END:VEVENT
BEGIN:VEVENT
DTSTART;TZID=Asia/Kolkata:20241102T183000
DTEND;TZID=Asia/Kolkata:20241102T203000
DTSTAMP:20260425T165454
CREATED:20241031T110631Z
LAST-MODIFIED:20241031T110631Z
UID:13002-1730572200-1730579400@kolkatatheatre.com
SUMMARY:Anya Theatre’s Pratham Rajnaitik Hatya\, at Academy
DESCRIPTION:Written and directed by Debashis. Based on the freedom fighters arrested in the Alipore Bomb Case of 1908. \nRecommended: ★★★★. Read my review.
URL:https://kolkatatheatre.com/event/anya-theatres-pratham-rajnaitik-hatya-at-academy-2/
LOCATION:Academy of Fine Arts\, 2\, Cathedral Rd\, Maidan\, Kolkata\, West Bengal 700020\, Kolkata\, West Bengal\, 700071\, India
CATEGORIES:Theatre
END:VEVENT
BEGIN:VEVENT
DTSTART;TZID=Asia/Kolkata:20241102T183000
DTEND;TZID=Asia/Kolkata:20241102T203000
DTSTAMP:20260425T165454
CREATED:20241031T110339Z
LAST-MODIFIED:20241031T110339Z
UID:13000-1730572200-1730579400@kolkatatheatre.com
SUMMARY:Renaissance’s Charandas MLA\, at Sisir
DESCRIPTION:Revival of Renaissance’s Hindi production from the 1990s. Dramatized from Satinath Bhaduri’s satirical story by Partha Sarathi Upadhyay and directed by Bimal Chakraborty.
URL:https://kolkatatheatre.com/event/renaissances-charandas-mla-at-sisir/
LOCATION:Sisir Mancha\, 1/1 A J C Bose Road\, Kolkata
CATEGORIES:Theatre
END:VEVENT
BEGIN:VEVENT
DTSTART;TZID=Asia/Kolkata:20241102T180000
DTEND;TZID=Asia/Kolkata:20241102T203000
DTSTAMP:20260425T165454
CREATED:20241031T111019Z
LAST-MODIFIED:20241031T111019Z
UID:13004-1730570400-1730579400@kolkatatheatre.com
SUMMARY:Pratikriti’s Padma Nadir Majhi\, at Rabindra Sadan
DESCRIPTION:Pratikriti’s Padma Nadir Majhi\, Manik Bandyopadhyay’s classic novel dramatized and directed by Alok Deb. \nHighly recommended: ★★★★★
URL:https://kolkatatheatre.com/event/pratikritis-padma-nadir-majhi-at-rabindra-sadan/
LOCATION:Rabindra Sadan\, Cathedral Road\, Kolkata\, 700016
CATEGORIES:Theatre
END:VEVENT
BEGIN:VEVENT
DTSTART;TZID=Asia/Kolkata:20241101T183000
DTEND;TZID=Asia/Kolkata:20241101T210000
DTSTAMP:20260425T165454
CREATED:20241027T093745Z
LAST-MODIFIED:20241027T093745Z
UID:12995-1730485800-1730494800@kolkatatheatre.com
SUMMARY:Angik’s Binodini Opera\, at Academy
DESCRIPTION:Biographical drama on Nati Binodini co-written by Abanti Chakraborty and Sibashis Bandyopadhyay\, and directed by Abanti Chakraborty.
URL:https://kolkatatheatre.com/event/angiks-binodini-opera-at-academy-4/
LOCATION:Academy of Fine Arts\, 2\, Cathedral Rd\, Maidan\, Kolkata\, West Bengal 700020\, Kolkata\, West Bengal\, 700071\, India
CATEGORIES:Theatre
END:VEVENT
BEGIN:VEVENT
DTSTART;TZID=Asia/Kolkata:20241029T183000
DTEND;TZID=Asia/Kolkata:20241029T203000
DTSTAMP:20260425T165454
CREATED:20241027T093507Z
LAST-MODIFIED:20241027T093507Z
UID:12993-1730226600-1730233800@kolkatatheatre.com
SUMMARY:Chetla Krishti Sangsad’s Amar Gan\, at Academy
DESCRIPTION:A blind and wheelchair-bound youth\, highly intelligent\, wants to know about light from his physicist father. Written and directed by Suman Sengupta. Recommended: ★★★★
URL:https://kolkatatheatre.com/event/chetla-krishti-sangsads-amar-gan-at-academy/
LOCATION:Academy of Fine Arts\, 2\, Cathedral Rd\, Maidan\, Kolkata\, West Bengal 700020\, Kolkata\, West Bengal\, 700071\, India
CATEGORIES:Theatre
END:VEVENT
BEGIN:VEVENT
DTSTART;TZID=Asia/Kolkata:20241027T183000
DTEND;TZID=Asia/Kolkata:20241027T203000
DTSTAMP:20260425T165454
CREATED:20241024T190011Z
LAST-MODIFIED:20241024T190011Z
UID:12989-1730053800-1730061000@kolkatatheatre.com
SUMMARY:Theatre Workshop’s Great Bengal Theatre\, at Madhusudan
DESCRIPTION:Dramatist-director Sumitro Bandyopadhyay’s fictionalized depiction of a professional theatre company’s troubles at the time of the Partition of Bengal. Recommended: ★★★★ Read my review.
URL:https://kolkatatheatre.com/event/theatre-workshops-great-bengal-theatre-at-madhusudan/
LOCATION:Madhusudan Mancha\, Gariahat Rd S\, Jodhpur Park\,\, Kolkata\, West Bengal\, 700031\, India
CATEGORIES:Theatre
END:VEVENT
BEGIN:VEVENT
DTSTART;TZID=Asia/Kolkata:20241027T183000
DTEND;TZID=Asia/Kolkata:20241027T203000
DTSTAMP:20260425T165454
CREATED:20241024T184605Z
LAST-MODIFIED:20241024T184605Z
UID:12987-1730053800-1730061000@kolkatatheatre.com
SUMMARY:Nat-ranga’s Chhayapather Sheshe\, at Girish
DESCRIPTION:Dramatist-director Sohan Bandopadhyay’s ghostly comedy set in a dilapidated north Kolkata hall about to be demolished to make way for a mall. Resident spooks protest against the reigning politician’s corruption. \nRecommended: ★★★★. Read my review.
URL:https://kolkatatheatre.com/event/nat-rangas-chhayapather-sheshe-at-girish/
LOCATION:Girish Mancha\, Bagbazar
CATEGORIES:Theatre
END:VEVENT
BEGIN:VEVENT
DTSTART;TZID=Asia/Kolkata:20241025T183000
DTEND;TZID=Asia/Kolkata:20241025T203000
DTSTAMP:20260425T165454
CREATED:20241020T151424Z
LAST-MODIFIED:20241020T151424Z
UID:12983-1729881000-1729888200@kolkatatheatre.com
SUMMARY:Renaissance’s Charandas MLA\, at Rabindra Sadan
DESCRIPTION:Revival of Renaissance’s Hindi production from the 1990s. Dramatized from Satinath Bhaduri’s satirical story by Partha Sarathi Upadhyay and directed by Bimal Chakraborty.
URL:https://kolkatatheatre.com/event/renaissances-charandas-mla-at-rabindra-sadan/
LOCATION:Rabindra Sadan\, Cathedral Road\, Kolkata\, 700016
CATEGORIES:Theatre
END:VEVENT
BEGIN:VEVENT
DTSTART;TZID=Asia/Kolkata:20241023T183000
DTEND;TZID=Asia/Kolkata:20241023T200000
DTSTAMP:20260425T165454
CREATED:20241020T152017Z
LAST-MODIFIED:20241020T152017Z
UID:12985-1729708200-1729713600@kolkatatheatre.com
SUMMARY:Little Thespian’s Chak\, at Academy
DESCRIPTION:The last play written by Little Thespian’s S. M. Azhar Alam\,  directed by Uma Jhunjhunwala. About the various challenges faced by Indian Muslims after the conflict in East Pakistan in 1971\, through the struggles of one such family whose Indian citizenship is questioned.
URL:https://kolkatatheatre.com/event/little-thespians-chak-at-academy/
LOCATION:Academy of Fine Arts\, 2\, Cathedral Rd\, Maidan\, Kolkata\, West Bengal 700020\, Kolkata\, West Bengal\, 700071\, India
CATEGORIES:Theatre
END:VEVENT
BEGIN:VEVENT
DTSTART;TZID=Asia/Kolkata:20241020T183000
DTEND;TZID=Asia/Kolkata:20241020T203000
DTSTAMP:20260425T165454
CREATED:20241018T071246Z
LAST-MODIFIED:20241018T071246Z
UID:12981-1729449000-1729456200@kolkatatheatre.com
SUMMARY:Sanglap Kolkata's Hulusthul\, at Girish
DESCRIPTION:Dramatized from Shirshendu Mukhopadhyay’s novel by Kuntal Mukhopadhyay and directed by Debasish. A mysterious hawker sells seemingly useless things\, but fruitful in the fearless thirst for knowledge. Some people conspire to capture this power of science.
URL:https://kolkatatheatre.com/event/sanglap-kolkatas-hulusthul-at-girish/
LOCATION:Girish Mancha\, Bagbazar
CATEGORIES:Theatre
END:VEVENT
BEGIN:VEVENT
DTSTART;TZID=Asia/Kolkata:20241020T183000
DTEND;TZID=Asia/Kolkata:20241020T203000
DTSTAMP:20260425T165454
CREATED:20241018T070320Z
LAST-MODIFIED:20241018T070320Z
UID:12979-1729449000-1729456200@kolkatatheatre.com
SUMMARY:Nat-ranga’s Chhayapather Sheshe\, at Academy
DESCRIPTION:Dramatist-director Sohan Bandopadhyay’s ghostly comedy set in a dilapidated north Kolkata hall about to be demolished to make way for a mall. Resident spooks protest against the reigning politician’s corruption. \nRecommended: ★★★★. Read my review.
URL:https://kolkatatheatre.com/event/nat-rangas-chhayapather-sheshe-at-academy-6/
LOCATION:Academy of Fine Arts\, 2\, Cathedral Rd\, Maidan\, Kolkata\, West Bengal 700020\, Kolkata\, West Bengal\, 700071\, India
CATEGORIES:Theatre
END:VEVENT
BEGIN:VEVENT
DTSTART;TZID=Asia/Kolkata:20241020T150000
DTEND;TZID=Asia/Kolkata:20241020T170000
DTSTAMP:20260425T165454
CREATED:20241018T065956Z
LAST-MODIFIED:20241018T065956Z
UID:12977-1729436400-1729443600@kolkatatheatre.com
SUMMARY:Nat-ranga’s Mithye Car-er Satyi\, at Academy
DESCRIPTION:Written and directed by Sohan Bandopadhyay\, comedy and romance come together in an old-age home.
URL:https://kolkatatheatre.com/event/nat-rangas-mithye-car-er-satyi-at-academy/
LOCATION:Academy of Fine Arts\, 2\, Cathedral Rd\, Maidan\, Kolkata\, West Bengal 700020\, Kolkata\, West Bengal\, 700071\, India
CATEGORIES:Theatre
END:VEVENT
BEGIN:VEVENT
DTSTART;TZID=Asia/Kolkata:20241019T183000
DTEND;TZID=Asia/Kolkata:20241019T203000
DTSTAMP:20260425T165454
CREATED:20241018T065759Z
LAST-MODIFIED:20241018T065759Z
UID:12975-1729362600-1729369800@kolkatatheatre.com
SUMMARY:Sansriti’s Khokkas\, at Madhusudan
DESCRIPTION:Adapted from Evgeny Schwartz’s satirical Russian play The Dragon (1944) by Arpita Ghosh and directed by Debesh Chattopadhyay. A village terrorized by a dragon finds an unlikely saviour.
URL:https://kolkatatheatre.com/event/sansritis-khokkas-at-madhusudan-2/
LOCATION:Madhusudan Mancha\, Gariahat Rd S\, Jodhpur Park\,\, Kolkata\, West Bengal\, 700031\, India
CATEGORIES:Theatre
END:VEVENT
BEGIN:VEVENT
DTSTART;TZID=Asia/Kolkata:20241017T183000
DTEND;TZID=Asia/Kolkata:20241017T203000
DTSTAMP:20260425T165454
CREATED:20241013T144233Z
LAST-MODIFIED:20241013T144233Z
UID:12971-1729189800-1729197000@kolkatatheatre.com
SUMMARY:Kalyani Natyacharcha Kendra’s Tomar Kono Satya Nei\, at Academy
DESCRIPTION:Translated from Agatha Christie’s Witness for the Prosecution and directed by Kishore Sengupta.
URL:https://kolkatatheatre.com/event/kalyani-natyacharcha-kendras-tomar-kono-satya-nei-at-academy-2/
LOCATION:Academy of Fine Arts\, 2\, Cathedral Rd\, Maidan\, Kolkata\, West Bengal 700020\, Kolkata\, West Bengal\, 700071\, India
CATEGORIES:Theatre
END:VEVENT
BEGIN:VEVENT
DTSTART;TZID=Asia/Kolkata:20241011T183000
DTEND;TZID=Asia/Kolkata:20241011T203000
DTSTAMP:20260425T165454
CREATED:20241006T103650Z
LAST-MODIFIED:20241006T103650Z
UID:12964-1728671400-1728678600@kolkatatheatre.com
SUMMARY:Ichheymoto’s Ghum Nei\, at Academy
DESCRIPTION:Based on Utpal Dutt’s early play about lorry drivers\, directed by Saurav Palodhi. \nHighly recommended ★★★★★. Winner of META awards. Read my review.
URL:https://kolkatatheatre.com/event/ichheymotos-ghum-nei-at-academy/
LOCATION:Academy of Fine Arts\, 2\, Cathedral Rd\, Maidan\, Kolkata\, West Bengal 700020\, Kolkata\, West Bengal\, 700071\, India
CATEGORIES:Theatre
END:VEVENT
BEGIN:VEVENT
DTSTART;TZID=Asia/Kolkata:20241011T150000
DTEND;TZID=Asia/Kolkata:20241011T170000
DTSTAMP:20260425T165454
CREATED:20241006T103400Z
LAST-MODIFIED:20241006T103400Z
UID:12962-1728658800-1728666000@kolkatatheatre.com
SUMMARY:Ichheymoto’s Mantu o Marx\, at Academy
DESCRIPTION:An unusual play where Marx appears today and tries to explain his theories to a Bengali labourer. Written by Dhrubajyoti Chakrabarti and directed by Kushal Chattopadhyay.
URL:https://kolkatatheatre.com/event/ichheymotos-mantu-o-marx-at-academy/
LOCATION:Academy of Fine Arts\, 2\, Cathedral Rd\, Maidan\, Kolkata\, West Bengal 700020\, Kolkata\, West Bengal\, 700071\, India
CATEGORIES:Theatre
END:VEVENT
BEGIN:VEVENT
DTSTART;TZID=Asia/Kolkata:20241010T190000
DTEND;TZID=Asia/Kolkata:20241010T210000
DTSTAMP:20260425T165454
CREATED:20241006T102912Z
LAST-MODIFIED:20241006T102912Z
UID:12960-1728586800-1728594000@kolkatatheatre.com
SUMMARY:4th Bell’s Hapi-D\, at Academy
DESCRIPTION:An ebullient Bengali pastiche of Hamlet. 4th Bell had debuted in 2011 with this play\, deliberately and delectably perverting Shakespeare’s tragedy into a festive comedy written and directed by Aniruddha Dasgupta. \nRecommended: ★★★★
URL:https://kolkatatheatre.com/event/4th-bells-hapi-d-at-academy-2/
LOCATION:Academy of Fine Arts\, 2\, Cathedral Rd\, Maidan\, Kolkata\, West Bengal 700020\, Kolkata\, West Bengal\, 700071\, India
CATEGORIES:Theatre
END:VEVENT
BEGIN:VEVENT
DTSTART;TZID=Asia/Kolkata:20241007T183000
DTEND;TZID=Asia/Kolkata:20241007T203000
DTSTAMP:20260425T165454
CREATED:20241006T102514Z
LAST-MODIFIED:20241006T102514Z
UID:12958-1728325800-1728333000@kolkatatheatre.com
SUMMARY:Dwitiya Satta’s Na Tor Janya\, at Madhusudan
DESCRIPTION:Written and directed by Suman Sengupta\, a portrayal of the dilemma of an accomplished commercial artist who sells out to the ruthless and competitive contemporary ratrace.
URL:https://kolkatatheatre.com/event/dwitiya-sattas-na-tor-janya-at-madhusudan-2/
LOCATION:Madhusudan Mancha\, Gariahat Rd S\, Jodhpur Park\,\, Kolkata\, West Bengal\, 700031\, India
CATEGORIES:Theatre
END:VEVENT
BEGIN:VEVENT
DTSTART;TZID=Asia/Kolkata:20241006T183000
DTEND;TZID=Asia/Kolkata:20241006T210000
DTSTAMP:20260425T165454
CREATED:20241003T191658Z
LAST-MODIFIED:20241003T191658Z
UID:12954-1728239400-1728248400@kolkatatheatre.com
SUMMARY:Chetana’s Jagannath\, at Kala Mandir
DESCRIPTION:Final performance of Chetana’s classic production Jagannath\, adapted from Lu Xun’s The True Story of Ah Q and directed by Arun Mukhopadhyay.
URL:https://kolkatatheatre.com/event/chetanas-jagannath-at-kala-mandir/
LOCATION:Kala Mandir\, Shakespeare Sarani\, Kolkata
CATEGORIES:Theatre
END:VEVENT
BEGIN:VEVENT
DTSTART;TZID=Asia/Kolkata:20241006T183000
DTEND;TZID=Asia/Kolkata:20241006T203000
DTSTAMP:20260425T165454
CREATED:20241003T192030Z
LAST-MODIFIED:20241003T192030Z
UID:12956-1728239400-1728246600@kolkatatheatre.com
SUMMARY:Aneek’s Aksharik\, at Tapan
DESCRIPTION:Dramatist-director Debasish’s biodrama about Panchanan Karmakar\, the first creator of Bengali moveable typeface in the 18th century\, based on Rajat Chakraborti’s novel Panchananer Haraph. \nRecommended: ★★★★ Read my review.
URL:https://kolkatatheatre.com/event/aneeks-aksharik-at-tapan-3/
LOCATION:Tapan Theatre\, Kalighat
CATEGORIES:Theatre
END:VEVENT
END:VCALENDAR