BEGIN:VCALENDAR
VERSION:2.0
PRODID:-//KolkataTheatre.com - ECPv6.15.12.2//NONSGML v1.0//EN
CALSCALE:GREGORIAN
METHOD:PUBLISH
X-WR-CALNAME:KolkataTheatre.com
X-ORIGINAL-URL:https://kolkatatheatre.com
X-WR-CALDESC:Events for KolkataTheatre.com
REFRESH-INTERVAL;VALUE=DURATION:PT1H
X-Robots-Tag:noindex
X-PUBLISHED-TTL:PT1H
BEGIN:VTIMEZONE
TZID:Asia/Kolkata
BEGIN:STANDARD
TZOFFSETFROM:+0530
TZOFFSETTO:+0530
TZNAME:IST
DTSTART:20230101T000000
END:STANDARD
END:VTIMEZONE
BEGIN:VEVENT
DTSTART;TZID=Asia/Kolkata:20240930T170000
DTEND;TZID=Asia/Kolkata:20240930T180000
DTSTAMP:20260425T184506
CREATED:20240925T184444Z
LAST-MODIFIED:20240925T184444Z
UID:12928-1727715600-1727719200@kolkatatheatre.com
SUMMARY:Santoshpur Anuchintan's Birsa Ka Jungle\, at Triguna Sen Auditorium
DESCRIPTION:An attempt to make people aware of our ancestors’ fight to protect the historic Jamkopai forest of Chakradharpur in Jharkhand. The play\, developed by dramatist-director Gaurav Das in response to the climate change that threatens our very existence\, awakens us to act and protect Mother Nature for future generations. The performers are children and young adults from marginalized communities of a small village in Ghasiara\, West Bengal.
URL:https://kolkatatheatre.com/event/santoshpur-anuchintans-birsa-ka-jungle-at-triguna-sen-auditorium/
LOCATION:Triguna Sen Auditorium\, Jadavpur University\, Kolkata\, India
CATEGORIES:Theatre
ATTACH;FMTTYPE=image/jpeg:https://kolkatatheatre.com/wp-content/uploads/2024/09/11.jpg
END:VEVENT
BEGIN:VEVENT
DTSTART;TZID=Asia/Kolkata:20240929T190000
DTEND;TZID=Asia/Kolkata:20240929T203000
DTSTAMP:20260425T184506
CREATED:20240926T143851Z
LAST-MODIFIED:20240926T143851Z
UID:12934-1727636400-1727641800@kolkatatheatre.com
SUMMARY:Hypokrites’ 16 Pātā\, at Gyan Manch
DESCRIPTION:Mohit Chattopadhyaya’s play about two “madmen” in an asylum\, directed by Saikat Ghosh.
URL:https://kolkatatheatre.com/event/hypokrites-16-pata-at-gyan-manch-2/
LOCATION:Gyan Manch\, Gyan Manch\, 11\, Pretoria St\, Kolkata\, West Bengal\, 700071\, India
CATEGORIES:Theatre
END:VEVENT
BEGIN:VEVENT
DTSTART;TZID=Asia/Kolkata:20240928T183000
DTEND;TZID=Asia/Kolkata:20240928T203000
DTSTAMP:20260425T184506
CREATED:20240926T143518Z
LAST-MODIFIED:20240926T143518Z
UID:12932-1727548200-1727555400@kolkatatheatre.com
SUMMARY:Sayak’s Dharmabatar\, at Girish
DESCRIPTION:Sayak’s new play written by Ujjwal Chattopadhyay\, inspired by a foreign film about the personal conflict between a retired judge and his son who defends criminals. Directed by Meghnad Bhattacharya.
URL:https://kolkatatheatre.com/event/sayaks-dharmabatar-at-girish/
LOCATION:Girish Mancha\, Bagbazar
CATEGORIES:Theatre
END:VEVENT
BEGIN:VEVENT
DTSTART;TZID=Asia/Kolkata:20240927T183000
DTEND;TZID=Asia/Kolkata:20240927T203000
DTSTAMP:20260425T184506
CREATED:20240923T152225Z
LAST-MODIFIED:20240923T152225Z
UID:12925-1727461800-1727469000@kolkatatheatre.com
SUMMARY:Sayak's Dharmabatar\, at Academy
DESCRIPTION:Premiere of Ujjwal Chattopadhyay’s play inspired by a foreign film about the personal conflict between a retired judge and his son who defends criminals. Directed by Meghnad Bhattacharya.
URL:https://kolkatatheatre.com/event/sayaks-dharmabatar-at-academy/
LOCATION:Academy of Fine Arts\, 2\, Cathedral Rd\, Maidan\, Kolkata\, West Bengal 700020\, Kolkata\, West Bengal\, 700071\, India
CATEGORIES:Theatre
END:VEVENT
BEGIN:VEVENT
DTSTART;TZID=Asia/Kolkata:20240926T183000
DTEND;TZID=Asia/Kolkata:20240926T203000
DTSTAMP:20260425T184506
CREATED:20240923T151123Z
LAST-MODIFIED:20240923T151123Z
UID:12923-1727375400-1727382600@kolkatatheatre.com
SUMMARY:Ichheymoto’s Henry Kothay?\, at University Institute
DESCRIPTION:Director Saurav Palodhi’s adaptation of Clifford Odets’s 1935 socialist classic\, Waiting for Lefty\, about the poverty of taxi drivers in the USA.
URL:https://kolkatatheatre.com/event/ichheymotos-henry-kothay-at-university-institute/
LOCATION:University Institute\, College Street\, Kolkata\, 700073\, India
CATEGORIES:Theatre
END:VEVENT
BEGIN:VEVENT
DTSTART;TZID=Asia/Kolkata:20240926T183000
DTEND;TZID=Asia/Kolkata:20240926T203000
DTSTAMP:20260425T184506
CREATED:20240923T150826Z
LAST-MODIFIED:20240923T150826Z
UID:12921-1727375400-1727382600@kolkatatheatre.com
SUMMARY:Hajabarala’s Ekanayaker Sesh Rat\, at Academy
DESCRIPTION:Written and directed by Chandan Sen\, Ekanāyaker Sesh Rāt depicts an imaginary strife-torn African nation where a military dictator took over but now faces a popular revolution.
URL:https://kolkatatheatre.com/event/hajabaralas-ekanayaker-sesh-rat-at-academy-3/
LOCATION:Academy of Fine Arts\, 2\, Cathedral Rd\, Maidan\, Kolkata\, West Bengal 700020\, Kolkata\, West Bengal\, 700071\, India
CATEGORIES:Theatre
END:VEVENT
BEGIN:VEVENT
DTSTART;TZID=Asia/Kolkata:20240924T183000
DTEND;TZID=Asia/Kolkata:20240924T203000
DTSTAMP:20260425T184506
CREATED:20240920T141652Z
LAST-MODIFIED:20240920T141652Z
UID:12916-1727202600-1727209800@kolkatatheatre.com
SUMMARY:Kalyani Natyacharcha Kendra’s Meyeti\, at Academy
DESCRIPTION:Adapted from Ariel Dorfman’s internationally successful Death and the Maiden and directed by Kishore Sengupta.
URL:https://kolkatatheatre.com/event/kalyani-natyacharcha-kendras-meyeti-at-academy-4/
LOCATION:Academy of Fine Arts\, 2\, Cathedral Rd\, Maidan\, Kolkata\, West Bengal 700020\, Kolkata\, West Bengal\, 700071\, India
CATEGORIES:Theatre
END:VEVENT
BEGIN:VEVENT
DTSTART;TZID=Asia/Kolkata:20240923T183000
DTEND;TZID=Asia/Kolkata:20240923T210000
DTSTAMP:20260425T184506
CREATED:20240920T141452Z
LAST-MODIFIED:20240920T141452Z
UID:12914-1727116200-1727125200@kolkatatheatre.com
SUMMARY:Angik’s Binodini Opera\, at Academy
DESCRIPTION:Biographical drama on Nati Binodini co-written by Abanti Chakraborty and Sibashis Bandyopadhyay\, and directed by Abanti Chakraborty.
URL:https://kolkatatheatre.com/event/angiks-binodini-opera-at-academy-3/
LOCATION:Academy of Fine Arts\, 2\, Cathedral Rd\, Maidan\, Kolkata\, West Bengal 700020\, Kolkata\, West Bengal\, 700071\, India
CATEGORIES:Theatre
END:VEVENT
BEGIN:VEVENT
DTSTART;TZID=Asia/Kolkata:20240922T143000
DTEND;TZID=Asia/Kolkata:20240922T170000
DTSTAMP:20260425T184506
CREATED:20240920T141055Z
LAST-MODIFIED:20240920T141055Z
UID:12912-1727015400-1727024400@kolkatatheatre.com
SUMMARY:Aneek’s Aksharik\, at Academy
DESCRIPTION:Debasish Ray’s biodrama about Panchanan Karmakar\, the first creator of Bengali moveable typeface in the 18th century\, based on Rajat Chakraborti’s novel Panchananer Haraph. \nRecommended: ★★★★ Read my review.
URL:https://kolkatatheatre.com/event/aneeks-aksharik-at-academy-3/
LOCATION:Academy of Fine Arts\, 2\, Cathedral Rd\, Maidan\, Kolkata\, West Bengal 700020\, Kolkata\, West Bengal\, 700071\, India
CATEGORIES:Theatre
END:VEVENT
BEGIN:VEVENT
DTSTART;TZID=Asia/Kolkata:20240920T183000
DTEND;TZID=Asia/Kolkata:20240920T200000
DTSTAMP:20260425T184506
CREATED:20240915T153145Z
LAST-MODIFIED:20240915T153145Z
UID:12909-1726857000-1726862400@kolkatatheatre.com
SUMMARY:Little Thespian’s Chaak\, at Academy
DESCRIPTION:The last play written by Little Thespian’s S. M. Azhar Alam\,  directed by Uma Jhunjhunwala. About the various challenges faced by Indian Muslims during the conflict in East Pakistan in 1971\, through the struggles of one such family.
URL:https://kolkatatheatre.com/event/little-thespians-chaak-at-academy/
LOCATION:Academy of Fine Arts\, 2\, Cathedral Rd\, Maidan\, Kolkata\, West Bengal 700020\, Kolkata\, West Bengal\, 700071\, India
CATEGORIES:Theatre
END:VEVENT
BEGIN:VEVENT
DTSTART;TZID=Asia/Kolkata:20240918T183000
DTEND;TZID=Asia/Kolkata:20240918T203000
DTSTAMP:20260425T184506
CREATED:20240915T152544Z
LAST-MODIFIED:20240915T152544Z
UID:12907-1726684200-1726691400@kolkatatheatre.com
SUMMARY:Nandipat’s Pet-i Case\, at Academy
DESCRIPTION:The Dario Fo–Franca Rame political satire Can’t Pay\, Won’t Pay (1974) adapted into Bengali by Bismoy Roy and directed by Bimal Chakraborty.
URL:https://kolkatatheatre.com/event/nandipats-pet-i-case-at-academy-5/
LOCATION:Academy of Fine Arts\, 2\, Cathedral Rd\, Maidan\, Kolkata\, West Bengal 700020\, Kolkata\, West Bengal\, 700071\, India
CATEGORIES:Theatre
END:VEVENT
BEGIN:VEVENT
DTSTART;TZID=Asia/Kolkata:20240917T183000
DTEND;TZID=Asia/Kolkata:20240917T203000
DTSTAMP:20260425T184506
CREATED:20240915T152151Z
LAST-MODIFIED:20240915T152151Z
UID:12905-1726597800-1726605000@kolkatatheatre.com
SUMMARY:Ekush Shatak’s Krishnaranga\, at Academy
DESCRIPTION:Revival of dramatist-director Loknath Bandyopadhyay’s farce\, adapted from Peter Shaffer’s hit Black Comedy (1965). One of the funniest productions you can presently view; we cannot reveal more! Recommended: ★★★★
URL:https://kolkatatheatre.com/event/ekush-shataks-krishnaranga-at-academy-4/
LOCATION:Academy of Fine Arts\, 2\, Cathedral Rd\, Maidan\, Kolkata\, West Bengal 700020\, Kolkata\, West Bengal\, 700071\, India
CATEGORIES:Theatre
END:VEVENT
BEGIN:VEVENT
DTSTART;TZID=Asia/Kolkata:20240915T183000
DTEND;TZID=Asia/Kolkata:20240915T203000
DTSTAMP:20260425T184506
CREATED:20240913T183012Z
LAST-MODIFIED:20240913T183012Z
UID:12899-1726425000-1726432200@kolkatatheatre.com
SUMMARY:Purba Paschim’s Sri o Nidhu-babu Katha\, at Madhusudan
DESCRIPTION:Ujjwal Chattopadhyay’s play about the triangle between Tappa pioneer Nidhu-babu\, his royal patron-friend Mahananda Ray\, and the latter’s mistress Srimati who became Nidhu-babu’s devoted disciple. Directed by Soumitra Mitra.
URL:https://kolkatatheatre.com/event/purba-paschims-sri-o-nidhu-babu-katha-at-madhusudan/
LOCATION:Madhusudan Mancha\, Gariahat Rd S\, Jodhpur Park\,\, Kolkata\, West Bengal\, 700031\, India
CATEGORIES:Theatre
END:VEVENT
BEGIN:VEVENT
DTSTART;TZID=Asia/Kolkata:20240915T183000
DTEND;TZID=Asia/Kolkata:20240915T203000
DTSTAMP:20260425T184506
CREATED:20240913T182622Z
LAST-MODIFIED:20240913T182622Z
UID:12897-1726425000-1726432200@kolkatatheatre.com
SUMMARY:Nandipat’s Pet-i Case\, at Minerva
DESCRIPTION:Dario Fo’s political satire Can’t Pay\, Won’t Pay (1974) adapted into Bengali by Bismoy Roy and directed by Bimal Chakraborty.
URL:https://kolkatatheatre.com/event/nandipats-pet-i-case-at-minerva-3/
LOCATION:Minerva Theatre\, Utpal Dutt Sarani (Beadon Street)\, Kolkata
CATEGORIES:Theatre
END:VEVENT
BEGIN:VEVENT
DTSTART;TZID=Asia/Kolkata:20240914T183000
DTEND;TZID=Asia/Kolkata:20240914T203000
DTSTAMP:20260425T184506
CREATED:20240910T151006Z
LAST-MODIFIED:20240910T151006Z
UID:12892-1726338600-1726345800@kolkatatheatre.com
SUMMARY:Rangroop's Garal\, at Academy
DESCRIPTION:Rangroop has revived this searing play because of last month’s tragedy in Kolkata. Dramatized by Mainak Sengupta\, directed by Sima Mukhopadhyay. \nRecommended: ★★★★ Read my review here.
URL:https://kolkatatheatre.com/event/rangroops-garal-at-academy-2/
LOCATION:Academy of Fine Arts\, 2\, Cathedral Rd\, Maidan\, Kolkata\, West Bengal 700020\, Kolkata\, West Bengal\, 700071\, India
CATEGORIES:Theatre
END:VEVENT
BEGIN:VEVENT
DTSTART;TZID=Asia/Kolkata:20240909T180000
DTEND;TZID=Asia/Kolkata:20240909T203000
DTSTAMP:20260425T184506
CREATED:20240907T143839Z
LAST-MODIFIED:20240907T143839Z
UID:12890-1725904800-1725913800@kolkatatheatre.com
SUMMARY:Nandimukh’s Lanthan Saheber Banglo\, at Academy
DESCRIPTION:Story by Sunil Gangopadhyay about a fictional 19th-century British officer in Bengal\, dramatized by Sounava Basu and directed by Ashoke Chattopadhyay.
URL:https://kolkatatheatre.com/event/nandimukhs-lanthan-saheber-banglo-at-academy-3/
LOCATION:Academy of Fine Arts\, 2\, Cathedral Rd\, Maidan\, Kolkata\, West Bengal 700020\, Kolkata\, West Bengal\, 700071\, India
CATEGORIES:Theatre
END:VEVENT
BEGIN:VEVENT
DTSTART;TZID=Asia/Kolkata:20240908T190000
DTEND;TZID=Asia/Kolkata:20240908T210000
DTSTAMP:20260425T184506
CREATED:20240905T125400Z
LAST-MODIFIED:20240905T125400Z
UID:12885-1725822000-1725829200@kolkatatheatre.com
SUMMARY:4th Bell’s Hapi-D\, at Gyan Manch
DESCRIPTION:An ebullient Bengali pastiche of Hamlet. 4th Bell had debuted in 2011 with this play\, deliberately and delectably perverting Shakespeare’s tragedy into a festive comedy written and directed by Aniruddha Dasgupta. \nRecommended: ★★★★
URL:https://kolkatatheatre.com/event/4th-bells-hapi-d-at-gyan-manch-2/
LOCATION:Gyan Manch\, Gyan Manch\, 11\, Pretoria St\, Kolkata\, West Bengal\, 700071\, India
CATEGORIES:Theatre
END:VEVENT
BEGIN:VEVENT
DTSTART;TZID=Asia/Kolkata:20240908T183000
DTEND;TZID=Asia/Kolkata:20240908T203000
DTSTAMP:20260425T184506
CREATED:20240905T130047Z
LAST-MODIFIED:20240905T130047Z
UID:12887-1725820200-1725827400@kolkatatheatre.com
SUMMARY:Pancham Vaidic’s Tumi Thik Jadi Bhabo Tumi Thik\, at Madhusudan
DESCRIPTION:Adapted from Pirandello’s Right You Are If You Think So and directed by Arpita Ghosh. \nRecommended: ★★★★ Read my review.
URL:https://kolkatatheatre.com/event/pancham-vaidics-tumi-thik-jadi-bhabo-tumi-thik-at-madhusudan-3/
LOCATION:Madhusudan Mancha\, Gariahat Rd S\, Jodhpur Park\,\, Kolkata\, West Bengal\, 700031\, India
CATEGORIES:Theatre
END:VEVENT
BEGIN:VEVENT
DTSTART;TZID=Asia/Kolkata:20240907T220000
DTEND;TZID=Asia/Kolkata:20240908T060000
DTSTAMP:20260425T184506
CREATED:20240905T125056Z
LAST-MODIFIED:20240905T125056Z
UID:12883-1725746400-1725775200@kolkatatheatre.com
SUMMARY:Sararat Meyeder Thiyetar\, at Academy
DESCRIPTION:Academy of Fine Arts Workers Union hosts all-night theatre supporting #WeWantJustice. Participating directors include Sima Mukhopadhyay\, Poulomi Chatterjee\, Srabanti Bhattacharya\, Turna Das\, Sanjita and Nancy.
URL:https://kolkatatheatre.com/event/sararat-meyeder-thiyetar-at-academy/
LOCATION:Academy of Fine Arts\, 2\, Cathedral Rd\, Maidan\, Kolkata\, West Bengal 700020\, Kolkata\, West Bengal\, 700071\, India
CATEGORIES:Theatre
END:VEVENT
BEGIN:VEVENT
DTSTART;TZID=Asia/Kolkata:20240907T150000
DTEND;TZID=Asia/Kolkata:20240907T170000
DTSTAMP:20260425T184506
CREATED:20240905T124322Z
LAST-MODIFIED:20240905T124322Z
UID:12881-1725721200-1725728400@kolkatatheatre.com
SUMMARY:Ganakrishti’s Athaba Rabithakur\, at Academy
DESCRIPTION:Adapted from Slovenian dramatist Evald Flisar’s What about Leonardo\, set in a neurological institute\, and directed by Amitava Dutta.
URL:https://kolkatatheatre.com/event/ganakrishtis-athaba-rabithakur-at-academy-2/
LOCATION:Academy of Fine Arts\, 2\, Cathedral Rd\, Maidan\, Kolkata\, West Bengal 700020\, Kolkata\, West Bengal\, 700071\, India
CATEGORIES:Theatre
END:VEVENT
BEGIN:VEVENT
DTSTART;TZID=Asia/Kolkata:20240901T183000
DTEND;TZID=Asia/Kolkata:20240901T203000
DTSTAMP:20260425T184506
CREATED:20240829T181936Z
LAST-MODIFIED:20240829T181936Z
UID:12879-1725215400-1725222600@kolkatatheatre.com
SUMMARY:Ichheymoto’s Henry Kothay?\, at Academy
DESCRIPTION:Director Saurav Palodhi’s adaptation of Clifford Odets’s 1935 socialist classic\, Waiting for Lefty\, about the poverty of taxi drivers in the USA.
URL:https://kolkatatheatre.com/event/ichheymotos-henry-kothay-at-academy-4/
LOCATION:Academy of Fine Arts\, 2\, Cathedral Rd\, Maidan\, Kolkata\, West Bengal 700020\, Kolkata\, West Bengal\, 700071\, India
CATEGORIES:Theatre
END:VEVENT
BEGIN:VEVENT
DTSTART;TZID=Asia/Kolkata:20240901T183000
DTEND;TZID=Asia/Kolkata:20240901T203000
DTSTAMP:20260425T184506
CREATED:20240829T181644Z
LAST-MODIFIED:20240829T181644Z
UID:12877-1725215400-1725222600@kolkatatheatre.com
SUMMARY:Nirbak’s Saodagarer Nauka\, at Girish
DESCRIPTION:Revival of Ajitesh Bandopadhyay’s drama about the crisis of identity and relevance of a Jatra artiste. Directed by Ashok Mukhopadhyay.
URL:https://kolkatatheatre.com/event/nirbaks-saodagarer-nauka-at-girish/
LOCATION:Girish Mancha\, Bagbazar
CATEGORIES:Theatre
END:VEVENT
BEGIN:VEVENT
DTSTART;TZID=Asia/Kolkata:20240831T183000
DTEND;TZID=Asia/Kolkata:20240831T203000
DTSTAMP:20260425T184506
CREATED:20240829T181341Z
LAST-MODIFIED:20240829T181341Z
UID:12875-1725129000-1725136200@kolkatatheatre.com
SUMMARY:Prachya’s Quarantine\, at Madhusudan
DESCRIPTION:Adapted into Bengali and on the Indo-Bangladeshi border from Arthur Miller’s classic A View from the Bridge\, about illegal migrants\, by Kaberi Basu and directed by Buddhadeb Das.
URL:https://kolkatatheatre.com/event/prachyas-quarantine-at-madhusudan-2/
LOCATION:Madhusudan Mancha\, Gariahat Rd S\, Jodhpur Park\,\, Kolkata\, West Bengal\, 700031\, India
CATEGORIES:Theatre
END:VEVENT
BEGIN:VEVENT
DTSTART;TZID=Asia/Kolkata:20240830T190000
DTEND;TZID=Asia/Kolkata:20240830T210000
DTSTAMP:20260425T184506
CREATED:20240826T101335Z
LAST-MODIFIED:20240826T101335Z
UID:12869-1725044400-1725051600@kolkatatheatre.com
SUMMARY:Hoshruba Repertory (Mumbai)'s Habib-nama\, at KCC
DESCRIPTION:Premiere of this production based on Habib Tanvir’s autobiographical writings and public interviews. Scripted and directed by Danish Husain.
URL:https://kolkatatheatre.com/event/hoshruba-repertory-mumbais-habib-nama-at-kcc/
LOCATION:Kolkata Centre for Creativity\, Anandapur\, E M Bypass\, Kolkata
CATEGORIES:Theatre
END:VEVENT
BEGIN:VEVENT
DTSTART;TZID=Asia/Kolkata:20240828T183000
DTEND;TZID=Asia/Kolkata:20240828T203000
DTSTAMP:20260425T184506
CREATED:20240825T091826Z
LAST-MODIFIED:20240826T125218Z
UID:12867-1724869800-1724877000@kolkatatheatre.com
SUMMARY:Nat-ranga’s Chhayapather Sheshe\, at Academy
DESCRIPTION:Dramatist-director Sohan Bandopadhyay’s ghostly comedy set in a dilapidated north Kolkata hall about to be demolished to make way for a mall. Resident spooks protest against the reigning politician’s corruption. \nRecommended: ★★★★. Read my review.
URL:https://kolkatatheatre.com/event/nat-rangas-chhayapather-sheshe-at-academy-5/
LOCATION:Academy of Fine Arts\, 2\, Cathedral Rd\, Maidan\, Kolkata\, West Bengal 700020\, Kolkata\, West Bengal\, 700071\, India
CATEGORIES:Theatre
END:VEVENT
BEGIN:VEVENT
DTSTART;TZID=Asia/Kolkata:20240825T190000
DTEND;TZID=Asia/Kolkata:20240825T203000
DTSTAMP:20260425T184506
CREATED:20240822T092603Z
LAST-MODIFIED:20240822T092603Z
UID:12849-1724612400-1724617800@kolkatatheatre.com
SUMMARY:Padatik/rikh's Ho Sakta Hai Do Admi Do Kursiyan\, at Padatik
DESCRIPTION:Two actor-protagonists and two chairs tell a number of apparently unconnected stories linked by love\, loss\, absence and hope.\nWritten and directed by Vinay Sharma. \nEnquiries: 85840 66230
URL:https://kolkatatheatre.com/event/padatik-rikhs-ho-sakta-hai-do-admi-do-kursiyan-at-padatik-2/
LOCATION:Padatik Little Theatre\, 6/7 A J C Bose Road\, Kolkata\, 700017
CATEGORIES:Theatre
ATTACH;FMTTYPE=image/png:https://kolkatatheatre.com/wp-content/uploads/2024/08/ho-sakta-hai-do-aadmi-do-kursiyaan-e1724318702984.png
END:VEVENT
BEGIN:VEVENT
DTSTART;TZID=Asia/Kolkata:20240825T183000
DTEND;TZID=Asia/Kolkata:20240825T203000
DTSTAMP:20260425T184506
CREATED:20240823T183142Z
LAST-MODIFIED:20240823T183142Z
UID:12863-1724610600-1724617800@kolkatatheatre.com
SUMMARY:Anya Theatre’s Pratham Rajnaitik Hatya\, at Academy
DESCRIPTION:Written and directed by Debashis. Based on the freedom fighters arrested in the Alipore Bomb Case of 1908. \nRecommended: ★★★★. Read my review.
URL:https://kolkatatheatre.com/event/anya-theatres-pratham-rajnaitik-hatya-at-academy/
LOCATION:Academy of Fine Arts\, 2\, Cathedral Rd\, Maidan\, Kolkata\, West Bengal 700020\, Kolkata\, West Bengal\, 700071\, India
CATEGORIES:Theatre
END:VEVENT
BEGIN:VEVENT
DTSTART;TZID=Asia/Kolkata:20240825T183000
DTEND;TZID=Asia/Kolkata:20240825T203000
DTSTAMP:20260425T184506
CREATED:20240823T182804Z
LAST-MODIFIED:20240823T182804Z
UID:12861-1724610600-1724617800@kolkatatheatre.com
SUMMARY:Sansriti’s Khokkas\, at Madhusudan
DESCRIPTION:Adapted from Evgeny Schwartz’s satirical Russian play The Dragon (1944) by Arpita Ghosh and directed by Debesh Chattopadhyay. A village terrorized by a dragon finds an unlikely saviour.
URL:https://kolkatatheatre.com/event/sansritis-khokkas-at-madhusudan/
LOCATION:Madhusudan Mancha\, Gariahat Rd S\, Jodhpur Park\,\, Kolkata\, West Bengal\, 700031\, India
CATEGORIES:Theatre
END:VEVENT
BEGIN:VEVENT
DTSTART;TZID=Asia/Kolkata:20240825T183000
DTEND;TZID=Asia/Kolkata:20240825T203000
DTSTAMP:20260425T184506
CREATED:20240823T182241Z
LAST-MODIFIED:20240823T182241Z
UID:12859-1724610600-1724617800@kolkatatheatre.com
SUMMARY:Kolkata Centre for Creativity’s Bechara B.B.\, at KCC
DESCRIPTION:Directed and designed by Suman Mukhopadhyay from fragments of plays by Bertolt Brecht\, reflecting the essence of Brecht’s life\, ideas and philosophy.
URL:https://kolkatatheatre.com/event/kolkata-centre-for-creativitys-bechara-b-b-at-kcc-2/
LOCATION:Kolkata Centre for Creativity\, Anandapur\, E M Bypass\, Kolkata
CATEGORIES:Theatre
END:VEVENT
BEGIN:VEVENT
DTSTART;TZID=Asia/Kolkata:20240825T183000
DTEND;TZID=Asia/Kolkata:20240825T203000
DTSTAMP:20260425T184506
CREATED:20240823T182007Z
LAST-MODIFIED:20240823T183602Z
UID:12857-1724610600-1724617800@kolkatatheatre.com
SUMMARY:Rangalok’s Shekal Chhenra Hater Khonje\, at Girish
DESCRIPTION:Dramatized from Samaresh Basu’s 1984 novel by Tirthankar Chanda and directed by Shyamal Chakrabarti. A wake-up call to any political ideology that strays from its humanistic roots. \nRecommended: ★★★★ Read my review.
URL:https://kolkatatheatre.com/event/rangaloks-shekal-chhenra-hater-khonje-at-girish/
LOCATION:Girish Mancha\, Bagbazar
CATEGORIES:Theatre
END:VEVENT
END:VCALENDAR