BEGIN:VCALENDAR
VERSION:2.0
PRODID:-//KolkataTheatre.com - ECPv6.15.12.2//NONSGML v1.0//EN
CALSCALE:GREGORIAN
METHOD:PUBLISH
X-WR-CALNAME:KolkataTheatre.com
X-ORIGINAL-URL:https://kolkatatheatre.com
X-WR-CALDESC:Events for KolkataTheatre.com
REFRESH-INTERVAL;VALUE=DURATION:PT1H
X-Robots-Tag:noindex
X-PUBLISHED-TTL:PT1H
BEGIN:VTIMEZONE
TZID:Asia/Kolkata
BEGIN:STANDARD
TZOFFSETFROM:+0530
TZOFFSETTO:+0530
TZNAME:IST
DTSTART:20230101T000000
END:STANDARD
END:VTIMEZONE
BEGIN:VEVENT
DTSTART;TZID=Asia/Kolkata:20241020T183000
DTEND;TZID=Asia/Kolkata:20241020T203000
DTSTAMP:20260425T195939
CREATED:20241018T070320Z
LAST-MODIFIED:20241018T070320Z
UID:12979-1729449000-1729456200@kolkatatheatre.com
SUMMARY:Nat-ranga’s Chhayapather Sheshe\, at Academy
DESCRIPTION:Dramatist-director Sohan Bandopadhyay’s ghostly comedy set in a dilapidated north Kolkata hall about to be demolished to make way for a mall. Resident spooks protest against the reigning politician’s corruption. \nRecommended: ★★★★. Read my review.
URL:https://kolkatatheatre.com/event/nat-rangas-chhayapather-sheshe-at-academy-6/
LOCATION:Academy of Fine Arts\, 2\, Cathedral Rd\, Maidan\, Kolkata\, West Bengal 700020\, Kolkata\, West Bengal\, 700071\, India
CATEGORIES:Theatre
END:VEVENT
BEGIN:VEVENT
DTSTART;TZID=Asia/Kolkata:20241020T150000
DTEND;TZID=Asia/Kolkata:20241020T170000
DTSTAMP:20260425T195939
CREATED:20241018T065956Z
LAST-MODIFIED:20241018T065956Z
UID:12977-1729436400-1729443600@kolkatatheatre.com
SUMMARY:Nat-ranga’s Mithye Car-er Satyi\, at Academy
DESCRIPTION:Written and directed by Sohan Bandopadhyay\, comedy and romance come together in an old-age home.
URL:https://kolkatatheatre.com/event/nat-rangas-mithye-car-er-satyi-at-academy/
LOCATION:Academy of Fine Arts\, 2\, Cathedral Rd\, Maidan\, Kolkata\, West Bengal 700020\, Kolkata\, West Bengal\, 700071\, India
CATEGORIES:Theatre
END:VEVENT
BEGIN:VEVENT
DTSTART;TZID=Asia/Kolkata:20241019T183000
DTEND;TZID=Asia/Kolkata:20241019T203000
DTSTAMP:20260425T195939
CREATED:20241018T065759Z
LAST-MODIFIED:20241018T065759Z
UID:12975-1729362600-1729369800@kolkatatheatre.com
SUMMARY:Sansriti’s Khokkas\, at Madhusudan
DESCRIPTION:Adapted from Evgeny Schwartz’s satirical Russian play The Dragon (1944) by Arpita Ghosh and directed by Debesh Chattopadhyay. A village terrorized by a dragon finds an unlikely saviour.
URL:https://kolkatatheatre.com/event/sansritis-khokkas-at-madhusudan-2/
LOCATION:Madhusudan Mancha\, Gariahat Rd S\, Jodhpur Park\,\, Kolkata\, West Bengal\, 700031\, India
CATEGORIES:Theatre
END:VEVENT
BEGIN:VEVENT
DTSTART;TZID=Asia/Kolkata:20241017T183000
DTEND;TZID=Asia/Kolkata:20241017T203000
DTSTAMP:20260425T195939
CREATED:20241013T144233Z
LAST-MODIFIED:20241013T144233Z
UID:12971-1729189800-1729197000@kolkatatheatre.com
SUMMARY:Kalyani Natyacharcha Kendra’s Tomar Kono Satya Nei\, at Academy
DESCRIPTION:Translated from Agatha Christie’s Witness for the Prosecution and directed by Kishore Sengupta.
URL:https://kolkatatheatre.com/event/kalyani-natyacharcha-kendras-tomar-kono-satya-nei-at-academy-2/
LOCATION:Academy of Fine Arts\, 2\, Cathedral Rd\, Maidan\, Kolkata\, West Bengal 700020\, Kolkata\, West Bengal\, 700071\, India
CATEGORIES:Theatre
END:VEVENT
BEGIN:VEVENT
DTSTART;TZID=Asia/Kolkata:20241011T183000
DTEND;TZID=Asia/Kolkata:20241011T203000
DTSTAMP:20260425T195939
CREATED:20241006T103650Z
LAST-MODIFIED:20241006T103650Z
UID:12964-1728671400-1728678600@kolkatatheatre.com
SUMMARY:Ichheymoto’s Ghum Nei\, at Academy
DESCRIPTION:Based on Utpal Dutt’s early play about lorry drivers\, directed by Saurav Palodhi. \nHighly recommended ★★★★★. Winner of META awards. Read my review.
URL:https://kolkatatheatre.com/event/ichheymotos-ghum-nei-at-academy/
LOCATION:Academy of Fine Arts\, 2\, Cathedral Rd\, Maidan\, Kolkata\, West Bengal 700020\, Kolkata\, West Bengal\, 700071\, India
CATEGORIES:Theatre
END:VEVENT
BEGIN:VEVENT
DTSTART;TZID=Asia/Kolkata:20241011T150000
DTEND;TZID=Asia/Kolkata:20241011T170000
DTSTAMP:20260425T195939
CREATED:20241006T103400Z
LAST-MODIFIED:20241006T103400Z
UID:12962-1728658800-1728666000@kolkatatheatre.com
SUMMARY:Ichheymoto’s Mantu o Marx\, at Academy
DESCRIPTION:An unusual play where Marx appears today and tries to explain his theories to a Bengali labourer. Written by Dhrubajyoti Chakrabarti and directed by Kushal Chattopadhyay.
URL:https://kolkatatheatre.com/event/ichheymotos-mantu-o-marx-at-academy/
LOCATION:Academy of Fine Arts\, 2\, Cathedral Rd\, Maidan\, Kolkata\, West Bengal 700020\, Kolkata\, West Bengal\, 700071\, India
CATEGORIES:Theatre
END:VEVENT
BEGIN:VEVENT
DTSTART;TZID=Asia/Kolkata:20241010T190000
DTEND;TZID=Asia/Kolkata:20241010T210000
DTSTAMP:20260425T195939
CREATED:20241006T102912Z
LAST-MODIFIED:20241006T102912Z
UID:12960-1728586800-1728594000@kolkatatheatre.com
SUMMARY:4th Bell’s Hapi-D\, at Academy
DESCRIPTION:An ebullient Bengali pastiche of Hamlet. 4th Bell had debuted in 2011 with this play\, deliberately and delectably perverting Shakespeare’s tragedy into a festive comedy written and directed by Aniruddha Dasgupta. \nRecommended: ★★★★
URL:https://kolkatatheatre.com/event/4th-bells-hapi-d-at-academy-2/
LOCATION:Academy of Fine Arts\, 2\, Cathedral Rd\, Maidan\, Kolkata\, West Bengal 700020\, Kolkata\, West Bengal\, 700071\, India
CATEGORIES:Theatre
END:VEVENT
BEGIN:VEVENT
DTSTART;TZID=Asia/Kolkata:20241007T183000
DTEND;TZID=Asia/Kolkata:20241007T203000
DTSTAMP:20260425T195939
CREATED:20241006T102514Z
LAST-MODIFIED:20241006T102514Z
UID:12958-1728325800-1728333000@kolkatatheatre.com
SUMMARY:Dwitiya Satta’s Na Tor Janya\, at Madhusudan
DESCRIPTION:Written and directed by Suman Sengupta\, a portrayal of the dilemma of an accomplished commercial artist who sells out to the ruthless and competitive contemporary ratrace.
URL:https://kolkatatheatre.com/event/dwitiya-sattas-na-tor-janya-at-madhusudan-2/
LOCATION:Madhusudan Mancha\, Gariahat Rd S\, Jodhpur Park\,\, Kolkata\, West Bengal\, 700031\, India
CATEGORIES:Theatre
END:VEVENT
BEGIN:VEVENT
DTSTART;TZID=Asia/Kolkata:20241006T183000
DTEND;TZID=Asia/Kolkata:20241006T210000
DTSTAMP:20260425T195939
CREATED:20241003T191658Z
LAST-MODIFIED:20241003T191658Z
UID:12954-1728239400-1728248400@kolkatatheatre.com
SUMMARY:Chetana’s Jagannath\, at Kala Mandir
DESCRIPTION:Final performance of Chetana’s classic production Jagannath\, adapted from Lu Xun’s The True Story of Ah Q and directed by Arun Mukhopadhyay.
URL:https://kolkatatheatre.com/event/chetanas-jagannath-at-kala-mandir/
LOCATION:Kala Mandir\, Shakespeare Sarani\, Kolkata
CATEGORIES:Theatre
END:VEVENT
BEGIN:VEVENT
DTSTART;TZID=Asia/Kolkata:20241006T183000
DTEND;TZID=Asia/Kolkata:20241006T203000
DTSTAMP:20260425T195939
CREATED:20241003T192030Z
LAST-MODIFIED:20241003T192030Z
UID:12956-1728239400-1728246600@kolkatatheatre.com
SUMMARY:Aneek’s Aksharik\, at Tapan
DESCRIPTION:Dramatist-director Debasish’s biodrama about Panchanan Karmakar\, the first creator of Bengali moveable typeface in the 18th century\, based on Rajat Chakraborti’s novel Panchananer Haraph. \nRecommended: ★★★★ Read my review.
URL:https://kolkatatheatre.com/event/aneeks-aksharik-at-tapan-3/
LOCATION:Tapan Theatre\, Kalighat
CATEGORIES:Theatre
END:VEVENT
BEGIN:VEVENT
DTSTART;TZID=Asia/Kolkata:20241005T183000
DTEND;TZID=Asia/Kolkata:20241005T203000
DTSTAMP:20260425T195939
CREATED:20241003T191231Z
LAST-MODIFIED:20241003T191231Z
UID:12952-1728153000-1728160200@kolkatatheatre.com
SUMMARY:Theatre Platform’s Gharer Madhye Bari\, at Tapan
DESCRIPTION:Dramatist-director Debasish’s new play about an old building facing demolition\, whose residents face eviction\, and whose inhabitants include non-humans too. Recommended: ★★★★
URL:https://kolkatatheatre.com/event/theatre-platforms-gharer-madhye-bari-at-tapan-3/
LOCATION:Tapan Theatre\, Kalighat
CATEGORIES:Theatre
END:VEVENT
BEGIN:VEVENT
DTSTART;TZID=Asia/Kolkata:20241005T150000
DTEND;TZID=Asia/Kolkata:20241005T170000
DTSTAMP:20260425T195939
CREATED:20241003T190952Z
LAST-MODIFIED:20241003T190952Z
UID:12950-1728140400-1728147600@kolkatatheatre.com
SUMMARY:Sudrak’s Shikh-kha Jatir Merudanda\, at Academy
DESCRIPTION:Sudrak’s new\, so-called “uneducated” satire on education directed by Debasis Majumdar.
URL:https://kolkatatheatre.com/event/sudraks-shikh-kha-jatir-merudanda-at-academy-4/
LOCATION:Academy of Fine Arts\, 2\, Cathedral Rd\, Maidan\, Kolkata\, West Bengal 700020\, Kolkata\, West Bengal\, 700071\, India
CATEGORIES:Theatre
END:VEVENT
BEGIN:VEVENT
DTSTART;TZID=Asia/Kolkata:20241004T183000
DTEND;TZID=Asia/Kolkata:20241004T203000
DTSTAMP:20260425T195939
CREATED:20240930T192103Z
LAST-MODIFIED:20240930T192103Z
UID:12944-1728066600-1728073800@kolkatatheatre.com
SUMMARY:Chetla Krishti Sangsad’s Amar Gan\, at Sisir Mancha
DESCRIPTION:A blind and wheelchair-bound youth\, highly intelligent\, wants to know about light from his physicist father. Written and directed by Suman Sengupta. Recommended: ★★★★
URL:https://kolkatatheatre.com/event/chetla-krishti-sangsads-amar-gan-at-sisir-mancha/
LOCATION:Sisir Mancha\, 1/1 A J C Bose Road\, Kolkata
CATEGORIES:Theatre
END:VEVENT
BEGIN:VEVENT
DTSTART;TZID=Asia/Kolkata:20241003T183000
DTEND;TZID=Asia/Kolkata:20241003T203000
DTSTAMP:20260425T195939
CREATED:20240928T152937Z
LAST-MODIFIED:20240928T152937Z
UID:12940-1727980200-1727987400@kolkatatheatre.com
SUMMARY:Jadavpur Ramyani’s Haraner Natjamai\, at Madhusudan
DESCRIPTION:Dramatized from Manik Bandyopadhyay and directed by Arun Mukherjee. The story revisits the historic Tebhaga Movement of 1946-47 in Bengal\, where Haran\, an old sharecropper\, has gone half-mad after police killed his son.
URL:https://kolkatatheatre.com/event/jadavpur-ramyanis-haraner-natjamai-at-madhusudan-2/
LOCATION:Madhusudan Mancha\, Gariahat Rd S\, Jodhpur Park\,\, Kolkata\, West Bengal\, 700031\, India
CATEGORIES:Theatre
END:VEVENT
BEGIN:VEVENT
DTSTART;TZID=Asia/Kolkata:20241002T183000
DTEND;TZID=Asia/Kolkata:20241002T203000
DTSTAMP:20260425T195939
CREATED:20240928T152704Z
LAST-MODIFIED:20240928T152704Z
UID:12938-1727893800-1727901000@kolkatatheatre.com
SUMMARY:Rangroop’s Spare Parts\, at Academy
DESCRIPTION:Written by Swapnamoy Chakraborty and directed by Sima Mukhopadhyay. An ordinary man’s rise to money\, fame and power lead him astray from his earlier humanity.
URL:https://kolkatatheatre.com/event/rangroops-spare-parts-at-academy-4/
LOCATION:Academy of Fine Arts\, 2\, Cathedral Rd\, Maidan\, Kolkata\, West Bengal 700020\, Kolkata\, West Bengal\, 700071\, India
CATEGORIES:Theatre
END:VEVENT
BEGIN:VEVENT
DTSTART;TZID=Asia/Kolkata:20241002T100000
DTEND;TZID=Asia/Kolkata:20241002T123000
DTSTAMP:20260425T195939
CREATED:20240928T152458Z
LAST-MODIFIED:20240928T152458Z
UID:12936-1727863200-1727872200@kolkatatheatre.com
SUMMARY:Chetana’s Mahatma Banam Gandhi\, at Academy
DESCRIPTION:Translated by Arun Mukherjee from Ajit Dalvi’s play on Gandhiji’s relationship with his son\, and directed by Sujan Mukherjee. \nRecommended: ★★★★ Read my review.
URL:https://kolkatatheatre.com/event/chetanas-mahatma-banam-gandhi-at-academy-6/
LOCATION:Academy of Fine Arts\, 2\, Cathedral Rd\, Maidan\, Kolkata\, West Bengal 700020\, Kolkata\, West Bengal\, 700071\, India
CATEGORIES:Theatre
END:VEVENT
BEGIN:VEVENT
DTSTART;TZID=Asia/Kolkata:20240930T170000
DTEND;TZID=Asia/Kolkata:20240930T180000
DTSTAMP:20260425T195939
CREATED:20240925T184444Z
LAST-MODIFIED:20240925T184444Z
UID:12928-1727715600-1727719200@kolkatatheatre.com
SUMMARY:Santoshpur Anuchintan's Birsa Ka Jungle\, at Triguna Sen Auditorium
DESCRIPTION:An attempt to make people aware of our ancestors’ fight to protect the historic Jamkopai forest of Chakradharpur in Jharkhand. The play\, developed by dramatist-director Gaurav Das in response to the climate change that threatens our very existence\, awakens us to act and protect Mother Nature for future generations. The performers are children and young adults from marginalized communities of a small village in Ghasiara\, West Bengal.
URL:https://kolkatatheatre.com/event/santoshpur-anuchintans-birsa-ka-jungle-at-triguna-sen-auditorium/
LOCATION:Triguna Sen Auditorium\, Jadavpur University\, Kolkata\, India
CATEGORIES:Theatre
ATTACH;FMTTYPE=image/jpeg:https://kolkatatheatre.com/wp-content/uploads/2024/09/11.jpg
END:VEVENT
BEGIN:VEVENT
DTSTART;TZID=Asia/Kolkata:20240929T190000
DTEND;TZID=Asia/Kolkata:20240929T203000
DTSTAMP:20260425T195939
CREATED:20240926T143851Z
LAST-MODIFIED:20240926T143851Z
UID:12934-1727636400-1727641800@kolkatatheatre.com
SUMMARY:Hypokrites’ 16 Pātā\, at Gyan Manch
DESCRIPTION:Mohit Chattopadhyaya’s play about two “madmen” in an asylum\, directed by Saikat Ghosh.
URL:https://kolkatatheatre.com/event/hypokrites-16-pata-at-gyan-manch-2/
LOCATION:Gyan Manch\, Gyan Manch\, 11\, Pretoria St\, Kolkata\, West Bengal\, 700071\, India
CATEGORIES:Theatre
END:VEVENT
BEGIN:VEVENT
DTSTART;TZID=Asia/Kolkata:20240928T183000
DTEND;TZID=Asia/Kolkata:20240928T203000
DTSTAMP:20260425T195939
CREATED:20240926T143518Z
LAST-MODIFIED:20240926T143518Z
UID:12932-1727548200-1727555400@kolkatatheatre.com
SUMMARY:Sayak’s Dharmabatar\, at Girish
DESCRIPTION:Sayak’s new play written by Ujjwal Chattopadhyay\, inspired by a foreign film about the personal conflict between a retired judge and his son who defends criminals. Directed by Meghnad Bhattacharya.
URL:https://kolkatatheatre.com/event/sayaks-dharmabatar-at-girish/
LOCATION:Girish Mancha\, Bagbazar
CATEGORIES:Theatre
END:VEVENT
BEGIN:VEVENT
DTSTART;TZID=Asia/Kolkata:20240927T183000
DTEND;TZID=Asia/Kolkata:20240927T203000
DTSTAMP:20260425T195939
CREATED:20240923T152225Z
LAST-MODIFIED:20240923T152225Z
UID:12925-1727461800-1727469000@kolkatatheatre.com
SUMMARY:Sayak's Dharmabatar\, at Academy
DESCRIPTION:Premiere of Ujjwal Chattopadhyay’s play inspired by a foreign film about the personal conflict between a retired judge and his son who defends criminals. Directed by Meghnad Bhattacharya.
URL:https://kolkatatheatre.com/event/sayaks-dharmabatar-at-academy/
LOCATION:Academy of Fine Arts\, 2\, Cathedral Rd\, Maidan\, Kolkata\, West Bengal 700020\, Kolkata\, West Bengal\, 700071\, India
CATEGORIES:Theatre
END:VEVENT
BEGIN:VEVENT
DTSTART;TZID=Asia/Kolkata:20240926T183000
DTEND;TZID=Asia/Kolkata:20240926T203000
DTSTAMP:20260425T195939
CREATED:20240923T151123Z
LAST-MODIFIED:20240923T151123Z
UID:12923-1727375400-1727382600@kolkatatheatre.com
SUMMARY:Ichheymoto’s Henry Kothay?\, at University Institute
DESCRIPTION:Director Saurav Palodhi’s adaptation of Clifford Odets’s 1935 socialist classic\, Waiting for Lefty\, about the poverty of taxi drivers in the USA.
URL:https://kolkatatheatre.com/event/ichheymotos-henry-kothay-at-university-institute/
LOCATION:University Institute\, College Street\, Kolkata\, 700073\, India
CATEGORIES:Theatre
END:VEVENT
BEGIN:VEVENT
DTSTART;TZID=Asia/Kolkata:20240926T183000
DTEND;TZID=Asia/Kolkata:20240926T203000
DTSTAMP:20260425T195939
CREATED:20240923T150826Z
LAST-MODIFIED:20240923T150826Z
UID:12921-1727375400-1727382600@kolkatatheatre.com
SUMMARY:Hajabarala’s Ekanayaker Sesh Rat\, at Academy
DESCRIPTION:Written and directed by Chandan Sen\, Ekanāyaker Sesh Rāt depicts an imaginary strife-torn African nation where a military dictator took over but now faces a popular revolution.
URL:https://kolkatatheatre.com/event/hajabaralas-ekanayaker-sesh-rat-at-academy-3/
LOCATION:Academy of Fine Arts\, 2\, Cathedral Rd\, Maidan\, Kolkata\, West Bengal 700020\, Kolkata\, West Bengal\, 700071\, India
CATEGORIES:Theatre
END:VEVENT
BEGIN:VEVENT
DTSTART;TZID=Asia/Kolkata:20240924T183000
DTEND;TZID=Asia/Kolkata:20240924T203000
DTSTAMP:20260425T195939
CREATED:20240920T141652Z
LAST-MODIFIED:20240920T141652Z
UID:12916-1727202600-1727209800@kolkatatheatre.com
SUMMARY:Kalyani Natyacharcha Kendra’s Meyeti\, at Academy
DESCRIPTION:Adapted from Ariel Dorfman’s internationally successful Death and the Maiden and directed by Kishore Sengupta.
URL:https://kolkatatheatre.com/event/kalyani-natyacharcha-kendras-meyeti-at-academy-4/
LOCATION:Academy of Fine Arts\, 2\, Cathedral Rd\, Maidan\, Kolkata\, West Bengal 700020\, Kolkata\, West Bengal\, 700071\, India
CATEGORIES:Theatre
END:VEVENT
BEGIN:VEVENT
DTSTART;TZID=Asia/Kolkata:20240923T183000
DTEND;TZID=Asia/Kolkata:20240923T210000
DTSTAMP:20260425T195939
CREATED:20240920T141452Z
LAST-MODIFIED:20240920T141452Z
UID:12914-1727116200-1727125200@kolkatatheatre.com
SUMMARY:Angik’s Binodini Opera\, at Academy
DESCRIPTION:Biographical drama on Nati Binodini co-written by Abanti Chakraborty and Sibashis Bandyopadhyay\, and directed by Abanti Chakraborty.
URL:https://kolkatatheatre.com/event/angiks-binodini-opera-at-academy-3/
LOCATION:Academy of Fine Arts\, 2\, Cathedral Rd\, Maidan\, Kolkata\, West Bengal 700020\, Kolkata\, West Bengal\, 700071\, India
CATEGORIES:Theatre
END:VEVENT
BEGIN:VEVENT
DTSTART;TZID=Asia/Kolkata:20240922T143000
DTEND;TZID=Asia/Kolkata:20240922T170000
DTSTAMP:20260425T195939
CREATED:20240920T141055Z
LAST-MODIFIED:20240920T141055Z
UID:12912-1727015400-1727024400@kolkatatheatre.com
SUMMARY:Aneek’s Aksharik\, at Academy
DESCRIPTION:Debasish Ray’s biodrama about Panchanan Karmakar\, the first creator of Bengali moveable typeface in the 18th century\, based on Rajat Chakraborti’s novel Panchananer Haraph. \nRecommended: ★★★★ Read my review.
URL:https://kolkatatheatre.com/event/aneeks-aksharik-at-academy-3/
LOCATION:Academy of Fine Arts\, 2\, Cathedral Rd\, Maidan\, Kolkata\, West Bengal 700020\, Kolkata\, West Bengal\, 700071\, India
CATEGORIES:Theatre
END:VEVENT
BEGIN:VEVENT
DTSTART;TZID=Asia/Kolkata:20240920T183000
DTEND;TZID=Asia/Kolkata:20240920T200000
DTSTAMP:20260425T195939
CREATED:20240915T153145Z
LAST-MODIFIED:20240915T153145Z
UID:12909-1726857000-1726862400@kolkatatheatre.com
SUMMARY:Little Thespian’s Chaak\, at Academy
DESCRIPTION:The last play written by Little Thespian’s S. M. Azhar Alam\,  directed by Uma Jhunjhunwala. About the various challenges faced by Indian Muslims during the conflict in East Pakistan in 1971\, through the struggles of one such family.
URL:https://kolkatatheatre.com/event/little-thespians-chaak-at-academy/
LOCATION:Academy of Fine Arts\, 2\, Cathedral Rd\, Maidan\, Kolkata\, West Bengal 700020\, Kolkata\, West Bengal\, 700071\, India
CATEGORIES:Theatre
END:VEVENT
BEGIN:VEVENT
DTSTART;TZID=Asia/Kolkata:20240918T183000
DTEND;TZID=Asia/Kolkata:20240918T203000
DTSTAMP:20260425T195939
CREATED:20240915T152544Z
LAST-MODIFIED:20240915T152544Z
UID:12907-1726684200-1726691400@kolkatatheatre.com
SUMMARY:Nandipat’s Pet-i Case\, at Academy
DESCRIPTION:The Dario Fo–Franca Rame political satire Can’t Pay\, Won’t Pay (1974) adapted into Bengali by Bismoy Roy and directed by Bimal Chakraborty.
URL:https://kolkatatheatre.com/event/nandipats-pet-i-case-at-academy-5/
LOCATION:Academy of Fine Arts\, 2\, Cathedral Rd\, Maidan\, Kolkata\, West Bengal 700020\, Kolkata\, West Bengal\, 700071\, India
CATEGORIES:Theatre
END:VEVENT
BEGIN:VEVENT
DTSTART;TZID=Asia/Kolkata:20240917T183000
DTEND;TZID=Asia/Kolkata:20240917T203000
DTSTAMP:20260425T195939
CREATED:20240915T152151Z
LAST-MODIFIED:20240915T152151Z
UID:12905-1726597800-1726605000@kolkatatheatre.com
SUMMARY:Ekush Shatak’s Krishnaranga\, at Academy
DESCRIPTION:Revival of dramatist-director Loknath Bandyopadhyay’s farce\, adapted from Peter Shaffer’s hit Black Comedy (1965). One of the funniest productions you can presently view; we cannot reveal more! Recommended: ★★★★
URL:https://kolkatatheatre.com/event/ekush-shataks-krishnaranga-at-academy-4/
LOCATION:Academy of Fine Arts\, 2\, Cathedral Rd\, Maidan\, Kolkata\, West Bengal 700020\, Kolkata\, West Bengal\, 700071\, India
CATEGORIES:Theatre
END:VEVENT
BEGIN:VEVENT
DTSTART;TZID=Asia/Kolkata:20240915T183000
DTEND;TZID=Asia/Kolkata:20240915T203000
DTSTAMP:20260425T195939
CREATED:20240913T183012Z
LAST-MODIFIED:20240913T183012Z
UID:12899-1726425000-1726432200@kolkatatheatre.com
SUMMARY:Purba Paschim’s Sri o Nidhu-babu Katha\, at Madhusudan
DESCRIPTION:Ujjwal Chattopadhyay’s play about the triangle between Tappa pioneer Nidhu-babu\, his royal patron-friend Mahananda Ray\, and the latter’s mistress Srimati who became Nidhu-babu’s devoted disciple. Directed by Soumitra Mitra.
URL:https://kolkatatheatre.com/event/purba-paschims-sri-o-nidhu-babu-katha-at-madhusudan/
LOCATION:Madhusudan Mancha\, Gariahat Rd S\, Jodhpur Park\,\, Kolkata\, West Bengal\, 700031\, India
CATEGORIES:Theatre
END:VEVENT
BEGIN:VEVENT
DTSTART;TZID=Asia/Kolkata:20240915T183000
DTEND;TZID=Asia/Kolkata:20240915T203000
DTSTAMP:20260425T195939
CREATED:20240913T182622Z
LAST-MODIFIED:20240913T182622Z
UID:12897-1726425000-1726432200@kolkatatheatre.com
SUMMARY:Nandipat’s Pet-i Case\, at Minerva
DESCRIPTION:Dario Fo’s political satire Can’t Pay\, Won’t Pay (1974) adapted into Bengali by Bismoy Roy and directed by Bimal Chakraborty.
URL:https://kolkatatheatre.com/event/nandipats-pet-i-case-at-minerva-3/
LOCATION:Minerva Theatre\, Utpal Dutt Sarani (Beadon Street)\, Kolkata
CATEGORIES:Theatre
END:VEVENT
END:VCALENDAR