BEGIN:VCALENDAR
VERSION:2.0
PRODID:-//KolkataTheatre.com - ECPv6.15.12.2//NONSGML v1.0//EN
CALSCALE:GREGORIAN
METHOD:PUBLISH
X-WR-CALNAME:KolkataTheatre.com
X-ORIGINAL-URL:https://kolkatatheatre.com
X-WR-CALDESC:Events for KolkataTheatre.com
REFRESH-INTERVAL;VALUE=DURATION:PT1H
X-Robots-Tag:noindex
X-PUBLISHED-TTL:PT1H
BEGIN:VTIMEZONE
TZID:Asia/Kolkata
BEGIN:STANDARD
TZOFFSETFROM:+0530
TZOFFSETTO:+0530
TZNAME:IST
DTSTART:20240101T000000
END:STANDARD
END:VTIMEZONE
BEGIN:VEVENT
DTSTART;TZID=Asia/Kolkata:20250823T143000
DTEND;TZID=Asia/Kolkata:20250823T170000
DTSTAMP:20260422T040036
CREATED:20250821T142230Z
LAST-MODIFIED:20250821T142230Z
UID:13788-1755959400-1755968400@kolkatatheatre.com
SUMMARY:Naye Natua’s Meghnadbadh Kabya\, at Academy
DESCRIPTION:Dramatized from Michael Madhusudan Dutt’s epic and directed by Goutam Halder\, his long-running solo hit.
URL:https://kolkatatheatre.com/event/naye-natuas-meghnadbadh-kabya-at-academy-4/
LOCATION:Academy of Fine Arts\, 2\, Cathedral Rd\, Maidan\, Kolkata\, West Bengal 700020\, Kolkata\, West Bengal\, 700071\, India
CATEGORIES:Theatre
END:VEVENT
BEGIN:VEVENT
DTSTART;TZID=Asia/Kolkata:20250822T183000
DTEND;TZID=Asia/Kolkata:20250822T203000
DTSTAMP:20260422T040036
CREATED:20250819T071741Z
LAST-MODIFIED:20250820T092746Z
UID:13780-1755887400-1755894600@kolkatatheatre.com
SUMMARY:Pancham Vaidic's Rajnaitik Hatya?\, at Academy
DESCRIPTION:Premiere of this revived production based on Jean-Paul Sartre’s Crime Passionnel about a Communist plot of political assassination\, adapted into Bengali and directed by Arpita Ghosh.
URL:https://kolkatatheatre.com/event/pancham-vaidics-rajnaitik-hatya-at-academy/
LOCATION:Academy of Fine Arts\, 2\, Cathedral Rd\, Maidan\, Kolkata\, West Bengal 700020\, Kolkata\, West Bengal\, 700071\, India
CATEGORIES:Theatre
END:VEVENT
BEGIN:VEVENT
DTSTART;TZID=Asia/Kolkata:20250820T183000
DTEND;TZID=Asia/Kolkata:20250820T203000
DTSTAMP:20260422T040036
CREATED:20250815T073016Z
LAST-MODIFIED:20250815T073016Z
UID:13778-1755714600-1755721800@kolkatatheatre.com
SUMMARY:Prachya’s Khelaghar\, at Academy
DESCRIPTION:Ibsen’s trailblazing Doll’s House adapted by Ratan Kumar Das and directed by Biplab Bandyopadhyay. \nRecommended: ★★★★ Read my review.
URL:https://kolkatatheatre.com/event/prachyas-khelaghar-at-academy-3/
LOCATION:Academy of Fine Arts\, 2\, Cathedral Rd\, Maidan\, Kolkata\, West Bengal 700020\, Kolkata\, West Bengal\, 700071\, India
CATEGORIES:Theatre
END:VEVENT
BEGIN:VEVENT
DTSTART;TZID=Asia/Kolkata:20250818T183000
DTEND;TZID=Asia/Kolkata:20250818T203000
DTSTAMP:20260422T040036
CREATED:20250815T072653Z
LAST-MODIFIED:20250815T072653Z
UID:13776-1755541800-1755549000@kolkatatheatre.com
SUMMARY:Aneek’s Aksharik\, at Academy
DESCRIPTION:Dramatist-director Debasish’s biodrama about Panchanan Karmakar\, the first creator of Bengali moveable typeface in the 18th century\, based on Rajat Chakraborti’s novel Panchananer Haraph. \nRecommended: ★★★★. Read my review.
URL:https://kolkatatheatre.com/event/aneeks-aksharik-at-academy-7/
LOCATION:Academy of Fine Arts\, 2\, Cathedral Rd\, Maidan\, Kolkata\, West Bengal 700020\, Kolkata\, West Bengal\, 700071\, India
CATEGORIES:Theatre
END:VEVENT
BEGIN:VEVENT
DTSTART;TZID=Asia/Kolkata:20250814T183000
DTEND;TZID=Asia/Kolkata:20250814T203000
DTSTAMP:20260422T040036
CREATED:20250810T134415Z
LAST-MODIFIED:20250810T134415Z
UID:13769-1755196200-1755203400@kolkatatheatre.com
SUMMARY:Rangroop’s Jadi Ar Ekbar\, at Academy
DESCRIPTION:Rangroop marks the birth centenary of Badal Sircar with a revival of his perennial early comedy about wish fulfilment. Directed by Sima Mukhopadhyay.
URL:https://kolkatatheatre.com/event/rangroops-jadi-ar-ekbar-at-academy-2/
LOCATION:Academy of Fine Arts\, 2\, Cathedral Rd\, Maidan\, Kolkata\, West Bengal 700020\, Kolkata\, West Bengal\, 700071\, India
CATEGORIES:Theatre
END:VEVENT
BEGIN:VEVENT
DTSTART;TZID=Asia/Kolkata:20250812T183000
DTEND;TZID=Asia/Kolkata:20250812T203000
DTSTAMP:20260422T040036
CREATED:20250810T133748Z
LAST-MODIFIED:20250810T134918Z
UID:13767-1755023400-1755030600@kolkatatheatre.com
SUMMARY:Theatre Platform’s Gharer Madhye Bari\, at Tapan
DESCRIPTION:Dramatist-director Debasish’s new play about an old building facing demolition\, whose residents face eviction\, and whose inhabitants include non-humans too. \nHighly recommended: ★★★★★. Read my review.
URL:https://kolkatatheatre.com/event/theatre-platforms-gharer-madhye-bari-at-tapan-4/
LOCATION:Tapan Theatre\, Kalighat
CATEGORIES:Theatre
END:VEVENT
BEGIN:VEVENT
DTSTART;TZID=Asia/Kolkata:20250810T183000
DTEND;TZID=Asia/Kolkata:20250810T203000
DTSTAMP:20260422T040036
CREATED:20250807T090018Z
LAST-MODIFIED:20250807T090018Z
UID:13762-1754850600-1754857800@kolkatatheatre.com
SUMMARY:Dwitiya Satta’s Na Tor Janya\, at Academy
DESCRIPTION:Written and directed by Suman Sengupta\, a portrayal of the dilemma of an accomplished commercial artist who sells out to the ruthless and competitive contemporary ratrace.
URL:https://kolkatatheatre.com/event/dwitiya-sattas-na-tor-janya-at-academy-4/
LOCATION:Academy of Fine Arts\, 2\, Cathedral Rd\, Maidan\, Kolkata\, West Bengal 700020\, Kolkata\, West Bengal\, 700071\, India
CATEGORIES:Theatre
END:VEVENT
BEGIN:VEVENT
DTSTART;TZID=Asia/Kolkata:20250810T170000
DTEND;TZID=Asia/Kolkata:20250810T200000
DTSTAMP:20260422T040036
CREATED:20250809T105041Z
LAST-MODIFIED:20250809T105119Z
UID:13764-1754845200-1754856000@kolkatatheatre.com
SUMMARY:Akvarious Productions’ (Mumbai) Excess Estrogen\, at Urban Theatre
DESCRIPTION:Seven short pieces about the chaos\, comedy and contradictions of modern womanhood\, written and performed by women. Sharp\, witty and unapologetically honest\, bold\, irreverent and refreshingly real\, they explore themes of sisterhood and human experiences. Two shows\, the first exclusively a Ladies Night Only at 5 pm\, the second open to all at 7 pm.
URL:https://kolkatatheatre.com/event/akvarious-productions-mumbai-excess-estrogen-at-urban-theatre-2/
LOCATION:The Urban Theatre Project\, Kabir Road\, Kolkata\, 700029
CATEGORIES:Theatre
END:VEVENT
BEGIN:VEVENT
DTSTART;TZID=Asia/Kolkata:20250809T183000
DTEND;TZID=Asia/Kolkata:20250809T203000
DTSTAMP:20260422T040036
CREATED:20250807T085656Z
LAST-MODIFIED:20250807T085656Z
UID:13760-1754764200-1754771400@kolkatatheatre.com
SUMMARY:Paikpara Akhor’s Jharer Kheya\, at Academy
DESCRIPTION:Translated from Lillian Hellman’s awardwinning Watch on the Rhine (1941) about an anti-fascist German fleeing to the US during World War II\, and his encounter with a Nazi supporter. Directed by Asit Basu.
URL:https://kolkatatheatre.com/event/paikpara-akhors-jharer-kheya-at-academy-2/
LOCATION:Academy of Fine Arts\, 2\, Cathedral Rd\, Maidan\, Kolkata\, West Bengal 700020\, Kolkata\, West Bengal\, 700071\, India
CATEGORIES:Theatre
END:VEVENT
BEGIN:VEVENT
DTSTART;TZID=Asia/Kolkata:20250809T183000
DTEND;TZID=Asia/Kolkata:20250809T203000
DTSTAMP:20260422T040036
CREATED:20250807T085400Z
LAST-MODIFIED:20250807T085400Z
UID:13758-1754764200-1754771400@kolkatatheatre.com
SUMMARY:Sansriti’s Sher Afgan\, at Madhusudan
DESCRIPTION:Ajitesh Bandopadhyay’s adaptation of Pirandello’s metatheatrical classic\, Henry IV\, directed by Debesh Chattopadhyay. \nRecommended: ★★★★  Read my review.
URL:https://kolkatatheatre.com/event/sansritis-sher-afgan-at-madhusudan-2/
LOCATION:Madhusudan Mancha\, Gariahat Rd S\, Jodhpur Park\,\, Kolkata\, West Bengal\, 700031\, India
CATEGORIES:Theatre
END:VEVENT
BEGIN:VEVENT
DTSTART;TZID=Asia/Kolkata:20250809T170000
DTEND;TZID=Asia/Kolkata:20250809T200000
DTSTAMP:20260422T040036
CREATED:20250807T083854Z
LAST-MODIFIED:20250807T083854Z
UID:13756-1754758800-1754769600@kolkatatheatre.com
SUMMARY:Akvarious Productions' (Mumbai) Excess Estrogen\, at Urban Theatre
DESCRIPTION:Seven short pieces about the chaos\, comedy and contradictions of modern womanhood\, written and performed by women. Sharp\, witty and unapologetically honest\, bold\, irreverent and refreshingly real\, it explores themes of sisterhood and human experiences. Two shows\, the second exclusively a Ladies Night Only at 7 pm.
URL:https://kolkatatheatre.com/event/akvarious-productions-mumbai-excess-estrogen-at-urban-theatre/
LOCATION:The Urban Theatre Project\, Kabir Road\, Kolkata\, 700029
CATEGORIES:Theatre
END:VEVENT
BEGIN:VEVENT
DTSTART;TZID=Asia/Kolkata:20250808T183000
DTEND;TZID=Asia/Kolkata:20250808T203000
DTSTAMP:20260422T040036
CREATED:20250803T095606Z
LAST-MODIFIED:20250806T191809Z
UID:13749-1754677800-1754685000@kolkatatheatre.com
SUMMARY:Anya Theatre’s Caretaker\, at Gyan Manch
DESCRIPTION:Harold Pinter’s early drama translated and transplanted into Bengali and directed by Arindam Mukherjee. \nRecommended: ★★★★. Read my review.
URL:https://kolkatatheatre.com/event/anya-theatres-caretaker-at-gyan-manch-4/
LOCATION:Gyan Manch\, Gyan Manch\, 11\, Pretoria St\, Kolkata\, West Bengal\, 700071\, India
CATEGORIES:Theatre
END:VEVENT
BEGIN:VEVENT
DTSTART;TZID=Asia/Kolkata:20250807T183000
DTEND;TZID=Asia/Kolkata:20250807T210000
DTSTAMP:20260422T040036
CREATED:20250803T095044Z
LAST-MODIFIED:20250803T095044Z
UID:13747-1754591400-1754600400@kolkatatheatre.com
SUMMARY:Angik’s Binodini Opera\, at Birla Sabhagar
DESCRIPTION:Biographical drama on Nati Binodini co-written by Abanti Chakraborty and Sibashis Bandyopadhyay\, and directed by Abanti Chakraborty. Read my review.
URL:https://kolkatatheatre.com/event/angiks-binodini-opera-at-birla-sabhagar-2/
LOCATION:G D Birla Sabhagar\, 29 Ashutosh Chowdhury Avenue\, Kolkata\, 700019
CATEGORIES:Theatre
END:VEVENT
BEGIN:VEVENT
DTSTART;TZID=Asia/Kolkata:20250806T183000
DTEND;TZID=Asia/Kolkata:20250806T203000
DTSTAMP:20260422T040036
CREATED:20250803T094737Z
LAST-MODIFIED:20250803T094737Z
UID:13745-1754505000-1754512200@kolkatatheatre.com
SUMMARY:Ganakrishti’s Athaba Rabithakur\, at Academy
DESCRIPTION:Adapted from Slovenian dramatist Evald Flisar’s What about Leonardo\, set in a neurological institute\, and directed by Amitava Dutta.
URL:https://kolkatatheatre.com/event/ganakrishtis-athaba-rabithakur-at-academy-6/
LOCATION:Academy of Fine Arts\, 2\, Cathedral Rd\, Maidan\, Kolkata\, West Bengal 700020\, Kolkata\, West Bengal\, 700071\, India
CATEGORIES:Theatre
END:VEVENT
BEGIN:VEVENT
DTSTART;TZID=Asia/Kolkata:20250804T183000
DTEND;TZID=Asia/Kolkata:20250804T203000
DTSTAMP:20260422T040036
CREATED:20250803T094130Z
LAST-MODIFIED:20250803T094130Z
UID:13743-1754332200-1754339400@kolkatatheatre.com
SUMMARY:Sanglap Kolkata’s Hulusthul\, at Academy
DESCRIPTION:Dramatized from Shirshendu Mukhopadhyay’s Ek Āshcharja Pheriwālā by Kuntal Mukhopadhyay and directed by Debasish. A mysterious hawker sells seemingly useless things\, which evil people conspire to capture\, while an eccentric scientist pursues his thirst for knowledge\, \nRecommended: ★★★★. Read my review.
URL:https://kolkatatheatre.com/event/sanglap-kolkatas-hulusthul-at-academy-5/
LOCATION:Academy of Fine Arts\, 2\, Cathedral Rd\, Maidan\, Kolkata\, West Bengal 700020\, Kolkata\, West Bengal\, 700071\, India
CATEGORIES:Theatre
END:VEVENT
BEGIN:VEVENT
DTSTART;TZID=Asia/Kolkata:20250803T170000
DTEND;TZID=Asia/Kolkata:20250803T210000
DTSTAMP:20260422T040036
CREATED:20250725T094719Z
LAST-MODIFIED:20250725T094719Z
UID:13738-1754240400-1754254800@kolkatatheatre.com
SUMMARY:Akvarious Productions’ (Mumbai) Tiki-Taka\, at Urban Theatre
DESCRIPTION:The Indian football team has miraculously made it into a prestigious final. But real games play out behind the scenes. Written by Adhir Bhat and Bobby Nagra\, directed by Adhaar Khurana. Two shows\, the second at 7:30.
URL:https://kolkatatheatre.com/event/akvarious-productions-mumbai-tiki-taka-at-urban-theatre-2/
LOCATION:The Urban Theatre Project\, Kabir Road\, Kolkata\, 700029
CATEGORIES:Theatre
END:VEVENT
BEGIN:VEVENT
DTSTART;TZID=Asia/Kolkata:20250802T190000
DTEND;TZID=Asia/Kolkata:20250802T210000
DTSTAMP:20260422T040037
CREATED:20250725T093623Z
LAST-MODIFIED:20250725T093623Z
UID:13734-1754161200-1754168400@kolkatatheatre.com
SUMMARY:Studio 9’s My Name Is Jaan\, at Birla Sabhagar
DESCRIPTION:Arpita Chatterjee’s solo musical on Gauhar Jan\, directed by Abanti Chakraborty. Presented by Gameplan as part of its Kolkata Baarish festival. \nRead my review.
URL:https://kolkatatheatre.com/event/studio-9s-my-name-is-jaan-at-birla-sabhagar-3/
LOCATION:G D Birla Sabhagar\, 29 Ashutosh Chowdhury Avenue\, Kolkata\, 700019
CATEGORIES:Theatre
END:VEVENT
BEGIN:VEVENT
DTSTART;TZID=Asia/Kolkata:20250802T183000
DTEND;TZID=Asia/Kolkata:20250802T203000
DTSTAMP:20260422T040037
CREATED:20250725T094334Z
LAST-MODIFIED:20250725T094334Z
UID:13736-1754159400-1754166600@kolkatatheatre.com
SUMMARY:Sayak’s Dharmabatar\, at Madhusudan
DESCRIPTION:Ujjwal Chattopadhyay’s play inspired by the American film The Judge (2014) about the personal conflict between a retired judge and his son who defends criminals. Directed by Meghnad Bhattacharya.
URL:https://kolkatatheatre.com/event/sayaks-dharmabatar-at-madhusudan/
LOCATION:Madhusudan Mancha\, Gariahat Rd S\, Jodhpur Park\,\, Kolkata\, West Bengal\, 700031\, India
CATEGORIES:Theatre
END:VEVENT
BEGIN:VEVENT
DTSTART;TZID=Asia/Kolkata:20250802T170000
DTEND;TZID=Asia/Kolkata:20250802T210000
DTSTAMP:20260422T040037
CREATED:20250725T065403Z
LAST-MODIFIED:20250725T065403Z
UID:13732-1754154000-1754168400@kolkatatheatre.com
SUMMARY:Akvarious Productions' (Mumbai) Tiki-Taka\, at Urban Theatre
DESCRIPTION:The Indian football team has miraculously made it into a prestigious final. But real games play out behind the scenes. Written by Adhir Bhat and Bobby Nagra\, directed by Adhaar Khurana. Two shows\, the second at 7:30.
URL:https://kolkatatheatre.com/event/akvarious-productions-mumbai-tiki-taka-at-urban-theatre/
LOCATION:The Urban Theatre Project\, Kabir Road\, Kolkata\, 700029
CATEGORIES:Theatre
END:VEVENT
BEGIN:VEVENT
DTSTART;TZID=Asia/Kolkata:20250723T180000
DTEND;TZID=Asia/Kolkata:20250723T210000
DTSTAMP:20260422T040037
CREATED:20250720T091736Z
LAST-MODIFIED:20250720T091736Z
UID:13730-1753293600-1753304400@kolkatatheatre.com
SUMMARY:Chetla Krishti Sansad’s Amar Gan\, at Madhusudan
DESCRIPTION:A blind and wheelchair-bound youth\, highly intelligent\, wants to know about light from his physicist father. Written and directed by Suman Sengupta. \nRecommended: ★★★★. Read my review.
URL:https://kolkatatheatre.com/event/chetla-krishti-sansads-amar-gan-at-madhusudan/
LOCATION:Madhusudan Mancha\, Gariahat Rd S\, Jodhpur Park\,\, Kolkata\, West Bengal\, 700031\, India
CATEGORIES:Theatre
END:VEVENT
BEGIN:VEVENT
DTSTART;TZID=Asia/Kolkata:20250720T190000
DTEND;TZID=Asia/Kolkata:20250720T203000
DTSTAMP:20260422T040037
CREATED:20250717T135952Z
LAST-MODIFIED:20250717T135952Z
UID:13716-1753038000-1753043400@kolkatatheatre.com
SUMMARY:Charitraangan Theatre Lab's Do Sajiv Bindu\, at Proscenium
DESCRIPTION:A surreal Hindi piece that follows two characters who haven’t slept for many years. As they drift through shifting timelines of past\, present and future\, the narrative explores themes of memory\, stillness and distorted reality through a minimal\, poetic form. Written and directed by Paraangad Shaw.
URL:https://kolkatatheatre.com/event/charitraangan-theatre-labs-do-sajiv-bindu-at-proscenium/
LOCATION:Proscenium’s Art Centre\, 46 A J C Bose Road\, Kolkata\, 700016
CATEGORIES:Theatre
END:VEVENT
BEGIN:VEVENT
DTSTART;TZID=Asia/Kolkata:20250720T183000
DTEND;TZID=Asia/Kolkata:20250720T203000
DTSTAMP:20260422T040037
CREATED:20250717T141619Z
LAST-MODIFIED:20250717T141619Z
UID:13725-1753036200-1753043400@kolkatatheatre.com
SUMMARY:Anya Theatre’s Aparajita\, at Girish
DESCRIPTION:Nitish Sen’s classic solo play reinterpreted and directed by Turna Das\, inspired by the concept of Edward Albee’s Three Tall Women.
URL:https://kolkatatheatre.com/event/anya-theatres-aparajita-at-girish/
LOCATION:Girish Mancha\, Bagbazar
CATEGORIES:Theatre
END:VEVENT
BEGIN:VEVENT
DTSTART;TZID=Asia/Kolkata:20250720T183000
DTEND;TZID=Asia/Kolkata:20250720T203000
DTSTAMP:20260422T040037
CREATED:20250717T141314Z
LAST-MODIFIED:20250717T141314Z
UID:13723-1753036200-1753043400@kolkatatheatre.com
SUMMARY:Aneek’s Aksharik\, at Tapan
DESCRIPTION:Dramatist-director Debasish’s biodrama about Panchanan Karmakar\, the first creator of Bengali moveable typeface in the 18th century\, based on Rajat Chakraborti’s novel Panchananer Haraph. \nRecommended: ★★★★. Read my review.
URL:https://kolkatatheatre.com/event/aneeks-aksharik-at-tapan-6/
LOCATION:Tapan Theatre\, Kalighat
CATEGORIES:Theatre
END:VEVENT
BEGIN:VEVENT
DTSTART;TZID=Asia/Kolkata:20250720T183000
DTEND;TZID=Asia/Kolkata:20250720T200000
DTSTAMP:20260422T040037
CREATED:20250717T141040Z
LAST-MODIFIED:20250717T141040Z
UID:13720-1753036200-1753041600@kolkatatheatre.com
SUMMARY:Chetana’s Hibijibi Bahini\, at Madhusudan
DESCRIPTION:A “non-sense” production with child and adult actors\, written and directed by Sujan Mukhopadhyay. Alibaba\, accompanied by his trusty donkey\, opens the door to the cave and discovers no treasure but ancient\, worthless artifacts and a rusted lamp from which emerges the Genie. Meanwhile\, the band of thieves finds themselves devoid of any occupation in today’s hyper-competitive world of employment\, and a magician enters their den.
URL:https://kolkatatheatre.com/event/chetanas-hibijibi-bahini-at-madhusudan/
LOCATION:Madhusudan Mancha\, Gariahat Rd S\, Jodhpur Park\,\, Kolkata\, West Bengal\, 700031\, India
CATEGORIES:Theatre
END:VEVENT
BEGIN:VEVENT
DTSTART;TZID=Asia/Kolkata:20250719T183000
DTEND;TZID=Asia/Kolkata:20250719T204000
DTSTAMP:20260422T040037
CREATED:20250717T140352Z
LAST-MODIFIED:20250717T140352Z
UID:13718-1752949800-1752957600@kolkatatheatre.com
SUMMARY:Nandipat’s Chandrabati Katha\, at Madhusudan
DESCRIPTION:Ujjwal Chattopadhyay’s play about Chandrabati\, the 16th-century poet who composed the first Bangla Ramayan from the perspective of Sita\, as well as parts of the Maimansingha Gitika. Directed by Prokash Bhattacharya.
URL:https://kolkatatheatre.com/event/nandipats-chandrabati-katha-at-madhusudan/
LOCATION:Madhusudan Mancha\, Gariahat Rd S\, Jodhpur Park\,\, Kolkata\, West Bengal\, 700031\, India
CATEGORIES:Theatre
END:VEVENT
BEGIN:VEVENT
DTSTART;TZID=Asia/Kolkata:20250718T183000
DTEND;TZID=Asia/Kolkata:20250718T210000
DTSTAMP:20260422T040037
CREATED:20250712T140622Z
LAST-MODIFIED:20250712T140622Z
UID:13710-1752863400-1752872400@kolkatatheatre.com
SUMMARY:Anya Theatre’s Caretaker\, at Gyan Manch
DESCRIPTION:Harold Pinter’s early drama translated into Bengali and directed by Arindam Mukherjee. \nRecommended: ★★★★
URL:https://kolkatatheatre.com/event/anya-theatres-caretaker-at-gyan-manch-3/
LOCATION:Gyan Manch\, Gyan Manch\, 11\, Pretoria St\, Kolkata\, West Bengal\, 700071\, India
CATEGORIES:Theatre
END:VEVENT
BEGIN:VEVENT
DTSTART;TZID=Asia/Kolkata:20250718T183000
DTEND;TZID=Asia/Kolkata:20250718T203000
DTSTAMP:20260422T040037
CREATED:20250712T141740Z
LAST-MODIFIED:20250712T141740Z
UID:13714-1752863400-1752870600@kolkatatheatre.com
SUMMARY:Paramik's Rupantar\, at Tapan
DESCRIPTION:Inspired by Max Frisch’s absurdist political parable The Fire Raisers\, Indianized by Anirban Sen in Bengali and directed by Suvojit Bandopadhyay.
URL:https://kolkatatheatre.com/event/paramiks-rupantar-at-tapan/
LOCATION:Tapan Theatre\, Kalighat
CATEGORIES:Theatre
END:VEVENT
BEGIN:VEVENT
DTSTART;TZID=Asia/Kolkata:20250718T183000
DTEND;TZID=Asia/Kolkata:20250718T203000
DTSTAMP:20260422T040037
CREATED:20250712T141012Z
LAST-MODIFIED:20250712T141012Z
UID:13712-1752863400-1752870600@kolkatatheatre.com
SUMMARY:Renaissance’s Toba Tek Singh\, at Girish
DESCRIPTION:Saadat Hasan Manto’s classic story dramatized and expanded by Rajesh Kumar and directed by Aloke Chakravorty in Hindi.
URL:https://kolkatatheatre.com/event/renaissances-toba-tek-singh-at-girish-2/
LOCATION:Girish Mancha\, Bagbazar
CATEGORIES:Theatre
END:VEVENT
BEGIN:VEVENT
DTSTART;TZID=Asia/Kolkata:20250713T183000
DTEND;TZID=Asia/Kolkata:20250713T203000
DTSTAMP:20260422T040037
CREATED:20250710T151259Z
LAST-MODIFIED:20250710T151259Z
UID:13707-1752431400-1752438600@kolkatatheatre.com
SUMMARY:Samstab’s Gaurer Kabach\, at Madhusudan
DESCRIPTION:Shirshendu Mukhopadhyay’s magical story about Gaur\, who loves to play the flute\, and is loved by the ancient folk in his village\, threatened by the arrival of a man who wants to take over everything. Dramatized and directed by Suman Sengupta. \nRecommended: ★★★★. Read my review.
URL:https://kolkatatheatre.com/event/samstabs-gaurer-kabach-at-madhusudan/
LOCATION:Madhusudan Mancha\, Gariahat Rd S\, Jodhpur Park\,\, Kolkata\, West Bengal\, 700031\, India
CATEGORIES:Theatre
END:VEVENT
BEGIN:VEVENT
DTSTART;TZID=Asia/Kolkata:20250712T183000
DTEND;TZID=Asia/Kolkata:20250712T203000
DTSTAMP:20260422T040037
CREATED:20250710T150915Z
LAST-MODIFIED:20250710T150915Z
UID:13705-1752345000-1752352200@kolkatatheatre.com
SUMMARY:Rangroop’s Jadi Ar Ekbar\, at Madhusudan
DESCRIPTION:Marking the birth centenary of Badal Sircar\, the premiere of Rangroop’s revival of his perennial early comedy about wish fulfilment. Directed by Sima Mukhopadhyay.
URL:https://kolkatatheatre.com/event/rangroops-jadi-ar-ekbar-at-madhusudan/
LOCATION:Madhusudan Mancha\, Gariahat Rd S\, Jodhpur Park\,\, Kolkata\, West Bengal\, 700031\, India
CATEGORIES:Theatre
END:VEVENT
END:VCALENDAR