BEGIN:VCALENDAR
VERSION:2.0
PRODID:-//KolkataTheatre.com - ECPv6.15.12.2//NONSGML v1.0//EN
CALSCALE:GREGORIAN
METHOD:PUBLISH
X-WR-CALNAME:KolkataTheatre.com
X-ORIGINAL-URL:https://kolkatatheatre.com
X-WR-CALDESC:Events for KolkataTheatre.com
REFRESH-INTERVAL;VALUE=DURATION:PT1H
X-Robots-Tag:noindex
X-PUBLISHED-TTL:PT1H
BEGIN:VTIMEZONE
TZID:Asia/Kolkata
BEGIN:STANDARD
TZOFFSETFROM:+0530
TZOFFSETTO:+0530
TZNAME:IST
DTSTART:20250101T000000
END:STANDARD
END:VTIMEZONE
BEGIN:VEVENT
DTSTART;TZID=Asia/Kolkata:20260111T183000
DTEND;TZID=Asia/Kolkata:20260111T200000
DTSTAMP:20260420T130854
CREATED:20260108T125724Z
LAST-MODIFIED:20260108T125724Z
UID:14532-1768156200-1768161600@kolkatatheatre.com
SUMMARY:NT Theatre (Imphal)'s The Priestess\, at Girish
DESCRIPTION:A play in Manipuri and Meiteilon directed by Ningthouja Deepak. Part of Minerva’s National Theatre Festival 2026.
URL:https://kolkatatheatre.com/event/nt-theatre-imphals-the-priestess-at-girish/
LOCATION:Girish Mancha\, Bagbazar
CATEGORIES:Theatre
END:VEVENT
BEGIN:VEVENT
DTSTART;TZID=Asia/Kolkata:20260111T183000
DTEND;TZID=Asia/Kolkata:20260111T200000
DTSTAMP:20260420T130854
CREATED:20260108T125500Z
LAST-MODIFIED:20260108T125500Z
UID:14530-1768156200-1768161600@kolkatatheatre.com
SUMMARY:Abhigyanm (Guwahati)'s A Stupid Common Man\, at Madhusudan
DESCRIPTION:Multilingual clowns’ satire directed by Ranhang Choudhury. Part of Minerva’s National Theatre Festival 2026.
URL:https://kolkatatheatre.com/event/abhigyanm-guwahatis-a-stupid-common-man-at-madhusudan/
LOCATION:Madhusudan Mancha\, Gariahat Rd S\, Jodhpur Park\,\, Kolkata\, West Bengal\, 700031\, India
CATEGORIES:Theatre
END:VEVENT
BEGIN:VEVENT
DTSTART;TZID=Asia/Kolkata:20260111T173000
DTEND;TZID=Asia/Kolkata:20260111T210000
DTSTAMP:20260420T130854
CREATED:20260110T050805Z
LAST-MODIFIED:20260110T050805Z
UID:14540-1768152600-1768165200@kolkatatheatre.com
SUMMARY:Curl's Seasons of Love\, at Padatik
DESCRIPTION:A memory play about love and loss that grapples with themes of family and homesickness as well as the intergenerational bonds that give individual family members the strength to stay together despite the dementia and geography that threaten to separate them. Through mutual experiences of grief and an overarching love for Shakespeare and Rabindrasangit\, the characters attempt to find light at the end of the tunnel. Written by Ahon Gooptu and directed by Vikram Iyengar. \nTwo performances\, at 5:30 pm and 7:30 pm. Further shows on January 16\, 17\, 18.
URL:https://kolkatatheatre.com/event/curls-seasons-of-love-at-padatik-3/
LOCATION:Padatik Little Theatre\, 6/7 A J C Bose Road\, Kolkata\, 700017
CATEGORIES:Theatre
ATTACH;FMTTYPE=image/png:https://kolkatatheatre.com/wp-content/uploads/2026/01/Cast-_-Seasons-of-Love-_-2026-_-Photo-by-Jaisheej-Paul-e1767431441329.png
END:VEVENT
BEGIN:VEVENT
DTSTART;TZID=Asia/Kolkata:20260111T170000
DTEND;TZID=Asia/Kolkata:20260111T200000
DTSTAMP:20260420T130854
CREATED:20260110T163738Z
LAST-MODIFIED:20260110T163738Z
UID:14542-1768150800-1768161600@kolkatatheatre.com
SUMMARY:The Creative Arts’ Home in a Suitcase\, at TCA
DESCRIPTION:Dedicated to all people who have found themselves between cities\, between choices\, between who they were and who they’re becoming\, still searching for a place to belong\, who have folded their lives into cardboard boxes and goodbyes. The devised solo piece written by Ramanjit Kaur and Ruhani Singh\, directed by Ramanjit\, traces the journey of a 24-year-old woman whose footsteps echo through Kolkata\, Allentown\, New York\, Dublin and Mumbai. who gathers memories like loose threads\, questions of identity\, and ever-elusive idea of home into her suitcase\, carrying roots in mid-air. Two shows\, at 5 pm and 7 pm.
URL:https://kolkatatheatre.com/event/the-creative-arts-home-in-a-suitcase-at-tca-3/
LOCATION:The Creative Arts\, 31/2A Sadananda Road\, Kolkata\, 700026\, India
CATEGORIES:Theatre
END:VEVENT
BEGIN:VEVENT
DTSTART;TZID=Asia/Kolkata:20260111T110000
DTEND;TZID=Asia/Kolkata:20260111T173000
DTSTAMP:20260420T130854
CREATED:20260108T185950Z
LAST-MODIFIED:20260108T185950Z
UID:14538-1768129200-1768152600@kolkatatheatre.com
SUMMARY:Kheyechhish?\, at The Urban Theatre Project
DESCRIPTION:A play written and directed by Meghna Roy Choudhury in Hindi and English\, with moments of Bangla. Set in a metro city\, it follows a young woman who measures her own hunger\, shaped by chosen migration\, against her grandmother’s hunger\, shaped by forced migration and famine. The performance explores hunger\, memory\, home and survival\, with live cooking of dishes born of scarcity. \nTwo performances\, at 11 a.m. and 4 p.m.
URL:https://kolkatatheatre.com/event/kheyechhish-at-the-urban-theatre-project/
LOCATION:The Urban Theatre Project\, Kabir Road\, Kolkata\, 700029
CATEGORIES:Theatre
END:VEVENT
BEGIN:VEVENT
DTSTART;TZID=Asia/Kolkata:20260110T193000
DTEND;TZID=Asia/Kolkata:20260110T210000
DTSTAMP:20260420T130854
CREATED:20260108T185002Z
LAST-MODIFIED:20260108T185002Z
UID:14536-1768073400-1768078800@kolkatatheatre.com
SUMMARY:Curl's Seasons of Love\, at Padatik
DESCRIPTION:A memory play about love and loss that grapples with themes of family and homesickness as well as the intergenerational bonds that give individual family members the strength to stay together despite the dementia and geography that threaten to separate them. Through mutual experiences of grief and an overarching love for Shakespeare and Rabindrasangit\, the characters attempt to find light at the end of the tunnel. Further shows on January 11\, 16\, 17\, 18.\nWritten by Ahon Gooptu and directed by Vikram Iyengar.
URL:https://kolkatatheatre.com/event/curls-seasons-of-love-at-padatik-2/
LOCATION:Padatik Little Theatre\, 6/7 A J C Bose Road\, Kolkata\, 700017
CATEGORIES:Theatre
ATTACH;FMTTYPE=image/png:https://kolkatatheatre.com/wp-content/uploads/2026/01/Cast-_-Seasons-of-Love-_-2026-_-Photo-by-Jaisheej-Paul-e1767431441329.png
END:VEVENT
BEGIN:VEVENT
DTSTART;TZID=Asia/Kolkata:20260110T183000
DTEND;TZID=Asia/Kolkata:20260110T203000
DTSTAMP:20260420T130854
CREATED:20260108T124641Z
LAST-MODIFIED:20260108T124641Z
UID:14527-1768069800-1768077000@kolkatatheatre.com
SUMMARY:Unicorn Actors Studio (Mumbai)'s 1984 Uploading\, at Girish
DESCRIPTION:A play in Hindi directed by Happy Ranajit. Part of Minerva’s National Theatre Festival 2026.
URL:https://kolkatatheatre.com/event/unicorn-actors-studio-mumbais-1984-uploading-at-girish/
LOCATION:Girish Mancha\, Bagbazar
CATEGORIES:Theatre
END:VEVENT
BEGIN:VEVENT
DTSTART;TZID=Asia/Kolkata:20260110T183000
DTEND;TZID=Asia/Kolkata:20260110T203000
DTSTAMP:20260420T130854
CREATED:20260108T124333Z
LAST-MODIFIED:20260108T124832Z
UID:14525-1768069800-1768077000@kolkatatheatre.com
SUMMARY:Paradigm Shift Arts (Pune)'s Kadambari\, at Madhusudan
DESCRIPTION:A play in Hindi and Bengali on Kadambari Devi\, Tagore’s sister-in-law who committed suicide. Written and directed by Meghna Roy Choudhury. Part of Minerva’s National Theatre Festival 2026.
URL:https://kolkatatheatre.com/event/paradigm-shift-arts-punes-kadambari-at-madhusudan/
LOCATION:Madhusudan Mancha\, Gariahat Rd S\, Jodhpur Park\,\, Kolkata\, West Bengal\, 700031\, India
CATEGORIES:Theatre
END:VEVENT
BEGIN:VEVENT
DTSTART;TZID=Asia/Kolkata:20260110T183000
DTEND;TZID=Asia/Kolkata:20260110T200000
DTSTAMP:20260420T130854
CREATED:20260108T123902Z
LAST-MODIFIED:20260108T123928Z
UID:14522-1768069800-1768075200@kolkatatheatre.com
SUMMARY:Anjana Chandak's Draupadi\, at Birla Academy
DESCRIPTION:A monodrama blending powerful storytelling with deep emotional presence that brings alive the soul of Draupadi\, who stands as a symbol of courage\, dignity and unshakable resolve.
URL:https://kolkatatheatre.com/event/anjana-chandaks-draupadi-at-birla-academy/
LOCATION:Birla Academy of Art and Culture\, Southern Avenue\, Kolkata
CATEGORIES:Theatre
END:VEVENT
BEGIN:VEVENT
DTSTART;TZID=Asia/Kolkata:20260109T193000
DTEND;TZID=Asia/Kolkata:20260109T210000
DTSTAMP:20260420T130854
CREATED:20260104T091358Z
LAST-MODIFIED:20260104T091358Z
UID:14499-1767987000-1767992400@kolkatatheatre.com
SUMMARY:Curl's Seasons of Love\, at Padatik
DESCRIPTION:A memory play about love and loss that grapples with themes of family and homesickness as well as the intergenerational bonds that give individual family members the strength to stay together despite the dementia and geography that threaten to separate them. Through mutual experiences of  grief and an overarching love for Shakespeare and Rabindrasangit\, the characters attempt to find light at the end of the tunnel. Further shows on January 10\, 11\, 16\, 17\, 18.\nWritten by Ahon Gooptu and directed by Vikram Iyengar. \n 
URL:https://kolkatatheatre.com/event/curls-seasons-of-love-at-padatik/
LOCATION:Padatik Little Theatre\, 6/7 A J C Bose Road\, Kolkata\, 700017
CATEGORIES:Theatre
ATTACH;FMTTYPE=image/png:https://kolkatatheatre.com/wp-content/uploads/2026/01/Cast-_-Seasons-of-Love-_-2026-_-Photo-by-Jaisheej-Paul-e1767431441329.png
END:VEVENT
BEGIN:VEVENT
DTSTART;TZID=Asia/Kolkata:20260109T190000
DTEND;TZID=Asia/Kolkata:20260109T203000
DTSTAMP:20260420T130854
CREATED:20260105T183945Z
LAST-MODIFIED:20260105T183945Z
UID:14515-1767985200-1767990600@kolkatatheatre.com
SUMMARY:Kheyechhish?\, at Anuchintan Art Centre
DESCRIPTION:A play written and directed by Meghna Roy Choudhury in Hindi and English\, with moments of Bangla. Set in a metro city\, it follows a young woman who measures her own hunger\, shaped by chosen migration\, against her grandmother’s hunger\, shaped by forced migration and famine. The performance explores hunger\, memory\, home and survival\, with live cooking of dishes born of scarcity.
URL:https://kolkatatheatre.com/event/kheyechhish-at-anuchintan-art-centre/
LOCATION:Anuchintan Art Centre\, 33\, 25\, Kali Kumar Majumdar Rd\, Bagan Bari\, Santoshpur\, Kolkata\, 700075\, India
CATEGORIES:Theatre
END:VEVENT
BEGIN:VEVENT
DTSTART;TZID=Asia/Kolkata:20260109T183000
DTEND;TZID=Asia/Kolkata:20260109T203000
DTSTAMP:20260420T130854
CREATED:20260105T184852Z
LAST-MODIFIED:20260105T184852Z
UID:14520-1767983400-1767990600@kolkatatheatre.com
SUMMARY:Aasakta (Pune)'s Via Savargaon Khurd\, at Girish
DESCRIPTION:A Marathi play directed by Suyog Deshpande. Part of Minerva’s National Theatre Festival 2026.
URL:https://kolkatatheatre.com/event/aasakta-punes-via-savargaon-khurd-at-girish/
LOCATION:Girish Mancha\, Bagbazar
CATEGORIES:Theatre
END:VEVENT
BEGIN:VEVENT
DTSTART;TZID=Asia/Kolkata:20260109T183000
DTEND;TZID=Asia/Kolkata:20260109T203000
DTSTAMP:20260420T130854
CREATED:20260105T184539Z
LAST-MODIFIED:20260105T184539Z
UID:14518-1767983400-1767990600@kolkatatheatre.com
SUMMARY:Sachin Shinde Academy (Nashik)'s Kalgitura\, at Madhusudan
DESCRIPTION:A Marathi play about the centuries-old rural musical storytelling form of Kalgitura. Directed by Sachin Shinde. \nPart of Minerva’s National Theatre Festival 2026.
URL:https://kolkatatheatre.com/event/sachin-shinde-academy-nashiks-kalgitura-at-madhusudan/
LOCATION:Madhusudan Mancha\, Gariahat Rd S\, Jodhpur Park\,\, Kolkata\, West Bengal\, 700031\, India
CATEGORIES:Theatre
END:VEVENT
BEGIN:VEVENT
DTSTART;TZID=Asia/Kolkata:20260108T183000
DTEND;TZID=Asia/Kolkata:20260108T203000
DTSTAMP:20260420T130854
CREATED:20260104T190606Z
LAST-MODIFIED:20260104T190606Z
UID:14512-1767897000-1767904200@kolkatatheatre.com
SUMMARY:Curtain Call’s Nitanta Byaktigata\, at Girish
DESCRIPTION:Written by Sounava Bose based on Narayan Sanyal’s Ami Netaji-ke Dekhechhi about Netaji and the INA’s Rani of Jhansi regiment in Burma\, and directed by Tirthankar Chattopadhyay. \n\n\nPart of Minerva’s National Theatre Festival 2026.
URL:https://kolkatatheatre.com/event/curtain-calls-nitanta-byaktigata-at-girish/
LOCATION:Girish Mancha\, Bagbazar
CATEGORIES:Theatre
END:VEVENT
BEGIN:VEVENT
DTSTART;TZID=Asia/Kolkata:20260108T183000
DTEND;TZID=Asia/Kolkata:20260108T203000
DTSTAMP:20260420T130854
CREATED:20260104T190205Z
LAST-MODIFIED:20260104T190205Z
UID:14509-1767897000-1767904200@kolkatatheatre.com
SUMMARY:Kabyakala Manan's Bhuto\, at Madhusudan
DESCRIPTION:Based on Satyajit Ray’s short story\, directed by Sumit Kumar Roy. Part of Minerva’s National Theatre Festival 2026.
URL:https://kolkatatheatre.com/event/kabyakala-manans-bhuto-at-madhusudan/
LOCATION:Madhusudan Mancha\, Gariahat Rd S\, Jodhpur Park\,\, Kolkata\, West Bengal\, 700031\, India
CATEGORIES:Theatre
END:VEVENT
BEGIN:VEVENT
DTSTART;TZID=Asia/Kolkata:20260107T183000
DTEND;TZID=Asia/Kolkata:20260107T203000
DTSTAMP:20260420T130854
CREATED:20260104T092803Z
LAST-MODIFIED:20260104T092803Z
UID:14503-1767810600-1767817800@kolkatatheatre.com
SUMMARY:Paikpara Akhor’s Jharer Kheya\, at Academy
DESCRIPTION:Translated from Lillian Hellman’s awardwinning Watch on the Rhine (1941) about an anti-fascist German fleeing to the US during World War II\, and his encounter with a Nazi supporter. Directed by Asit Basu. \nA performance in homage to the late Bhadra Basu\, who led the group.
URL:https://kolkatatheatre.com/event/paikpara-akhors-jharer-kheya-at-academy-3/
LOCATION:Academy of Fine Arts\, 2\, Cathedral Rd\, Maidan\, Kolkata\, West Bengal 700020\, Kolkata\, West Bengal\, 700071\, India
CATEGORIES:Theatre
END:VEVENT
BEGIN:VEVENT
DTSTART;TZID=Asia/Kolkata:20260107T183000
DTEND;TZID=Asia/Kolkata:20260107T200000
DTSTAMP:20260420T130854
CREATED:20260104T093844Z
LAST-MODIFIED:20260104T093844Z
UID:14507-1767810600-1767816000@kolkatatheatre.com
SUMMARY:Shipabhoomi (Golaghat)'s Oi: Ya\, at Girish
DESCRIPTION:A play in Assamese directed by Polash Loing. Part of Minerva’s National Theatre Festival 2026.
URL:https://kolkatatheatre.com/event/shipabhoomi-golaghats-oi-ya-at-girish/
LOCATION:Girish Mancha\, Bagbazar
CATEGORIES:Theatre
END:VEVENT
BEGIN:VEVENT
DTSTART;TZID=Asia/Kolkata:20260107T183000
DTEND;TZID=Asia/Kolkata:20260107T200000
DTSTAMP:20260420T130854
CREATED:20260104T093535Z
LAST-MODIFIED:20260104T093535Z
UID:14505-1767810600-1767816000@kolkatatheatre.com
SUMMARY:Natyabhumi (Agartala)'s Rangin Rumal\, at Madhusudan
DESCRIPTION:A play in Bengali directed by Sanjoy Kar. Part of Minerva’s National Theatre Festival 2026.
URL:https://kolkatatheatre.com/event/natyabhumi-agartalas-rangin-rumal-at-madhusudan/
LOCATION:Madhusudan Mancha\, Gariahat Rd S\, Jodhpur Park\,\, Kolkata\, West Bengal\, 700031\, India
CATEGORIES:Theatre
END:VEVENT
BEGIN:VEVENT
DTSTART;TZID=Asia/Kolkata:20260106T183000
DTEND;TZID=Asia/Kolkata:20260106T203000
DTSTAMP:20260420T130854
CREATED:20260103T085257Z
LAST-MODIFIED:20260103T085257Z
UID:14496-1767724200-1767731400@kolkatatheatre.com
SUMMARY:Rakhadi Studio (Pune)'s Thakishi Samvad\, at Girish
DESCRIPTION:Marathi play directed by Anupam Barve. Part of Minerva’s National Theatre Festival 2026.
URL:https://kolkatatheatre.com/event/rakhadi-studio-punes-thakishi-samvad-at-girish/
LOCATION:Girish Mancha\, Bagbazar
CATEGORIES:Theatre
END:VEVENT
BEGIN:VEVENT
DTSTART;TZID=Asia/Kolkata:20260106T183000
DTEND;TZID=Asia/Kolkata:20260106T200000
DTSTAMP:20260420T130854
CREATED:20260103T084703Z
LAST-MODIFIED:20260103T084703Z
UID:14494-1767724200-1767729600@kolkatatheatre.com
SUMMARY:Social Manch & Peace Projects (Pune)'s Something Like Truth\, at Madhusudan
DESCRIPTION:Four monologues written by Shanta Gokhale\, directed by Parna Pethe in Hindi/English. \nPart of Minerva’s National Theatre Festival 2026.
URL:https://kolkatatheatre.com/event/social-manch-peace-projects-punes-something-like-truth-at-madhusudan/
LOCATION:Madhusudan Mancha\, Gariahat Rd S\, Jodhpur Park\,\, Kolkata\, West Bengal\, 700031\, India
CATEGORIES:Theatre
END:VEVENT
BEGIN:VEVENT
DTSTART;TZID=Asia/Kolkata:20260105T183000
DTEND;TZID=Asia/Kolkata:20260105T210000
DTSTAMP:20260420T130854
CREATED:20260103T083135Z
LAST-MODIFIED:20260103T083135Z
UID:14487-1767637800-1767646800@kolkatatheatre.com
SUMMARY:Nandikar’s Panchajanya\, at Academy
DESCRIPTION:A play written by Parthapratim Deb dramatizing the story of Krishna\, directed by Sohini Sengupta. \nFinal production in Baghajatin Alaap’s 2nd international Bengali theatre festival.
URL:https://kolkatatheatre.com/event/nandikars-panchajanya-at-academy-3/
LOCATION:Academy of Fine Arts\, 2\, Cathedral Rd\, Maidan\, Kolkata\, West Bengal 700020\, Kolkata\, West Bengal\, 700071\, India
CATEGORIES:Theatre
END:VEVENT
BEGIN:VEVENT
DTSTART;TZID=Asia/Kolkata:20260105T183000
DTEND;TZID=Asia/Kolkata:20260105T203000
DTSTAMP:20260420T130854
CREATED:20260103T083707Z
LAST-MODIFIED:20260103T083707Z
UID:14490-1767637800-1767645000@kolkatatheatre.com
SUMMARY:Santipur Sanskritik's Karagar\, at Madhusudan
DESCRIPTION:Manmatha Ray’s 1930 mythological-political allegory directed by Kaushik Chatterjee. Part of Minerva’s National Theatre Festival 2026.
URL:https://kolkatatheatre.com/event/santipur-sanskritiks-karagar-at-madhusudan/
LOCATION:Madhusudan Mancha\, Gariahat Rd S\, Jodhpur Park\,\, Kolkata\, West Bengal\, 700031\, India
CATEGORIES:Theatre
END:VEVENT
BEGIN:VEVENT
DTSTART;TZID=Asia/Kolkata:20260105T183000
DTEND;TZID=Asia/Kolkata:20260105T200000
DTSTAMP:20260420T130854
CREATED:20260103T084216Z
LAST-MODIFIED:20260103T085021Z
UID:14492-1767637800-1767643200@kolkatatheatre.com
SUMMARY:Little Thespian’s Chak\, at Girish
DESCRIPTION:The last play written by Little Thespian’s S. M. Azhar Alam\,  directed by Uma Jhunjhunwala. About the various challenges faced by Indian Muslims after the conflict in East Pakistan in 1971\, through the struggles of one such family whose Indian citizenship is questioned. Read my review. \n\n\nPart of Minerva’s National Theatre Festival 2026.
URL:https://kolkatatheatre.com/event/little-thespians-chak-at-girish/
LOCATION:Girish Mancha\, Bagbazar
CATEGORIES:Theatre
END:VEVENT
BEGIN:VEVENT
DTSTART;TZID=Asia/Kolkata:20260105T140000
DTEND;TZID=Asia/Kolkata:20260105T160000
DTSTAMP:20260420T130854
CREATED:20260103T082619Z
LAST-MODIFIED:20260103T083220Z
UID:14485-1767621600-1767628800@kolkatatheatre.com
SUMMARY:Baghajatin Alaap's Padma Nadir Majhi\, at Academy
DESCRIPTION:Manik Bandyopadhyay’s classic novel dramatized and directed by Parthapratim Deb. Seventh production in Baghajatin Alaap’s 2nd international Bengali theatre festival.
URL:https://kolkatatheatre.com/event/baghajatin-alaaps-padma-nadir-majhi-at-academy/
LOCATION:Academy of Fine Arts\, 2\, Cathedral Rd\, Maidan\, Kolkata\, West Bengal 700020\, Kolkata\, West Bengal\, 700071\, India
CATEGORIES:Theatre
END:VEVENT
BEGIN:VEVENT
DTSTART;TZID=Asia/Kolkata:20260104T190000
DTEND;TZID=Asia/Kolkata:20260104T210000
DTSTAMP:20260420T130854
CREATED:20260101T105713Z
LAST-MODIFIED:20260101T105713Z
UID:14479-1767553200-1767560400@kolkatatheatre.com
SUMMARY:Epic Actors' Workshop (New Jersey)'s No Man's Land\, at Academy
DESCRIPTION:Based on a short story by Mojaffar Hossain\, in which a destitute and injured woman lies helplessly in the no man’s land between the borders of India and Bangladesh and no one comes to her rescue. Directed by Gargi Mukherjee and Golam Sarwan Haroon. Sixth production in Baghajatin Alaap’s 2nd international Bengali theatre festival.
URL:https://kolkatatheatre.com/event/epic-actors-workshop-new-jerseys-no-mans-land-at-academy/
LOCATION:Academy of Fine Arts\, 2\, Cathedral Rd\, Maidan\, Kolkata\, West Bengal 700020\, Kolkata\, West Bengal\, 700071\, India
CATEGORIES:Theatre
END:VEVENT
BEGIN:VEVENT
DTSTART;TZID=Asia/Kolkata:20260104T140000
DTEND;TZID=Asia/Kolkata:20260104T173000
DTSTAMP:20260420T130854
CREATED:20260101T104956Z
LAST-MODIFIED:20260101T104956Z
UID:14477-1767535200-1767547800@kolkatatheatre.com
SUMMARY:Bengali one-act plays from Australia and New Zealand\, at Academy
DESCRIPTION:Chakravyuha by Ankurshristi Incorporated (Melbourne\, Australia) and Sakshi by Not Really (Auckland\, New Zealand). Fourth and fifth productions in Baghajatin Alaap’s 2nd international Bengali theatre festival.
URL:https://kolkatatheatre.com/event/bengali-one-act-plays-from-australia-and-new-zealand-at-academy/
LOCATION:Academy of Fine Arts\, 2\, Cathedral Rd\, Maidan\, Kolkata\, West Bengal 700020\, Kolkata\, West Bengal\, 700071\, India
CATEGORIES:Theatre
END:VEVENT
BEGIN:VEVENT
DTSTART;TZID=Asia/Kolkata:20260104T100000
DTEND;TZID=Asia/Kolkata:20260104T123000
DTSTAMP:20260420T130854
CREATED:20260101T102459Z
LAST-MODIFIED:20260101T105908Z
UID:14471-1767520800-1767529800@kolkatatheatre.com
SUMMARY:Aneek’s Aksharik\, at Academy
DESCRIPTION:Dramatist-director Debasish’s biodrama about Panchanan Karmakar\, the first creator of Bengali moveable typeface in the 18th century\, based on Rajat Chakraborti’s novel Panchananer Haraph. Third production in Baghajatin Alaap’s 2nd international Bengali theatre festival. \nRecommended: ★★★★. Read my review.
URL:https://kolkatatheatre.com/event/aneeks-aksharik-at-academy-10/
LOCATION:West Bengal
CATEGORIES:Theatre
END:VEVENT
BEGIN:VEVENT
DTSTART;TZID=Asia/Kolkata:20260103T180000
DTEND;TZID=Asia/Kolkata:20260103T203000
DTSTAMP:20260420T130854
CREATED:20260101T104251Z
LAST-MODIFIED:20260101T104251Z
UID:14475-1767463200-1767472200@kolkatatheatre.com
SUMMARY:Emirates Bengal Natyagoshthi (Dubai)'s Prahasan\, at Academy
DESCRIPTION:Ujjwal Chattopadhyay’s play directed by Kalyan Bhattacharya. Six candidates for the position of assistant to a CEO are locked inside a room for the final selection test. Second production in Baghajatin Alaap’s 2nd international Bengali theatre festival.
URL:https://kolkatatheatre.com/event/emirates-bengal-natyagoshthi-dubais-prahasan-at-academy/
LOCATION:Academy of Fine Arts\, 2\, Cathedral Rd\, Maidan\, Kolkata\, West Bengal 700020\, Kolkata\, West Bengal\, 700071\, India
CATEGORIES:Theatre
END:VEVENT
BEGIN:VEVENT
DTSTART;TZID=Asia/Kolkata:20260103T140000
DTEND;TZID=Asia/Kolkata:20260103T163000
DTSTAMP:20260420T130854
CREATED:20260101T103514Z
LAST-MODIFIED:20260101T103514Z
UID:14473-1767448800-1767457800@kolkatatheatre.com
SUMMARY:Chetana's Ghashiram Kotwal\, at Academy
DESCRIPTION:Vijay Tendulkar’s classic political satire directed in Bengali by Sujan Mukhopadhyay. Inaugural performance of Baghajatin Alaap’s 2nd international Bengali theatre festival.
URL:https://kolkatatheatre.com/event/chetanas-ghashiram-kotwal-at-academy/
LOCATION:Academy of Fine Arts\, 2\, Cathedral Rd\, Maidan\, Kolkata\, West Bengal 700020\, Kolkata\, West Bengal\, 700071\, India
CATEGORIES:Theatre
END:VEVENT
BEGIN:VEVENT
DTSTART;TZID=Asia/Kolkata:20260102T180000
DTEND;TZID=Asia/Kolkata:20260102T203000
DTSTAMP:20260420T130854
CREATED:20251228T130847Z
LAST-MODIFIED:20251228T130847Z
UID:14469-1767376800-1767385800@kolkatatheatre.com
SUMMARY:Natya Anan’s Meghnad\, at Academy
DESCRIPTION:Based on the exceptional life\, works\, thoughts and times of renowned astrophysicist and nuclear scientist Meghnad Saha\, one of the greatest figures who shaped modern India. He fought against caste-based discrimination\, orthodox beliefs and divisive politics. His weapon was science. Written by Sudipta Bhawmik and directed by Chandan Sen.
URL:https://kolkatatheatre.com/event/natya-anans-meghnad-at-academy-2/
LOCATION:Academy of Fine Arts\, 2\, Cathedral Rd\, Maidan\, Kolkata\, West Bengal 700020\, Kolkata\, West Bengal\, 700071\, India
CATEGORIES:Theatre
END:VEVENT
END:VCALENDAR