BEGIN:VCALENDAR
VERSION:2.0
PRODID:-//KolkataTheatre.com - ECPv6.15.12.2//NONSGML v1.0//EN
CALSCALE:GREGORIAN
METHOD:PUBLISH
X-WR-CALNAME:KolkataTheatre.com
X-ORIGINAL-URL:https://kolkatatheatre.com
X-WR-CALDESC:Events for KolkataTheatre.com
REFRESH-INTERVAL;VALUE=DURATION:PT1H
X-Robots-Tag:noindex
X-PUBLISHED-TTL:PT1H
BEGIN:VTIMEZONE
TZID:Asia/Kolkata
BEGIN:STANDARD
TZOFFSETFROM:+0530
TZOFFSETTO:+0530
TZNAME:IST
DTSTART:20240101T000000
END:STANDARD
END:VTIMEZONE
BEGIN:VEVENT
DTSTART;TZID=Asia/Kolkata:20250608T150000
DTEND;TZID=Asia/Kolkata:20250608T173000
DTSTAMP:20260422T050412
CREATED:20250602T184408Z
LAST-MODIFIED:20250602T184408Z
UID:13607-1749394800-1749403800@kolkatatheatre.com
SUMMARY:Aneek’s Aksharik\, at Academy
DESCRIPTION:Dramatist-director Debasish’s biodrama about Panchanan Karmakar\, the first creator of Bengali moveable typeface in the 18th century\, based on Rajat Chakraborti’s novel Panchananer Haraph. \nRecommended: ★★★★. Read my review.
URL:https://kolkatatheatre.com/event/aneeks-aksharik-at-academy-6/
LOCATION:Academy of Fine Arts\, 2\, Cathedral Rd\, Maidan\, Kolkata\, West Bengal 700020\, Kolkata\, West Bengal\, 700071\, India
CATEGORIES:Theatre
END:VEVENT
BEGIN:VEVENT
DTSTART;TZID=Asia/Kolkata:20250607T193000
DTEND;TZID=Asia/Kolkata:20250607T210000
DTSTAMP:20260422T050412
CREATED:20250605T184412Z
LAST-MODIFIED:20250605T184412Z
UID:13611-1749324600-1749330000@kolkatatheatre.com
SUMMARY:Curl’s Labor Day Reunion\, at The Urban Theatre Project
DESCRIPTION:A realist memory play written and directed by Ahon Gooptu\, developed between 2019 and 2022 in the United States. Three friends in Chicago find love and connection with each other\, until compelled to reckon with questions about their identity\, queerness and the root of their relationship. Sachi is preparing to give birth while Josh\, the father\, is running late to the hospital. Amari\, her nurse\, negotiates news about his family’s future in the US with an increasingly complicated delivery. \nFurther performances on June 8\, 13\, 14 and 15. Contact 98318 18990.
URL:https://kolkatatheatre.com/event/curls-labor-day-reunion-at-the-urban-theatre-project-2/
LOCATION:The Urban Theatre Project\, Kabir Road\, Kolkata\, 700029
CATEGORIES:Theatre
END:VEVENT
BEGIN:VEVENT
DTSTART;TZID=Asia/Kolkata:20250607T190000
DTEND;TZID=Asia/Kolkata:20250607T210000
DTSTAMP:20260422T050412
CREATED:20250602T184011Z
LAST-MODIFIED:20250602T184011Z
UID:13605-1749322800-1749330000@kolkatatheatre.com
SUMMARY:Durgapur Bhimroti’s Prati-prashna\, at Tapan
DESCRIPTION:Based on the Netflix webseries Criminal\, exploring the scars of sexual harassment in the context of an unresolved police interrogation. Adapted and directed by Dipankar Sen.
URL:https://kolkatatheatre.com/event/durgapur-bhimrotis-prati-prashna-at-tapan-2/
LOCATION:Tapan Theatre\, Kalighat
CATEGORIES:Theatre
END:VEVENT
BEGIN:VEVENT
DTSTART;TZID=Asia/Kolkata:20250606T193000
DTEND;TZID=Asia/Kolkata:20250606T210000
DTSTAMP:20260422T050412
CREATED:20250530T191251Z
LAST-MODIFIED:20250530T191251Z
UID:13599-1749238200-1749243600@kolkatatheatre.com
SUMMARY:Curl's Labor Day Reunion\, at The Urban Theatre Project
DESCRIPTION:The world premiere of a realist memory play written and directed by Ahon Gooptu\, developed between 2019 and 2022 in the United States. Three friends in Chicago find love and connection with each other\, until compelled to reckon with questions about their identity\, queerness and the root of their relationship. Sachi is preparing to give birth while Josh\, the father\, is running late to the hospital. Amari\, her nurse\, negotiates news about his family’s future in the US with an increasingly complicated delivery. \nFurther performances on June 7\, 8\, 13\, 14 and 15. Contact 98318 18990.
URL:https://kolkatatheatre.com/event/curls-labor-day-reunion-at-the-urban-theatre-project/
LOCATION:The Urban Theatre Project\, Kabir Road\, Kolkata\, 700029
CATEGORIES:Theatre
ATTACH;FMTTYPE=image/jpeg:https://kolkatatheatre.com/wp-content/uploads/2025/05/DSC01074-scaled-e1748632300611.jpg
END:VEVENT
BEGIN:VEVENT
DTSTART;TZID=Asia/Kolkata:20250601T183000
DTEND;TZID=Asia/Kolkata:20250601T203000
DTSTAMP:20260422T050412
CREATED:20250530T093554Z
LAST-MODIFIED:20250530T093554Z
UID:13595-1748802600-1748809800@kolkatatheatre.com
SUMMARY:Nat-ranga’s Ami Weds Ami\, at Madhusudan
DESCRIPTION:Revival of Sohan Bandopadhyay’s Bengali dramatization from 2010 of Charlie Fish’s short story “The Man Who Married Himself”\, about a man who does just that.
URL:https://kolkatatheatre.com/event/nat-rangas-ami-weds-ami-at-madhusudan/
LOCATION:Madhusudan Mancha\, Gariahat Rd S\, Jodhpur Park\,\, Kolkata\, West Bengal\, 700031\, India
CATEGORIES:Theatre
END:VEVENT
BEGIN:VEVENT
DTSTART;TZID=Asia/Kolkata:20250601T183000
DTEND;TZID=Asia/Kolkata:20250601T203000
DTSTAMP:20260422T050412
CREATED:20250530T093316Z
LAST-MODIFIED:20250530T093316Z
UID:13593-1748802600-1748809800@kolkatatheatre.com
SUMMARY:Sayak’s Dharmabatar\, at Girish
DESCRIPTION:Ujjwal Chattopadhyay’s play inspired by a foreign film about the personal conflict between a retired judge and his son who defends criminals. Directed by Meghnad Bhattacharya.
URL:https://kolkatatheatre.com/event/sayaks-dharmabatar-at-girish-2/
LOCATION:Girish Mancha\, Bagbazar
CATEGORIES:Theatre
END:VEVENT
BEGIN:VEVENT
DTSTART;TZID=Asia/Kolkata:20250531T183000
DTEND;TZID=Asia/Kolkata:20250531T203000
DTSTAMP:20260422T050412
CREATED:20250530T092730Z
LAST-MODIFIED:20250530T092730Z
UID:13589-1748716200-1748723400@kolkatatheatre.com
SUMMARY:Dwitiya Satta’s Na Tor Janya\, at Tapan
DESCRIPTION:Written and directed by Suman Sengupta\, a portrayal of the dilemma of an accomplished commercial artist who sells out to the ruthless and competitive contemporary ratrace.
URL:https://kolkatatheatre.com/event/dwitiya-sattas-na-tor-janya-at-tapan-3/
LOCATION:Tapan Theatre\, Kalighat
CATEGORIES:Theatre
END:VEVENT
BEGIN:VEVENT
DTSTART;TZID=Asia/Kolkata:20250531T180000
DTEND;TZID=Asia/Kolkata:20250531T203000
DTSTAMP:20260422T050412
CREATED:20250530T092955Z
LAST-MODIFIED:20250530T092955Z
UID:13591-1748714400-1748723400@kolkatatheatre.com
SUMMARY:Swapna-sandhani’s Taray Taray\, at Academy
DESCRIPTION:A psychiatrist is visited by a young man who has severe hallucinations that connect him to Van Gogh and his paintings\, questioning his own reality and that of his surroundings\, and longing to visit the alternate reality in the paintings. Excerpts from Van Gogh’s life show nearly parallel crises. Dramatized from Srijato’s novel and directed by Koushik Sen. \nRecommended: ★★★★
URL:https://kolkatatheatre.com/event/swapna-sandhanis-taray-taray-at-academy-2/
LOCATION:Academy of Fine Arts\, 2\, Cathedral Rd\, Maidan\, Kolkata\, West Bengal 700020\, Kolkata\, West Bengal\, 700071\, India
CATEGORIES:Theatre
END:VEVENT
BEGIN:VEVENT
DTSTART;TZID=Asia/Kolkata:20250530T190000
DTEND;TZID=Asia/Kolkata:20250530T200000
DTSTAMP:20260422T050412
CREATED:20250525T090334Z
LAST-MODIFIED:20250525T090334Z
UID:13582-1748631600-1748635200@kolkatatheatre.com
SUMMARY:The Red Curtain's Role Reversal\, at Kala Kunj
DESCRIPTION:An original play in English\, part of the series “Feminism is not anti-men”\, written and directed by Piyush Daga.
URL:https://kolkatatheatre.com/event/the-red-curtains-role-reversal-at-kala-kunj/
LOCATION:Kala Kunj\, Kala Mandir\, Shakespeare Sarani\, Kolkata\, 700045
CATEGORIES:Theatre
END:VEVENT
BEGIN:VEVENT
DTSTART;TZID=Asia/Kolkata:20250530T180000
DTEND;TZID=Asia/Kolkata:20250530T210000
DTSTAMP:20260422T050412
CREATED:20250526T145704Z
LAST-MODIFIED:20250526T145704Z
UID:13586-1748628000-1748638800@kolkatatheatre.com
SUMMARY:Swapna-sandhani’s Hamlet\, at Academy
DESCRIPTION:Shakespeare’s classic directed by Koushik Sen in a Bengali translation by Chaiti Mitra. \nRecommended: ★★★★ Read my review.
URL:https://kolkatatheatre.com/event/swapna-sandhanis-hamlet-at-academy-5/
LOCATION:Academy of Fine Arts\, 2\, Cathedral Rd\, Maidan\, Kolkata\, West Bengal 700020\, Kolkata\, West Bengal\, 700071\, India
CATEGORIES:Theatre
END:VEVENT
BEGIN:VEVENT
DTSTART;TZID=Asia/Kolkata:20250530T180000
DTEND;TZID=Asia/Kolkata:20250530T203000
DTSTAMP:20260422T050412
CREATED:20250525T085824Z
LAST-MODIFIED:20250525T085824Z
UID:13579-1748628000-1748637000@kolkatatheatre.com
SUMMARY:Ardere's Othello\, at ICCR
DESCRIPTION:Shakespeare’s tragedy performed in English by a student group.
URL:https://kolkatatheatre.com/event/arderes-othello-at-iccr/
LOCATION:Indian Council for Cultural Relations\, Ho Chi Minh Sarani\, Kolkata\, 700016\, India
CATEGORIES:Theatre
END:VEVENT
BEGIN:VEVENT
DTSTART;TZID=Asia/Kolkata:20250529T184000
DTEND;TZID=Asia/Kolkata:20250529T204000
DTSTAMP:20260422T050412
CREATED:20250526T145420Z
LAST-MODIFIED:20250526T145420Z
UID:13584-1748544000-1748551200@kolkatatheatre.com
SUMMARY:Kalyani Kalamandalam’s Stri\, at Madhusudan
DESCRIPTION:Based on Manik Bandyopadhyay\, about how three desperate homemakers dominated by their husbands in different socioeconomic conditions empower themselves. Dramatized and directed by Somnath Gupta.
URL:https://kolkatatheatre.com/event/kalyani-kalamandalams-stri-at-madhusudan-2/
LOCATION:Madhusudan Mancha\, Gariahat Rd S\, Jodhpur Park\,\, Kolkata\, West Bengal\, 700031\, India
CATEGORIES:Theatre
END:VEVENT
BEGIN:VEVENT
DTSTART;TZID=Asia/Kolkata:20250529T183000
DTEND;TZID=Asia/Kolkata:20250529T210000
DTSTAMP:20260422T050412
CREATED:20250525T085224Z
LAST-MODIFIED:20250525T085224Z
UID:13577-1748543400-1748552400@kolkatatheatre.com
SUMMARY:Ritabrata Productions' Rakta-karabi\, at Academy
DESCRIPTION:Rabindranath’s classic revived\, directed and acted by Chaiti Ghoshal.
URL:https://kolkatatheatre.com/event/ritabrata-productions-rakta-karabi-at-academy/
LOCATION:Academy of Fine Arts\, 2\, Cathedral Rd\, Maidan\, Kolkata\, West Bengal 700020\, Kolkata\, West Bengal\, 700071\, India
CATEGORIES:Theatre
END:VEVENT
BEGIN:VEVENT
DTSTART;TZID=Asia/Kolkata:20250525T183000
DTEND;TZID=Asia/Kolkata:20250525T210000
DTSTAMP:20260422T050412
CREATED:20250522T181252Z
LAST-MODIFIED:20250522T181252Z
UID:13575-1748197800-1748206800@kolkatatheatre.com
SUMMARY:Rangapat’s He Sindhusaras\, at Academy
DESCRIPTION:Rangapat’s latest production\, based by dramatist Ujjwal Chattopadhyay on the making of Chekhov’s classic The Seagull\, recreating the work of the Moscow Art Theatre\, its director Stanislavski and lead actress Olga Knipper (Chekhov’s wife). Directed by Tapanjyoti.
URL:https://kolkatatheatre.com/event/rangapats-he-sindhusaras-at-academy-2/
LOCATION:Academy of Fine Arts\, 2\, Cathedral Rd\, Maidan\, Kolkata\, West Bengal 700020\, Kolkata\, West Bengal\, 700071\, India
CATEGORIES:Theatre
END:VEVENT
BEGIN:VEVENT
DTSTART;TZID=Asia/Kolkata:20250524T183000
DTEND;TZID=Asia/Kolkata:20250524T203000
DTSTAMP:20260422T050412
CREATED:20250522T180729Z
LAST-MODIFIED:20250522T180729Z
UID:13573-1748111400-1748118600@kolkatatheatre.com
SUMMARY:Nandipat’s Chandrabati Katha\, at Academy
DESCRIPTION:Ujjwal Chattopadhyay’s play about Chandrabati\, the 16th-century poet who composed the first Bangla Ramayan from the perspective of Sita\, as well as parts of the Maimansingha Gitika. Directed by Prokash Bhattacharya.
URL:https://kolkatatheatre.com/event/nandipats-chandrabati-katha-at-academy-2/
LOCATION:Academy of Fine Arts\, 2\, Cathedral Rd\, Maidan\, Kolkata\, West Bengal 700020\, Kolkata\, West Bengal\, 700071\, India
CATEGORIES:Theatre
END:VEVENT
BEGIN:VEVENT
DTSTART;TZID=Asia/Kolkata:20250524T183000
DTEND;TZID=Asia/Kolkata:20250524T203000
DTSTAMP:20260422T050412
CREATED:20250522T180506Z
LAST-MODIFIED:20250522T180828Z
UID:13570-1748111400-1748118600@kolkatatheatre.com
SUMMARY:Durgadas Smrity Sangha’s Joyar Bhatir Kabya\, at Madhusudan
DESCRIPTION:Based on research in the Sundarban about the secular worship of Banbibi\, rights to water\, jungle and life\, and the terrible menace of trafficking. Written and directed by Kingshuk Bandhopadhyay.
URL:https://kolkatatheatre.com/event/durgadas-smrity-sanghas-joyar-bhatir-kabya-at-madhusudan-2/
LOCATION:Madhusudan Mancha\, Gariahat Rd S\, Jodhpur Park\,\, Kolkata\, West Bengal\, 700031\, India
CATEGORIES:Theatre
END:VEVENT
BEGIN:VEVENT
DTSTART;TZID=Asia/Kolkata:20250523T183000
DTEND;TZID=Asia/Kolkata:20250523T203000
DTSTAMP:20260422T050412
CREATED:20250518T200557Z
LAST-MODIFIED:20250518T200557Z
UID:13565-1748025000-1748032200@kolkatatheatre.com
SUMMARY:Theatre Workshop’s Agnishajya\, at Madhusudan
DESCRIPTION:Utpal Dutt’s historical play about Ram Mohun Roy’s anti-sati activism\, revived and directed by Ashok Mukhopadhyay.
URL:https://kolkatatheatre.com/event/theatre-workshops-agnishajya-at-madhusudan/
LOCATION:Madhusudan Mancha\, Gariahat Rd S\, Jodhpur Park\,\, Kolkata\, West Bengal\, 700031\, India
CATEGORIES:Theatre
END:VEVENT
BEGIN:VEVENT
DTSTART;TZID=Asia/Kolkata:20250522T183000
DTEND;TZID=Asia/Kolkata:20250522T210000
DTSTAMP:20260422T050412
CREATED:20250518T200204Z
LAST-MODIFIED:20250518T200205Z
UID:13563-1747938600-1747947600@kolkatatheatre.com
SUMMARY:Ganakrishti’s Athaba Rabithakur\, at Academy
DESCRIPTION:Adapted from Slovenian dramatist Evald Flisar’s What about Leonardo\, set in a neurological institute\, and directed by Amitava Dutta.
URL:https://kolkatatheatre.com/event/ganakrishtis-athaba-rabithakur-at-academy-5/
LOCATION:Academy of Fine Arts\, 2\, Cathedral Rd\, Maidan\, Kolkata\, West Bengal 700020\, Kolkata\, West Bengal\, 700071\, India
CATEGORIES:Theatre
END:VEVENT
BEGIN:VEVENT
DTSTART;TZID=Asia/Kolkata:20250522T183000
DTEND;TZID=Asia/Kolkata:20250522T203000
DTSTAMP:20260422T050412
CREATED:20250521T153551Z
LAST-MODIFIED:20250521T153551Z
UID:13568-1747938600-1747945800@kolkatatheatre.com
SUMMARY:Paikpara Akhor's Jharer Kheya\, at Girish
DESCRIPTION:Translated from Lillian Hellman’s awardwinning Watch on the Rhine (1941) about an anti-Fascist German visiting the US during World War II\, and his encounter with a Nazi supporter. Directed by Asit Basu.
URL:https://kolkatatheatre.com/event/paikpara-akhors-jharer-kheya-at-girish/
LOCATION:Girish Mancha\, Bagbazar
CATEGORIES:Theatre
END:VEVENT
BEGIN:VEVENT
DTSTART;TZID=Asia/Kolkata:20250521T183000
DTEND;TZID=Asia/Kolkata:20250521T203000
DTSTAMP:20260422T050412
CREATED:20250518T195952Z
LAST-MODIFIED:20250518T195952Z
UID:13561-1747852200-1747859400@kolkatatheatre.com
SUMMARY:Chetla Krishti Sansad’s Amar Gan\, at Academy
DESCRIPTION:A blind and wheelchair-bound youth\, highly intelligent\, wants to know about light from his physicist father. Written and directed by Suman Sengupta. \nRecommended: ★★★★. Read my review.
URL:https://kolkatatheatre.com/event/chetla-krishti-sansads-amar-gan-at-academy/
LOCATION:Academy of Fine Arts\, 2\, Cathedral Rd\, Maidan\, Kolkata\, West Bengal 700020\, Kolkata\, West Bengal\, 700071\, India
CATEGORIES:Theatre
END:VEVENT
BEGIN:VEVENT
DTSTART;TZID=Asia/Kolkata:20250520T183000
DTEND;TZID=Asia/Kolkata:20250520T210000
DTSTAMP:20260422T050412
CREATED:20250518T195253Z
LAST-MODIFIED:20250518T195253Z
UID:13557-1747765800-1747774800@kolkatatheatre.com
SUMMARY:Aneek’s Aksharik\, at Tapan
DESCRIPTION:Dramatist-director Debasish’s biodrama about Panchanan Karmakar\, the first creator of Bengali moveable typeface in the 18th century\, based on Rajat Chakraborti’s novel Panchananer Haraph. \nRecommended: ★★★★. Read my review.
URL:https://kolkatatheatre.com/event/aneeks-aksharik-at-tapan-5/
LOCATION:Tapan Theatre\, Kalighat
CATEGORIES:Theatre
END:VEVENT
BEGIN:VEVENT
DTSTART;TZID=Asia/Kolkata:20250520T183000
DTEND;TZID=Asia/Kolkata:20250520T204000
DTSTAMP:20260422T050412
CREATED:20250518T195613Z
LAST-MODIFIED:20250518T195613Z
UID:13559-1747765800-1747773600@kolkatatheatre.com
SUMMARY:Chetana’s Hibijibi Bahini\, at Academy
DESCRIPTION:A “non-sense” production with child and adult actors\, written and directed by Sujan Mukhopadhyay. Alibaba\, accompanied by his trusty donkey\, opens the door to the cave and discovers no treasure but ancient\, worthless artifacts and a rusted lamp from which emerges the Genie. Meanwhile\, the band of thieves finds themselves devoid of any occupation in today’s hyper-competitive world of employment\, and a magician enters their den.
URL:https://kolkatatheatre.com/event/chetanas-hibijibi-bahini-at-academy-3/
LOCATION:Academy of Fine Arts\, 2\, Cathedral Rd\, Maidan\, Kolkata\, West Bengal 700020\, Kolkata\, West Bengal\, 700071\, India
CATEGORIES:Theatre
END:VEVENT
BEGIN:VEVENT
DTSTART;TZID=Asia/Kolkata:20250520T183000
DTEND;TZID=Asia/Kolkata:20250520T200000
DTSTAMP:20260422T050412
CREATED:20250518T195006Z
LAST-MODIFIED:20250518T195006Z
UID:13555-1747765800-1747771200@kolkatatheatre.com
SUMMARY:Renaissance’s Toba Tek Singh\, at Girish
DESCRIPTION:Saadat Hasan Manto’s classic story dramatized and expanded by Rajesh Kumar and directed by Aloke Chakravorty in Hindi.
URL:https://kolkatatheatre.com/event/renaissances-toba-tek-singh-at-girish/
LOCATION:Girish Mancha\, Bagbazar
CATEGORIES:Theatre
END:VEVENT
BEGIN:VEVENT
DTSTART;TZID=Asia/Kolkata:20250519T183000
DTEND;TZID=Asia/Kolkata:20250519T204000
DTSTAMP:20260422T050412
CREATED:20250516T183551Z
LAST-MODIFIED:20250516T183551Z
UID:13553-1747679400-1747687200@kolkatatheatre.com
SUMMARY:Sanglap Kolkata’s Hulusthul\, at Academy
DESCRIPTION:Dramatized from Shirshendu Mukhopadhyay’s Ek Āshcharja Pheriwālā by Kuntal Mukhopadhyay and directed by Debasish. A mysterious hawker sells seemingly useless things\, which evil people conspire to capture\, while an eccentric scientist pursues his thirst for knowledge\, \nRecommended: ★★★★. Read my review.
URL:https://kolkatatheatre.com/event/sanglap-kolkatas-hulusthul-at-academy-4/
LOCATION:Academy of Fine Arts\, 2\, Cathedral Rd\, Maidan\, Kolkata\, West Bengal 700020\, Kolkata\, West Bengal\, 700071\, India
CATEGORIES:Theatre
END:VEVENT
BEGIN:VEVENT
DTSTART;TZID=Asia/Kolkata:20250518T190000
DTEND;TZID=Asia/Kolkata:20250518T210000
DTSTAMP:20260422T050412
CREATED:20250513T181043Z
LAST-MODIFIED:20250513T181043Z
UID:13534-1747594800-1747602000@kolkatatheatre.com
SUMMARY:Aneek’s Pirandello o Puppeteer\, at Tapan
DESCRIPTION:Based on the life of famous Italian playwright Luigi Pirandello. Written by Chandan Sen and directed by Arup Kumar Roy.
URL:https://kolkatatheatre.com/event/aneeks-pirandello-o-puppeteer-at-tapan-3/
LOCATION:Tapan Theatre\, Kalighat
CATEGORIES:Theatre
END:VEVENT
BEGIN:VEVENT
DTSTART;TZID=Asia/Kolkata:20250518T183000
DTEND;TZID=Asia/Kolkata:20250518T203000
DTSTAMP:20260422T050412
CREATED:20250513T182114Z
LAST-MODIFIED:20250513T182114Z
UID:13540-1747593000-1747600200@kolkatatheatre.com
SUMMARY:Anya Theatre’s Aparajita\, at Madhusudan
DESCRIPTION:Nitish Sen’s classic solo play reinterpreted and directed by Turna Das\, inspired by the concept of Edward Albee’s Three Tall Women.
URL:https://kolkatatheatre.com/event/anya-theatres-aparajita-at-madhusudan/
LOCATION:Madhusudan Mancha\, Gariahat Rd S\, Jodhpur Park\,\, Kolkata\, West Bengal\, 700031\, India
CATEGORIES:Theatre
END:VEVENT
BEGIN:VEVENT
DTSTART;TZID=Asia/Kolkata:20250518T183000
DTEND;TZID=Asia/Kolkata:20250518T203000
DTSTAMP:20260422T050412
CREATED:20250513T181310Z
LAST-MODIFIED:20250513T181310Z
UID:13536-1747593000-1747600200@kolkatatheatre.com
SUMMARY:Purbaranga’s Sitayan\, at Girish
DESCRIPTION:Written and directed by Malay Ray\, inspired by Mallika Sengupta’s novel on Sita’s story rather than Rama’s. \nRecommended: ★★★★. Read my review.
URL:https://kolkatatheatre.com/event/purbarangas-sitayan-at-girish/
LOCATION:Girish Mancha\, Bagbazar
CATEGORIES:Theatre
END:VEVENT
BEGIN:VEVENT
DTSTART;TZID=Asia/Kolkata:20250518T150000
DTEND;TZID=Asia/Kolkata:20250518T173000
DTSTAMP:20260422T050412
CREATED:20250513T181649Z
LAST-MODIFIED:20250513T181649Z
UID:13538-1747580400-1747589400@kolkatatheatre.com
SUMMARY:Naya Theatre (Bhopal)’s Charandas Chor\, at Academy
DESCRIPTION:Habib Tanvir’s timeless contemporary classic\, continuing in the production originally directed by him. \nRecommended: ★★★★
URL:https://kolkatatheatre.com/event/naya-theatre-bhopals-charandas-chor-at-academy-2/
LOCATION:Academy of Fine Arts\, 2\, Cathedral Rd\, Maidan\, Kolkata\, West Bengal 700020\, Kolkata\, West Bengal\, 700071\, India
CATEGORIES:Theatre
END:VEVENT
BEGIN:VEVENT
DTSTART;TZID=Asia/Kolkata:20250518T150000
DTEND;TZID=Asia/Kolkata:20250518T170000
DTSTAMP:20260422T050412
CREATED:20250513T180627Z
LAST-MODIFIED:20250513T180627Z
UID:13531-1747580400-1747587600@kolkatatheatre.com
SUMMARY:Rabindra Bharati's Jhilimili Ankabanka\, at Tapan
DESCRIPTION:A biodrama on the life and philosophy of Kazi Nazrul Islam above and beyond his image as “the revolutionary poet”\, written by Ratan Sanyamath and directed by Gagandeep.
URL:https://kolkatatheatre.com/event/rabindra-bharatis-jhilimili-ankabanka-at-tapan/
LOCATION:Tapan Theatre\, Kalighat
CATEGORIES:Theatre
ATTACH;FMTTYPE=image/jpeg:https://kolkatatheatre.com/wp-content/uploads/2025/05/Jhilimili-2.jpg
END:VEVENT
BEGIN:VEVENT
DTSTART;TZID=Asia/Kolkata:20250517T183000
DTEND;TZID=Asia/Kolkata:20250517T203000
DTSTAMP:20260422T050412
CREATED:20250513T175351Z
LAST-MODIFIED:20250513T175351Z
UID:13529-1747506600-1747513800@kolkatatheatre.com
SUMMARY:Naya Theatre (Bhopal)'s Kamdev ka Apna Basant Ritu ka Sapna\, at Academy
DESCRIPTION:Revival of Habib Tanvir’s Chhattisgarhi adaptation of Shakespeare’s Midsummer Night’s Dream. Hugely entertaining and the rustic Mechanicals a riot. \nRecommended: ★★★★.
URL:https://kolkatatheatre.com/event/naya-theatre-bhopals-kamdev-ka-apna-basant-ritu-ka-sapna-at-academy/
LOCATION:Academy of Fine Arts\, 2\, Cathedral Rd\, Maidan\, Kolkata\, West Bengal 700020\, Kolkata\, West Bengal\, 700071\, India
CATEGORIES:Theatre
END:VEVENT
END:VCALENDAR