BEGIN:VCALENDAR
VERSION:2.0
PRODID:-//KolkataTheatre.com - ECPv6.15.12.2//NONSGML v1.0//EN
CALSCALE:GREGORIAN
METHOD:PUBLISH
X-WR-CALNAME:KolkataTheatre.com
X-ORIGINAL-URL:https://kolkatatheatre.com
X-WR-CALDESC:Events for KolkataTheatre.com
REFRESH-INTERVAL;VALUE=DURATION:PT1H
X-Robots-Tag:noindex
X-PUBLISHED-TTL:PT1H
BEGIN:VTIMEZONE
TZID:Asia/Kolkata
BEGIN:STANDARD
TZOFFSETFROM:+0530
TZOFFSETTO:+0530
TZNAME:IST
DTSTART:20240101T000000
END:STANDARD
END:VTIMEZONE
BEGIN:VEVENT
DTSTART;TZID=Asia/Kolkata:20250624T183000
DTEND;TZID=Asia/Kolkata:20250624T203000
DTSTAMP:20260422T080824
CREATED:20250622T115114Z
LAST-MODIFIED:20250622T115114Z
UID:13659-1750789800-1750797000@kolkatatheatre.com
SUMMARY:Renaissance’s Charandas MLA\, at Madhusudan
DESCRIPTION:Revival of Renaissance’s Hindi production from the 1990s. Dramatized from Satinath Bhaduri’s satirical story by Partha Sarathi Upadhyay and directed by Bimal Chakraborty.
URL:https://kolkatatheatre.com/event/renaissances-charandas-mla-at-madhusudan-2/
LOCATION:Madhusudan Mancha\, Gariahat Rd S\, Jodhpur Park\,\, Kolkata\, West Bengal\, 700031\, India
CATEGORIES:Theatre
END:VEVENT
BEGIN:VEVENT
DTSTART;TZID=Asia/Kolkata:20250624T183000
DTEND;TZID=Asia/Kolkata:20250624T203000
DTSTAMP:20260422T080824
CREATED:20250622T114036Z
LAST-MODIFIED:20250622T114036Z
UID:13657-1750789800-1750797000@kolkatatheatre.com
SUMMARY:Rangapat’s He Sindhusaras\, at Academy
DESCRIPTION:Rangapat’s latest production\, based by dramatist Ujjwal Chattopadhyay on the making of Chekhov’s classic The Seagull\, recreating the work of the Moscow Art Theatre\, its director Stanislavski and lead actress Olga Knipper (Chekhov’s wife). Directed by Tapanjyoti.
URL:https://kolkatatheatre.com/event/rangapats-he-sindhusaras-at-academy-3/
LOCATION:Academy of Fine Arts\, 2\, Cathedral Rd\, Maidan\, Kolkata\, West Bengal 700020\, Kolkata\, West Bengal\, 700071\, India
CATEGORIES:Theatre
END:VEVENT
BEGIN:VEVENT
DTSTART;TZID=Asia/Kolkata:20250622T183000
DTEND;TZID=Asia/Kolkata:20250622T210000
DTSTAMP:20260422T080824
CREATED:20250619T185934Z
LAST-MODIFIED:20250619T185934Z
UID:13650-1750617000-1750626000@kolkatatheatre.com
SUMMARY:Angik’s Binodini Opera\, at Birla Sabhagar
DESCRIPTION:Biographical drama on Nati Binodini co-written by Abanti Chakraborty and Sibashis Bandyopadhyay\, and directed by Abanti Chakraborty. Read my review.
URL:https://kolkatatheatre.com/event/angiks-binodini-opera-at-birla-sabhagar/
LOCATION:G D Birla Sabhagar\, 29 Ashutosh Chowdhury Avenue\, Kolkata\, 700019
CATEGORIES:Theatre
END:VEVENT
BEGIN:VEVENT
DTSTART;TZID=Asia/Kolkata:20250622T183000
DTEND;TZID=Asia/Kolkata:20250622T203000
DTSTAMP:20260422T080824
CREATED:20250619T192622Z
LAST-MODIFIED:20250619T192622Z
UID:13655-1750617000-1750624200@kolkatatheatre.com
SUMMARY:Kalyani Natyacharcha Kendra's Nim Amrita\, at Academy
DESCRIPTION:Premiere of an adaptation from Somerset Maugham’s play on euthanasia\, The Sacred Flame\, by Bhaskar Lahiri and directed by Kishore Sengupta.
URL:https://kolkatatheatre.com/event/kalyani-natyacharcha-kendras-nim-amrita-at-academy/
LOCATION:Academy of Fine Arts\, 2\, Cathedral Rd\, Maidan\, Kolkata\, West Bengal 700020\, Kolkata\, West Bengal\, 700071\, India
CATEGORIES:Theatre
END:VEVENT
BEGIN:VEVENT
DTSTART;TZID=Asia/Kolkata:20250622T183000
DTEND;TZID=Asia/Kolkata:20250622T203000
DTSTAMP:20260422T080824
CREATED:20250619T190311Z
LAST-MODIFIED:20250619T190311Z
UID:13652-1750617000-1750624200@kolkatatheatre.com
SUMMARY:Shohan’s Amirah\, at Madhusudan
DESCRIPTION:Inspired by Sophocles’ classic Greek tragedy Antigone\, Indianized by Anirban Sen and directed by Anish Ghosh.
URL:https://kolkatatheatre.com/event/shohans-amirah-at-madhusudan-3/
LOCATION:Madhusudan Mancha\, Gariahat Rd S\, Jodhpur Park\,\, Kolkata\, West Bengal\, 700031\, India
CATEGORIES:Theatre
END:VEVENT
BEGIN:VEVENT
DTSTART;TZID=Asia/Kolkata:20250621T183000
DTEND;TZID=Asia/Kolkata:20250621T203000
DTSTAMP:20260422T080824
CREATED:20250619T184957Z
LAST-MODIFIED:20250619T184957Z
UID:13646-1750530600-1750537800@kolkatatheatre.com
SUMMARY:Rangroop's Jadi Ar Ekbar\, at Academy
DESCRIPTION:Marking the birth centenary of Badal Sircar\, the premiere of Rangroop’s revival of his perennial early comedy about wish fulfilment. Directed by Sima Mukhopadhyay.
URL:https://kolkatatheatre.com/event/rangroops-jadi-ar-ekbar-at-academy/
LOCATION:Academy of Fine Arts\, 2\, Cathedral Rd\, Maidan\, Kolkata\, West Bengal 700020\, Kolkata\, West Bengal\, 700071\, India
CATEGORIES:Theatre
END:VEVENT
BEGIN:VEVENT
DTSTART;TZID=Asia/Kolkata:20250621T143000
DTEND;TZID=Asia/Kolkata:20250621T170000
DTSTAMP:20260422T080824
CREATED:20250619T185429Z
LAST-MODIFIED:20250619T185429Z
UID:13648-1750516200-1750525200@kolkatatheatre.com
SUMMARY:Samstab’s Gaurer Kabach\, at Academy
DESCRIPTION:Shirshendu Mukhopadhyay’s magical story about Gaur\, who loves to play the flute\, and is loved by the ancient folk in his village\, threatened by the arrival of a man who wants to take over everything. Dramatized and directed by Suman Sengupta. \nRecommended: ★★★★. Read my review.
URL:https://kolkatatheatre.com/event/samstabs-gaurer-kabach-at-academy-4/
LOCATION:Academy of Fine Arts\, 2\, Cathedral Rd\, Maidan\, Kolkata\, West Bengal 700020\, Kolkata\, West Bengal\, 700071\, India
CATEGORIES:Theatre
END:VEVENT
BEGIN:VEVENT
DTSTART;TZID=Asia/Kolkata:20250620T183000
DTEND;TZID=Asia/Kolkata:20250620T203000
DTSTAMP:20260422T080824
CREATED:20250615T134819Z
LAST-MODIFIED:20250615T134819Z
UID:13642-1750444200-1750451400@kolkatatheatre.com
SUMMARY:Anya Theatre’s Caretaker\, at Gyan Manch
DESCRIPTION:Harold Pinter’s early drama translated into Bengali and directed by Arindam Mukherjee.
URL:https://kolkatatheatre.com/event/anya-theatres-caretaker-at-gyan-manch-2/
LOCATION:Gyan Manch\, Gyan Manch\, 11\, Pretoria St\, Kolkata\, West Bengal\, 700071\, India
CATEGORIES:Theatre
END:VEVENT
BEGIN:VEVENT
DTSTART;TZID=Asia/Kolkata:20250619T183000
DTEND;TZID=Asia/Kolkata:20250619T200000
DTSTAMP:20260422T080824
CREATED:20250616T072520Z
LAST-MODIFIED:20250616T072520Z
UID:13644-1750357800-1750363200@kolkatatheatre.com
SUMMARY:Little Thespian’s Endgame\, at Sisir Mancha
DESCRIPTION:Samuel Beckett’s classic Endgame\, translated into Hindi by Uma Jhunjhunwala and directed by S. M. Azhar Alam. \nRecommended: ★★★★. Read review here.
URL:https://kolkatatheatre.com/event/little-thespians-endgame-at-sisir-mancha/
LOCATION:Sisir Mancha\, 1/1 A J C Bose Road\, Kolkata
CATEGORIES:Theatre
END:VEVENT
BEGIN:VEVENT
DTSTART;TZID=Asia/Kolkata:20250616T183000
DTEND;TZID=Asia/Kolkata:20250616T203000
DTSTAMP:20260422T080824
CREATED:20250614T074027Z
LAST-MODIFIED:20250614T074027Z
UID:13638-1750098600-1750105800@kolkatatheatre.com
SUMMARY:Chhandaneer's Tor Bhitare Jagiya Ke Je\, at Madhusudan
DESCRIPTION:A dance-drama interpretation of Shakespeare’s Macbeth directed in Bharatanatyam style by Soumalini Sengupta.
URL:https://kolkatatheatre.com/event/chhandaneers-tor-bhitare-jagiya-ke-je-at-madhusudan/
LOCATION:Madhusudan Mancha\, Gariahat Rd S\, Jodhpur Park\,\, Kolkata\, West Bengal\, 700031\, India
CATEGORIES:Theatre
END:VEVENT
BEGIN:VEVENT
DTSTART;TZID=Asia/Kolkata:20250615T193000
DTEND;TZID=Asia/Kolkata:20250615T210000
DTSTAMP:20260422T080824
CREATED:20250614T073254Z
LAST-MODIFIED:20250614T073254Z
UID:13636-1750015800-1750021200@kolkatatheatre.com
SUMMARY:Curl’s Labor Day Reunion\, at The Urban Theatre Project
DESCRIPTION:A realist memory play written and directed by Ahon Gooptu\, developed between 2019 and 2022 in the United States. Three friends in Chicago find love and connection with each other\, until compelled to reckon with questions about their identity\, queerness and the root of their relationship. Sachi is preparing to give birth while Josh\, the father\, is running late to the hospital. Amari\, her nurse\, negotiates news about his family’s future in the US with an increasingly complicated delivery. \nRecommended: ★★★★. Contact 98318 18990.
URL:https://kolkatatheatre.com/event/curls-labor-day-reunion-at-the-urban-theatre-project-6/
LOCATION:The Urban Theatre Project\, Kabir Road\, Kolkata\, 700029
CATEGORIES:Theatre
END:VEVENT
BEGIN:VEVENT
DTSTART;TZID=Asia/Kolkata:20250615T183000
DTEND;TZID=Asia/Kolkata:20250615T210000
DTSTAMP:20260422T080824
CREATED:20250612T085516Z
LAST-MODIFIED:20250612T085516Z
UID:13632-1750012200-1750021200@kolkatatheatre.com
SUMMARY:Mukhomukhi’s Tiner Taloyar\, at Academy
DESCRIPTION:Utpal Dutt’s classic play\, directed by Suman Mukhopadhyay. \nRecommended: ★★★★ Read my review.
URL:https://kolkatatheatre.com/event/mukhomukhis-tiner-taloyar-at-academy-7/
LOCATION:Academy of Fine Arts\, 2\, Cathedral Rd\, Maidan\, Kolkata\, West Bengal 700020\, Kolkata\, West Bengal\, 700071\, India
CATEGORIES:Theatre
END:VEVENT
BEGIN:VEVENT
DTSTART;TZID=Asia/Kolkata:20250615T183000
DTEND;TZID=Asia/Kolkata:20250615T204000
DTSTAMP:20260422T080824
CREATED:20250612T085317Z
LAST-MODIFIED:20250612T085317Z
UID:13630-1750012200-1750020000@kolkatatheatre.com
SUMMARY:Sanglap Kolkata’s Hulusthul\, at Girish
DESCRIPTION:Dramatized from Shirshendu Mukhopadhyay’s Ek Āshcharja Pheriwālā by Kuntal Mukhopadhyay and directed by Debasish. A mysterious hawker sells seemingly useless things\, which evil people conspire to capture\, while an eccentric scientist pursues his thirst for knowledge\, \nRecommended: ★★★★. Read my review.
URL:https://kolkatatheatre.com/event/sanglap-kolkatas-hulusthul-at-girish-2/
LOCATION:Girish Mancha\, Bagbazar
CATEGORIES:Theatre
END:VEVENT
BEGIN:VEVENT
DTSTART;TZID=Asia/Kolkata:20250615T150000
DTEND;TZID=Asia/Kolkata:20250615T170000
DTSTAMP:20260422T080824
CREATED:20250612T085818Z
LAST-MODIFIED:20250612T085818Z
UID:13634-1749999600-1750006800@kolkatatheatre.com
SUMMARY:Chetana’s Hibijibi Bahini\, at Academy
DESCRIPTION:A “non-sense” production with child and adult actors\, written and directed by Sujan Mukhopadhyay. Alibaba\, accompanied by his trusty donkey\, opens the door to the cave and discovers no treasure but ancient\, worthless artifacts and a rusted lamp from which emerges the Genie. Meanwhile\, the band of thieves finds themselves devoid of any occupation in today’s hyper-competitive world of employment\, and a magician enters their den.
URL:https://kolkatatheatre.com/event/chetanas-hibijibi-bahini-at-academy-4/
LOCATION:Academy of Fine Arts\, 2\, Cathedral Rd\, Maidan\, Kolkata\, West Bengal 700020\, Kolkata\, West Bengal\, 700071\, India
CATEGORIES:Theatre
END:VEVENT
BEGIN:VEVENT
DTSTART;TZID=Asia/Kolkata:20250614T193000
DTEND;TZID=Asia/Kolkata:20250614T210000
DTSTAMP:20260422T080825
CREATED:20250612T084959Z
LAST-MODIFIED:20250612T084959Z
UID:13628-1749929400-1749934800@kolkatatheatre.com
SUMMARY:Curl’s Labor Day Reunion\, at The Urban Theatre Project
DESCRIPTION:A realist memory play written and directed by Ahon Gooptu\, developed between 2019 and 2022 in the United States. Three friends in Chicago find love and connection with each other\, until compelled to reckon with questions about their identity\, queerness and the root of their relationship. Sachi is preparing to give birth while Josh\, the father\, is running late to the hospital. Amari\, her nurse\, negotiates news about his family’s future in the US with an increasingly complicated delivery. \nRecommended: ★★★★. Final performance on June 15. Contact 98318 18990.
URL:https://kolkatatheatre.com/event/curls-labor-day-reunion-at-the-urban-theatre-project-5/
LOCATION:The Urban Theatre Project\, Kabir Road\, Kolkata\, 700029
CATEGORIES:Theatre
END:VEVENT
BEGIN:VEVENT
DTSTART;TZID=Asia/Kolkata:20250613T193000
DTEND;TZID=Asia/Kolkata:20250613T210000
DTSTAMP:20260422T080825
CREATED:20250610T104438Z
LAST-MODIFIED:20250610T104438Z
UID:13624-1749843000-1749848400@kolkatatheatre.com
SUMMARY:Curl’s Labor Day Reunion\, at The Urban Theatre Project
DESCRIPTION:A realist memory play written and directed by Ahon Gooptu\, developed between 2019 and 2022 in the United States. Three friends in Chicago find love and connection with each other\, until compelled to reckon with questions about their identity\, queerness and the root of their relationship. Sachi is preparing to give birth while Josh\, the father\, is running late to the hospital. Amari\, her nurse\, negotiates news about his family’s future in the US with an increasingly complicated delivery. \nRecommended: ★★★★. Further performances on June 14 and 15. Contact 98318 18990.
URL:https://kolkatatheatre.com/event/curls-labor-day-reunion-at-the-urban-theatre-project-4/
LOCATION:The Urban Theatre Project\, Kabir Road\, Kolkata\, 700029
CATEGORIES:Theatre
END:VEVENT
BEGIN:VEVENT
DTSTART;TZID=Asia/Kolkata:20250612T183000
DTEND;TZID=Asia/Kolkata:20250612T203000
DTSTAMP:20260422T080825
CREATED:20250607T144450Z
LAST-MODIFIED:20250607T144450Z
UID:13622-1749753000-1749760200@kolkatatheatre.com
SUMMARY:Paikpara Akhor’s Jharer Kheya\, at Academy
DESCRIPTION:Translated from Lillian Hellman’s awardwinning Watch on the Rhine (1941) about an anti-Fascist German visiting the US during World War II\, and his encounter with a Nazi supporter. Directed by Asit Basu.
URL:https://kolkatatheatre.com/event/paikpara-akhors-jharer-kheya-at-academy/
LOCATION:Academy of Fine Arts\, 2\, Cathedral Rd\, Maidan\, Kolkata\, West Bengal 700020\, Kolkata\, West Bengal\, 700071\, India
CATEGORIES:Theatre
END:VEVENT
BEGIN:VEVENT
DTSTART;TZID=Asia/Kolkata:20250610T183000
DTEND;TZID=Asia/Kolkata:20250610T200000
DTSTAMP:20260422T080825
CREATED:20250607T143539Z
LAST-MODIFIED:20250607T143539Z
UID:13619-1749580200-1749585600@kolkatatheatre.com
SUMMARY:Renaissance’s Toba Tek Singh\, at Rabindra Sadan
DESCRIPTION:Saadat Hasan Manto’s classic story dramatized and expanded by Rajesh Kumar and directed by Aloke Chakravorty in Hindi.
URL:https://kolkatatheatre.com/event/renaissances-toba-tek-singh-at-rabindra-sadan/
LOCATION:Rabindra Sadan\, Cathedral Road\, Kolkata\, 700016
CATEGORIES:Theatre
END:VEVENT
BEGIN:VEVENT
DTSTART;TZID=Asia/Kolkata:20250609T183000
DTEND;TZID=Asia/Kolkata:20250609T203000
DTSTAMP:20260422T080825
CREATED:20250607T143321Z
LAST-MODIFIED:20250607T143321Z
UID:13617-1749493800-1749501000@kolkatatheatre.com
SUMMARY:Kalyani Kalamandalam's Radha-Ramkrishna\, at Academy
DESCRIPTION:An original play written by Rakesh Ghosh and directed by Santanu Das\, on Girish Ghosh’s historic production of Chaitanya Lila in which Nati Binodini stunned audiences with her male impersonation\, while Ramkrishna nurtured Radha’s feminine bhava in himself and ultimately blessed Binodini after watching her performance.
URL:https://kolkatatheatre.com/event/kalyani-kalamandalams-radha-ramkrishna-at-academy/
LOCATION:Academy of Fine Arts\, 2\, Cathedral Rd\, Maidan\, Kolkata\, West Bengal 700020\, Kolkata\, West Bengal\, 700071\, India
CATEGORIES:Theatre
END:VEVENT
BEGIN:VEVENT
DTSTART;TZID=Asia/Kolkata:20250608T193000
DTEND;TZID=Asia/Kolkata:20250608T210000
DTSTAMP:20260422T080825
CREATED:20250605T184703Z
LAST-MODIFIED:20250605T184703Z
UID:13614-1749411000-1749416400@kolkatatheatre.com
SUMMARY:Curl's Labor Day Reunion\, at The Urban Theatre Project
DESCRIPTION:A realist memory play written and directed by Ahon Gooptu\, developed between 2019 and 2022 in the United States. Three friends in Chicago find love and connection with each other\, until compelled to reckon with questions about their identity\, queerness and the root of their relationship. Sachi is preparing to give birth while Josh\, the father\, is running late to the hospital. Amari\, her nurse\, negotiates news about his family’s future in the US with an increasingly complicated delivery. \nFurther performances on June 13\, 14 and 15. Contact 98318 18990.
URL:https://kolkatatheatre.com/event/curls-labor-day-reunion-at-the-urban-theatre-project-3/
LOCATION:The Urban Theatre Project\, Kabir Road\, Kolkata\, 700029
CATEGORIES:Theatre
END:VEVENT
BEGIN:VEVENT
DTSTART;TZID=Asia/Kolkata:20250608T183000
DTEND;TZID=Asia/Kolkata:20250608T204000
DTSTAMP:20260422T080825
CREATED:20250602T184810Z
LAST-MODIFIED:20250602T184810Z
UID:13609-1749407400-1749415200@kolkatatheatre.com
SUMMARY:Nirbak’s Saodagarer Nauka\, at Girish
DESCRIPTION:Revival of Ajitesh Bandopadhyay’s drama about the crisis of identity and relevance of a Jatra artiste. Directed by Ashok Mukhopadhyay.
URL:https://kolkatatheatre.com/event/nirbaks-saodagarer-nauka-at-girish-2/
LOCATION:Girish Mancha\, Bagbazar
CATEGORIES:Theatre
END:VEVENT
BEGIN:VEVENT
DTSTART;TZID=Asia/Kolkata:20250608T150000
DTEND;TZID=Asia/Kolkata:20250608T173000
DTSTAMP:20260422T080825
CREATED:20250602T184408Z
LAST-MODIFIED:20250602T184408Z
UID:13607-1749394800-1749403800@kolkatatheatre.com
SUMMARY:Aneek’s Aksharik\, at Academy
DESCRIPTION:Dramatist-director Debasish’s biodrama about Panchanan Karmakar\, the first creator of Bengali moveable typeface in the 18th century\, based on Rajat Chakraborti’s novel Panchananer Haraph. \nRecommended: ★★★★. Read my review.
URL:https://kolkatatheatre.com/event/aneeks-aksharik-at-academy-6/
LOCATION:Academy of Fine Arts\, 2\, Cathedral Rd\, Maidan\, Kolkata\, West Bengal 700020\, Kolkata\, West Bengal\, 700071\, India
CATEGORIES:Theatre
END:VEVENT
BEGIN:VEVENT
DTSTART;TZID=Asia/Kolkata:20250607T193000
DTEND;TZID=Asia/Kolkata:20250607T210000
DTSTAMP:20260422T080825
CREATED:20250605T184412Z
LAST-MODIFIED:20250605T184412Z
UID:13611-1749324600-1749330000@kolkatatheatre.com
SUMMARY:Curl’s Labor Day Reunion\, at The Urban Theatre Project
DESCRIPTION:A realist memory play written and directed by Ahon Gooptu\, developed between 2019 and 2022 in the United States. Three friends in Chicago find love and connection with each other\, until compelled to reckon with questions about their identity\, queerness and the root of their relationship. Sachi is preparing to give birth while Josh\, the father\, is running late to the hospital. Amari\, her nurse\, negotiates news about his family’s future in the US with an increasingly complicated delivery. \nFurther performances on June 8\, 13\, 14 and 15. Contact 98318 18990.
URL:https://kolkatatheatre.com/event/curls-labor-day-reunion-at-the-urban-theatre-project-2/
LOCATION:The Urban Theatre Project\, Kabir Road\, Kolkata\, 700029
CATEGORIES:Theatre
END:VEVENT
BEGIN:VEVENT
DTSTART;TZID=Asia/Kolkata:20250607T190000
DTEND;TZID=Asia/Kolkata:20250607T210000
DTSTAMP:20260422T080825
CREATED:20250602T184011Z
LAST-MODIFIED:20250602T184011Z
UID:13605-1749322800-1749330000@kolkatatheatre.com
SUMMARY:Durgapur Bhimroti’s Prati-prashna\, at Tapan
DESCRIPTION:Based on the Netflix webseries Criminal\, exploring the scars of sexual harassment in the context of an unresolved police interrogation. Adapted and directed by Dipankar Sen.
URL:https://kolkatatheatre.com/event/durgapur-bhimrotis-prati-prashna-at-tapan-2/
LOCATION:Tapan Theatre\, Kalighat
CATEGORIES:Theatre
END:VEVENT
BEGIN:VEVENT
DTSTART;TZID=Asia/Kolkata:20250606T193000
DTEND;TZID=Asia/Kolkata:20250606T210000
DTSTAMP:20260422T080825
CREATED:20250530T191251Z
LAST-MODIFIED:20250530T191251Z
UID:13599-1749238200-1749243600@kolkatatheatre.com
SUMMARY:Curl's Labor Day Reunion\, at The Urban Theatre Project
DESCRIPTION:The world premiere of a realist memory play written and directed by Ahon Gooptu\, developed between 2019 and 2022 in the United States. Three friends in Chicago find love and connection with each other\, until compelled to reckon with questions about their identity\, queerness and the root of their relationship. Sachi is preparing to give birth while Josh\, the father\, is running late to the hospital. Amari\, her nurse\, negotiates news about his family’s future in the US with an increasingly complicated delivery. \nFurther performances on June 7\, 8\, 13\, 14 and 15. Contact 98318 18990.
URL:https://kolkatatheatre.com/event/curls-labor-day-reunion-at-the-urban-theatre-project/
LOCATION:The Urban Theatre Project\, Kabir Road\, Kolkata\, 700029
CATEGORIES:Theatre
ATTACH;FMTTYPE=image/jpeg:https://kolkatatheatre.com/wp-content/uploads/2025/05/DSC01074-scaled-e1748632300611.jpg
END:VEVENT
BEGIN:VEVENT
DTSTART;TZID=Asia/Kolkata:20250601T183000
DTEND;TZID=Asia/Kolkata:20250601T203000
DTSTAMP:20260422T080825
CREATED:20250530T093554Z
LAST-MODIFIED:20250530T093554Z
UID:13595-1748802600-1748809800@kolkatatheatre.com
SUMMARY:Nat-ranga’s Ami Weds Ami\, at Madhusudan
DESCRIPTION:Revival of Sohan Bandopadhyay’s Bengali dramatization from 2010 of Charlie Fish’s short story “The Man Who Married Himself”\, about a man who does just that.
URL:https://kolkatatheatre.com/event/nat-rangas-ami-weds-ami-at-madhusudan/
LOCATION:Madhusudan Mancha\, Gariahat Rd S\, Jodhpur Park\,\, Kolkata\, West Bengal\, 700031\, India
CATEGORIES:Theatre
END:VEVENT
BEGIN:VEVENT
DTSTART;TZID=Asia/Kolkata:20250601T183000
DTEND;TZID=Asia/Kolkata:20250601T203000
DTSTAMP:20260422T080825
CREATED:20250530T093316Z
LAST-MODIFIED:20250530T093316Z
UID:13593-1748802600-1748809800@kolkatatheatre.com
SUMMARY:Sayak’s Dharmabatar\, at Girish
DESCRIPTION:Ujjwal Chattopadhyay’s play inspired by a foreign film about the personal conflict between a retired judge and his son who defends criminals. Directed by Meghnad Bhattacharya.
URL:https://kolkatatheatre.com/event/sayaks-dharmabatar-at-girish-2/
LOCATION:Girish Mancha\, Bagbazar
CATEGORIES:Theatre
END:VEVENT
BEGIN:VEVENT
DTSTART;TZID=Asia/Kolkata:20250531T183000
DTEND;TZID=Asia/Kolkata:20250531T203000
DTSTAMP:20260422T080825
CREATED:20250530T092730Z
LAST-MODIFIED:20250530T092730Z
UID:13589-1748716200-1748723400@kolkatatheatre.com
SUMMARY:Dwitiya Satta’s Na Tor Janya\, at Tapan
DESCRIPTION:Written and directed by Suman Sengupta\, a portrayal of the dilemma of an accomplished commercial artist who sells out to the ruthless and competitive contemporary ratrace.
URL:https://kolkatatheatre.com/event/dwitiya-sattas-na-tor-janya-at-tapan-3/
LOCATION:Tapan Theatre\, Kalighat
CATEGORIES:Theatre
END:VEVENT
BEGIN:VEVENT
DTSTART;TZID=Asia/Kolkata:20250531T180000
DTEND;TZID=Asia/Kolkata:20250531T203000
DTSTAMP:20260422T080825
CREATED:20250530T092955Z
LAST-MODIFIED:20250530T092955Z
UID:13591-1748714400-1748723400@kolkatatheatre.com
SUMMARY:Swapna-sandhani’s Taray Taray\, at Academy
DESCRIPTION:A psychiatrist is visited by a young man who has severe hallucinations that connect him to Van Gogh and his paintings\, questioning his own reality and that of his surroundings\, and longing to visit the alternate reality in the paintings. Excerpts from Van Gogh’s life show nearly parallel crises. Dramatized from Srijato’s novel and directed by Koushik Sen. \nRecommended: ★★★★
URL:https://kolkatatheatre.com/event/swapna-sandhanis-taray-taray-at-academy-2/
LOCATION:Academy of Fine Arts\, 2\, Cathedral Rd\, Maidan\, Kolkata\, West Bengal 700020\, Kolkata\, West Bengal\, 700071\, India
CATEGORIES:Theatre
END:VEVENT
BEGIN:VEVENT
DTSTART;TZID=Asia/Kolkata:20250530T190000
DTEND;TZID=Asia/Kolkata:20250530T200000
DTSTAMP:20260422T080825
CREATED:20250525T090334Z
LAST-MODIFIED:20250525T090334Z
UID:13582-1748631600-1748635200@kolkatatheatre.com
SUMMARY:The Red Curtain's Role Reversal\, at Kala Kunj
DESCRIPTION:An original play in English\, part of the series “Feminism is not anti-men”\, written and directed by Piyush Daga.
URL:https://kolkatatheatre.com/event/the-red-curtains-role-reversal-at-kala-kunj/
LOCATION:Kala Kunj\, Kala Mandir\, Shakespeare Sarani\, Kolkata\, 700045
CATEGORIES:Theatre
END:VEVENT
END:VCALENDAR